BEGIN:VCALENDAR
VERSION:2.0
PRODID:-//Zwembad de Plons - ECPv6.15.20//NONSGML v1.0//EN
CALSCALE:GREGORIAN
METHOD:PUBLISH
X-WR-CALNAME:Zwembad de Plons
X-ORIGINAL-URL:https://www.zwembaddeplons.nl
X-WR-CALDESC:Evenementen voor Zwembad de Plons
REFRESH-INTERVAL;VALUE=DURATION:PT1H
X-Robots-Tag:noindex
X-PUBLISHED-TTL:PT1H
BEGIN:VTIMEZONE
TZID:Europe/Amsterdam
BEGIN:DAYLIGHT
TZOFFSETFROM:+0100
TZOFFSETTO:+0200
TZNAME:CEST
DTSTART:20250330T010000
END:DAYLIGHT
BEGIN:STANDARD
TZOFFSETFROM:+0200
TZOFFSETTO:+0100
TZNAME:CET
DTSTART:20251026T010000
END:STANDARD
BEGIN:DAYLIGHT
TZOFFSETFROM:+0100
TZOFFSETTO:+0200
TZNAME:CEST
DTSTART:20260329T010000
END:DAYLIGHT
BEGIN:STANDARD
TZOFFSETFROM:+0200
TZOFFSETTO:+0100
TZNAME:CET
DTSTART:20261025T010000
END:STANDARD
BEGIN:DAYLIGHT
TZOFFSETFROM:+0100
TZOFFSETTO:+0200
TZNAME:CEST
DTSTART:20270328T010000
END:DAYLIGHT
BEGIN:STANDARD
TZOFFSETFROM:+0200
TZOFFSETTO:+0100
TZNAME:CET
DTSTART:20271031T010000
END:STANDARD
END:VTIMEZONE
BEGIN:VEVENT
DTSTART;TZID=Europe/Amsterdam:20260425T103000
DTEND;TZID=Europe/Amsterdam:20260425T113000
DTSTAMP:20260422T131412
CREATED:20260403T160835Z
LAST-MODIFIED:20260403T160835Z
UID:10021272-1777113000-1777116600@www.zwembaddeplons.nl
SUMMARY:Za 10:30u niveau 2 Ruben (m)
DESCRIPTION:Klik op de dag en tijd om te kijken hoeveel plaatsen er nog beschikbaar zijn en vervolgens in te schrijven. \n* Kinderen die met het verkeerde niveau zijn ingeschreven\, worden niet tot de les toegelaten.
URL:https://www.zwembaddeplons.nl/event/za-1030u-niveau-2-ruben-m/2026-04-25/
LOCATION:Beuningen\, Houtduiflaan 3\, Beuningen\, Gelderland\, 6641 ZN\, Nederland
CATEGORIES:Inhaalles
END:VEVENT
BEGIN:VEVENT
DTSTART;TZID=Europe/Amsterdam:20260502T103000
DTEND;TZID=Europe/Amsterdam:20260502T113000
DTSTAMP:20260422T131412
CREATED:20260403T160835Z
LAST-MODIFIED:20260403T160835Z
UID:10021273-1777717800-1777721400@www.zwembaddeplons.nl
SUMMARY:Za 10:30u niveau 2 Ruben (m)
DESCRIPTION:Klik op de dag en tijd om te kijken hoeveel plaatsen er nog beschikbaar zijn en vervolgens in te schrijven. \n* Kinderen die met het verkeerde niveau zijn ingeschreven\, worden niet tot de les toegelaten.
URL:https://www.zwembaddeplons.nl/event/za-1030u-niveau-2-ruben-m/2026-05-02/
LOCATION:Beuningen\, Houtduiflaan 3\, Beuningen\, Gelderland\, 6641 ZN\, Nederland
CATEGORIES:Inhaalles
END:VEVENT
BEGIN:VEVENT
DTSTART;TZID=Europe/Amsterdam:20260509T103000
DTEND;TZID=Europe/Amsterdam:20260509T113000
DTSTAMP:20260422T131412
CREATED:20260403T160835Z
LAST-MODIFIED:20260403T160835Z
UID:10021274-1778322600-1778326200@www.zwembaddeplons.nl
SUMMARY:Za 10:30u niveau 2 Ruben (m)
DESCRIPTION:Klik op de dag en tijd om te kijken hoeveel plaatsen er nog beschikbaar zijn en vervolgens in te schrijven. \n* Kinderen die met het verkeerde niveau zijn ingeschreven\, worden niet tot de les toegelaten.
URL:https://www.zwembaddeplons.nl/event/za-1030u-niveau-2-ruben-m/2026-05-09/
LOCATION:Beuningen\, Houtduiflaan 3\, Beuningen\, Gelderland\, 6641 ZN\, Nederland
CATEGORIES:Inhaalles
END:VEVENT
BEGIN:VEVENT
DTSTART;TZID=Europe/Amsterdam:20260516T103000
DTEND;TZID=Europe/Amsterdam:20260516T113000
DTSTAMP:20260422T131412
CREATED:20260403T160835Z
LAST-MODIFIED:20260403T160835Z
UID:10021275-1778927400-1778931000@www.zwembaddeplons.nl
SUMMARY:Za 10:30u niveau 2 Ruben (m)
DESCRIPTION:Klik op de dag en tijd om te kijken hoeveel plaatsen er nog beschikbaar zijn en vervolgens in te schrijven. \n* Kinderen die met het verkeerde niveau zijn ingeschreven\, worden niet tot de les toegelaten.
URL:https://www.zwembaddeplons.nl/event/za-1030u-niveau-2-ruben-m/2026-05-16/
LOCATION:Beuningen\, Houtduiflaan 3\, Beuningen\, Gelderland\, 6641 ZN\, Nederland
CATEGORIES:Inhaalles
END:VEVENT
BEGIN:VEVENT
DTSTART;TZID=Europe/Amsterdam:20260523T103000
DTEND;TZID=Europe/Amsterdam:20260523T113000
DTSTAMP:20260422T131412
CREATED:20260403T160835Z
LAST-MODIFIED:20260403T160835Z
UID:10021276-1779532200-1779535800@www.zwembaddeplons.nl
SUMMARY:Za 10:30u niveau 2 Ruben (m)
DESCRIPTION:Klik op de dag en tijd om te kijken hoeveel plaatsen er nog beschikbaar zijn en vervolgens in te schrijven. \n* Kinderen die met het verkeerde niveau zijn ingeschreven\, worden niet tot de les toegelaten.
URL:https://www.zwembaddeplons.nl/event/za-1030u-niveau-2-ruben-m/2026-05-23/
LOCATION:Beuningen\, Houtduiflaan 3\, Beuningen\, Gelderland\, 6641 ZN\, Nederland
CATEGORIES:Inhaalles
END:VEVENT
BEGIN:VEVENT
DTSTART;TZID=Europe/Amsterdam:20260530T103000
DTEND;TZID=Europe/Amsterdam:20260530T113000
DTSTAMP:20260422T131412
CREATED:20260403T160835Z
LAST-MODIFIED:20260403T160835Z
UID:10021277-1780137000-1780140600@www.zwembaddeplons.nl
SUMMARY:Za 10:30u niveau 2 Ruben (m)
DESCRIPTION:Klik op de dag en tijd om te kijken hoeveel plaatsen er nog beschikbaar zijn en vervolgens in te schrijven. \n* Kinderen die met het verkeerde niveau zijn ingeschreven\, worden niet tot de les toegelaten.
URL:https://www.zwembaddeplons.nl/event/za-1030u-niveau-2-ruben-m/2026-05-30/
LOCATION:Beuningen\, Houtduiflaan 3\, Beuningen\, Gelderland\, 6641 ZN\, Nederland
CATEGORIES:Inhaalles
END:VEVENT
BEGIN:VEVENT
DTSTART;TZID=Europe/Amsterdam:20260606T103000
DTEND;TZID=Europe/Amsterdam:20260606T113000
DTSTAMP:20260422T131412
CREATED:20260403T160835Z
LAST-MODIFIED:20260403T160835Z
UID:10021278-1780741800-1780745400@www.zwembaddeplons.nl
SUMMARY:Za 10:30u niveau 2 Ruben (m)
DESCRIPTION:Klik op de dag en tijd om te kijken hoeveel plaatsen er nog beschikbaar zijn en vervolgens in te schrijven. \n* Kinderen die met het verkeerde niveau zijn ingeschreven\, worden niet tot de les toegelaten.
URL:https://www.zwembaddeplons.nl/event/za-1030u-niveau-2-ruben-m/2026-06-06/
LOCATION:Beuningen\, Houtduiflaan 3\, Beuningen\, Gelderland\, 6641 ZN\, Nederland
CATEGORIES:Inhaalles
END:VEVENT
BEGIN:VEVENT
DTSTART;TZID=Europe/Amsterdam:20260613T103000
DTEND;TZID=Europe/Amsterdam:20260613T113000
DTSTAMP:20260422T131412
CREATED:20260403T160835Z
LAST-MODIFIED:20260403T160835Z
UID:10021279-1781346600-1781350200@www.zwembaddeplons.nl
SUMMARY:Za 10:30u niveau 2 Ruben (m)
DESCRIPTION:Klik op de dag en tijd om te kijken hoeveel plaatsen er nog beschikbaar zijn en vervolgens in te schrijven. \n* Kinderen die met het verkeerde niveau zijn ingeschreven\, worden niet tot de les toegelaten.
URL:https://www.zwembaddeplons.nl/event/za-1030u-niveau-2-ruben-m/2026-06-13/
LOCATION:Beuningen\, Houtduiflaan 3\, Beuningen\, Gelderland\, 6641 ZN\, Nederland
CATEGORIES:Inhaalles
END:VEVENT
BEGIN:VEVENT
DTSTART;TZID=Europe/Amsterdam:20260620T103000
DTEND;TZID=Europe/Amsterdam:20260620T113000
DTSTAMP:20260422T131412
CREATED:20260403T160835Z
LAST-MODIFIED:20260403T160835Z
UID:10021280-1781951400-1781955000@www.zwembaddeplons.nl
SUMMARY:Za 10:30u niveau 2 Ruben (m)
DESCRIPTION:Klik op de dag en tijd om te kijken hoeveel plaatsen er nog beschikbaar zijn en vervolgens in te schrijven. \n* Kinderen die met het verkeerde niveau zijn ingeschreven\, worden niet tot de les toegelaten.
URL:https://www.zwembaddeplons.nl/event/za-1030u-niveau-2-ruben-m/2026-06-20/
LOCATION:Beuningen\, Houtduiflaan 3\, Beuningen\, Gelderland\, 6641 ZN\, Nederland
CATEGORIES:Inhaalles
END:VEVENT
BEGIN:VEVENT
DTSTART;TZID=Europe/Amsterdam:20260627T103000
DTEND;TZID=Europe/Amsterdam:20260627T113000
DTSTAMP:20260422T131412
CREATED:20260403T160835Z
LAST-MODIFIED:20260403T160835Z
UID:10021281-1782556200-1782559800@www.zwembaddeplons.nl
SUMMARY:Za 10:30u niveau 2 Ruben (m)
DESCRIPTION:Klik op de dag en tijd om te kijken hoeveel plaatsen er nog beschikbaar zijn en vervolgens in te schrijven. \n* Kinderen die met het verkeerde niveau zijn ingeschreven\, worden niet tot de les toegelaten.
URL:https://www.zwembaddeplons.nl/event/za-1030u-niveau-2-ruben-m/2026-06-27/
LOCATION:Beuningen\, Houtduiflaan 3\, Beuningen\, Gelderland\, 6641 ZN\, Nederland
CATEGORIES:Inhaalles
END:VEVENT
END:VCALENDAR