BEGIN:VCALENDAR
VERSION:2.0
PRODID:-//Zwembad de Plons - ECPv6.15.20//NONSGML v1.0//EN
CALSCALE:GREGORIAN
METHOD:PUBLISH
X-WR-CALNAME:Zwembad de Plons
X-ORIGINAL-URL:https://www.zwembaddeplons.nl
X-WR-CALDESC:Evenementen voor Zwembad de Plons
REFRESH-INTERVAL;VALUE=DURATION:PT1H
X-Robots-Tag:noindex
X-PUBLISHED-TTL:PT1H
BEGIN:VTIMEZONE
TZID:Europe/Amsterdam
BEGIN:DAYLIGHT
TZOFFSETFROM:+0100
TZOFFSETTO:+0200
TZNAME:CEST
DTSTART:20250330T010000
END:DAYLIGHT
BEGIN:STANDARD
TZOFFSETFROM:+0200
TZOFFSETTO:+0100
TZNAME:CET
DTSTART:20251026T010000
END:STANDARD
BEGIN:DAYLIGHT
TZOFFSETFROM:+0100
TZOFFSETTO:+0200
TZNAME:CEST
DTSTART:20260329T010000
END:DAYLIGHT
BEGIN:STANDARD
TZOFFSETFROM:+0200
TZOFFSETTO:+0100
TZNAME:CET
DTSTART:20261025T010000
END:STANDARD
BEGIN:DAYLIGHT
TZOFFSETFROM:+0100
TZOFFSETTO:+0200
TZNAME:CEST
DTSTART:20270328T010000
END:DAYLIGHT
BEGIN:STANDARD
TZOFFSETFROM:+0200
TZOFFSETTO:+0100
TZNAME:CET
DTSTART:20271031T010000
END:STANDARD
END:VTIMEZONE
BEGIN:VEVENT
DTSTART;TZID=Europe/Amsterdam:20260422T153000
DTEND;TZID=Europe/Amsterdam:20260422T163000
DTSTAMP:20260421T173613
CREATED:20260403T142955Z
LAST-MODIFIED:20260403T142955Z
UID:10020937-1776871800-1776875400@www.zwembaddeplons.nl
SUMMARY:Wo 15:30u niveau 1 Tamara (v)
DESCRIPTION:Klik op de dag en tijd om te kijken hoeveel plaatsen er nog beschikbaar zijn en vervolgens in te schrijven. \n* Kinderen die met het verkeerde niveau zijn ingeschreven\, worden niet tot de les toegelaten.
URL:https://www.zwembaddeplons.nl/event/wo-1530u-niveau-1-tamara-v/2026-04-22/
LOCATION:Beuningen\, Houtduiflaan 3\, Beuningen\, Gelderland\, 6641 ZN\, Nederland
CATEGORIES:Inhaalles
END:VEVENT
BEGIN:VEVENT
DTSTART;TZID=Europe/Amsterdam:20260429T153000
DTEND;TZID=Europe/Amsterdam:20260429T163000
DTSTAMP:20260421T173613
CREATED:20260403T142955Z
LAST-MODIFIED:20260403T142955Z
UID:10020938-1777476600-1777480200@www.zwembaddeplons.nl
SUMMARY:Wo 15:30u niveau 1 Tamara (v)
DESCRIPTION:Klik op de dag en tijd om te kijken hoeveel plaatsen er nog beschikbaar zijn en vervolgens in te schrijven. \n* Kinderen die met het verkeerde niveau zijn ingeschreven\, worden niet tot de les toegelaten.
URL:https://www.zwembaddeplons.nl/event/wo-1530u-niveau-1-tamara-v/2026-04-29/
LOCATION:Beuningen\, Houtduiflaan 3\, Beuningen\, Gelderland\, 6641 ZN\, Nederland
CATEGORIES:Inhaalles
END:VEVENT
BEGIN:VEVENT
DTSTART;TZID=Europe/Amsterdam:20260506T153000
DTEND;TZID=Europe/Amsterdam:20260506T163000
DTSTAMP:20260421T173613
CREATED:20260403T142955Z
LAST-MODIFIED:20260403T142955Z
UID:10020939-1778081400-1778085000@www.zwembaddeplons.nl
SUMMARY:Wo 15:30u niveau 1 Tamara (v)
DESCRIPTION:Klik op de dag en tijd om te kijken hoeveel plaatsen er nog beschikbaar zijn en vervolgens in te schrijven. \n* Kinderen die met het verkeerde niveau zijn ingeschreven\, worden niet tot de les toegelaten.
URL:https://www.zwembaddeplons.nl/event/wo-1530u-niveau-1-tamara-v/2026-05-06/
LOCATION:Beuningen\, Houtduiflaan 3\, Beuningen\, Gelderland\, 6641 ZN\, Nederland
CATEGORIES:Inhaalles
END:VEVENT
BEGIN:VEVENT
DTSTART;TZID=Europe/Amsterdam:20260513T153000
DTEND;TZID=Europe/Amsterdam:20260513T163000
DTSTAMP:20260421T173613
CREATED:20260403T142955Z
LAST-MODIFIED:20260403T142955Z
UID:10020940-1778686200-1778689800@www.zwembaddeplons.nl
SUMMARY:Wo 15:30u niveau 1 Tamara (v)
DESCRIPTION:Klik op de dag en tijd om te kijken hoeveel plaatsen er nog beschikbaar zijn en vervolgens in te schrijven. \n* Kinderen die met het verkeerde niveau zijn ingeschreven\, worden niet tot de les toegelaten.
URL:https://www.zwembaddeplons.nl/event/wo-1530u-niveau-1-tamara-v/2026-05-13/
LOCATION:Beuningen\, Houtduiflaan 3\, Beuningen\, Gelderland\, 6641 ZN\, Nederland
CATEGORIES:Inhaalles
END:VEVENT
BEGIN:VEVENT
DTSTART;TZID=Europe/Amsterdam:20260520T153000
DTEND;TZID=Europe/Amsterdam:20260520T163000
DTSTAMP:20260421T173613
CREATED:20260403T142955Z
LAST-MODIFIED:20260403T142955Z
UID:10020941-1779291000-1779294600@www.zwembaddeplons.nl
SUMMARY:Wo 15:30u niveau 1 Tamara (v)
DESCRIPTION:Klik op de dag en tijd om te kijken hoeveel plaatsen er nog beschikbaar zijn en vervolgens in te schrijven. \n* Kinderen die met het verkeerde niveau zijn ingeschreven\, worden niet tot de les toegelaten.
URL:https://www.zwembaddeplons.nl/event/wo-1530u-niveau-1-tamara-v/2026-05-20/
LOCATION:Beuningen\, Houtduiflaan 3\, Beuningen\, Gelderland\, 6641 ZN\, Nederland
CATEGORIES:Inhaalles
END:VEVENT
BEGIN:VEVENT
DTSTART;TZID=Europe/Amsterdam:20260527T153000
DTEND;TZID=Europe/Amsterdam:20260527T163000
DTSTAMP:20260421T173613
CREATED:20260403T142955Z
LAST-MODIFIED:20260403T142955Z
UID:10020942-1779895800-1779899400@www.zwembaddeplons.nl
SUMMARY:Wo 15:30u niveau 1 Tamara (v)
DESCRIPTION:Klik op de dag en tijd om te kijken hoeveel plaatsen er nog beschikbaar zijn en vervolgens in te schrijven. \n* Kinderen die met het verkeerde niveau zijn ingeschreven\, worden niet tot de les toegelaten.
URL:https://www.zwembaddeplons.nl/event/wo-1530u-niveau-1-tamara-v/2026-05-27/
LOCATION:Beuningen\, Houtduiflaan 3\, Beuningen\, Gelderland\, 6641 ZN\, Nederland
CATEGORIES:Inhaalles
END:VEVENT
BEGIN:VEVENT
DTSTART;TZID=Europe/Amsterdam:20260603T153000
DTEND;TZID=Europe/Amsterdam:20260603T163000
DTSTAMP:20260421T173613
CREATED:20260403T142955Z
LAST-MODIFIED:20260403T142955Z
UID:10020943-1780500600-1780504200@www.zwembaddeplons.nl
SUMMARY:Wo 15:30u niveau 1 Tamara (v)
DESCRIPTION:Klik op de dag en tijd om te kijken hoeveel plaatsen er nog beschikbaar zijn en vervolgens in te schrijven. \n* Kinderen die met het verkeerde niveau zijn ingeschreven\, worden niet tot de les toegelaten.
URL:https://www.zwembaddeplons.nl/event/wo-1530u-niveau-1-tamara-v/2026-06-03/
LOCATION:Beuningen\, Houtduiflaan 3\, Beuningen\, Gelderland\, 6641 ZN\, Nederland
CATEGORIES:Inhaalles
END:VEVENT
BEGIN:VEVENT
DTSTART;TZID=Europe/Amsterdam:20260610T153000
DTEND;TZID=Europe/Amsterdam:20260610T163000
DTSTAMP:20260421T173613
CREATED:20260403T142955Z
LAST-MODIFIED:20260403T142955Z
UID:10020944-1781105400-1781109000@www.zwembaddeplons.nl
SUMMARY:Wo 15:30u niveau 1 Tamara (v)
DESCRIPTION:Klik op de dag en tijd om te kijken hoeveel plaatsen er nog beschikbaar zijn en vervolgens in te schrijven. \n* Kinderen die met het verkeerde niveau zijn ingeschreven\, worden niet tot de les toegelaten.
URL:https://www.zwembaddeplons.nl/event/wo-1530u-niveau-1-tamara-v/2026-06-10/
LOCATION:Beuningen\, Houtduiflaan 3\, Beuningen\, Gelderland\, 6641 ZN\, Nederland
CATEGORIES:Inhaalles
END:VEVENT
BEGIN:VEVENT
DTSTART;TZID=Europe/Amsterdam:20260617T153000
DTEND;TZID=Europe/Amsterdam:20260617T163000
DTSTAMP:20260421T173613
CREATED:20260403T142955Z
LAST-MODIFIED:20260403T142955Z
UID:10020945-1781710200-1781713800@www.zwembaddeplons.nl
SUMMARY:Wo 15:30u niveau 1 Tamara (v)
DESCRIPTION:Klik op de dag en tijd om te kijken hoeveel plaatsen er nog beschikbaar zijn en vervolgens in te schrijven. \n* Kinderen die met het verkeerde niveau zijn ingeschreven\, worden niet tot de les toegelaten.
URL:https://www.zwembaddeplons.nl/event/wo-1530u-niveau-1-tamara-v/2026-06-17/
LOCATION:Beuningen\, Houtduiflaan 3\, Beuningen\, Gelderland\, 6641 ZN\, Nederland
CATEGORIES:Inhaalles
END:VEVENT
BEGIN:VEVENT
DTSTART;TZID=Europe/Amsterdam:20260624T153000
DTEND;TZID=Europe/Amsterdam:20260624T163000
DTSTAMP:20260421T173613
CREATED:20260403T142955Z
LAST-MODIFIED:20260403T142955Z
UID:10020946-1782315000-1782318600@www.zwembaddeplons.nl
SUMMARY:Wo 15:30u niveau 1 Tamara (v)
DESCRIPTION:Klik op de dag en tijd om te kijken hoeveel plaatsen er nog beschikbaar zijn en vervolgens in te schrijven. \n* Kinderen die met het verkeerde niveau zijn ingeschreven\, worden niet tot de les toegelaten.
URL:https://www.zwembaddeplons.nl/event/wo-1530u-niveau-1-tamara-v/2026-06-24/
LOCATION:Beuningen\, Houtduiflaan 3\, Beuningen\, Gelderland\, 6641 ZN\, Nederland
CATEGORIES:Inhaalles
END:VEVENT
END:VCALENDAR