BEGIN:VCALENDAR
VERSION:2.0
PRODID:-//Zwembad de Plons - ECPv6.15.20//NONSGML v1.0//EN
CALSCALE:GREGORIAN
METHOD:PUBLISH
X-WR-CALNAME:Zwembad de Plons
X-ORIGINAL-URL:https://www.zwembaddeplons.nl
X-WR-CALDESC:Evenementen voor Zwembad de Plons
REFRESH-INTERVAL;VALUE=DURATION:PT1H
X-Robots-Tag:noindex
X-PUBLISHED-TTL:PT1H
BEGIN:VTIMEZONE
TZID:Europe/Amsterdam
BEGIN:DAYLIGHT
TZOFFSETFROM:+0100
TZOFFSETTO:+0200
TZNAME:CEST
DTSTART:20250330T010000
END:DAYLIGHT
BEGIN:STANDARD
TZOFFSETFROM:+0200
TZOFFSETTO:+0100
TZNAME:CET
DTSTART:20251026T010000
END:STANDARD
BEGIN:DAYLIGHT
TZOFFSETFROM:+0100
TZOFFSETTO:+0200
TZNAME:CEST
DTSTART:20260329T010000
END:DAYLIGHT
BEGIN:STANDARD
TZOFFSETFROM:+0200
TZOFFSETTO:+0100
TZNAME:CET
DTSTART:20261025T010000
END:STANDARD
BEGIN:DAYLIGHT
TZOFFSETFROM:+0100
TZOFFSETTO:+0200
TZNAME:CEST
DTSTART:20270328T010000
END:DAYLIGHT
BEGIN:STANDARD
TZOFFSETFROM:+0200
TZOFFSETTO:+0100
TZNAME:CET
DTSTART:20271031T010000
END:STANDARD
END:VTIMEZONE
BEGIN:VEVENT
DTSTART;TZID=Europe/Amsterdam:20260421T161500
DTEND;TZID=Europe/Amsterdam:20260421T171500
DTSTAMP:20260419T203409
CREATED:20260403T141938Z
LAST-MODIFIED:20260415T124742Z
UID:10020841-1776788100-1776791700@www.zwembaddeplons.nl
SUMMARY:Di 16:15u niveau 4 Guido (m)
DESCRIPTION:Klik op de dag en tijd om te kijken hoeveel plaatsen er nog beschikbaar zijn en vervolgens in te schrijven. \n* Kinderen die met het verkeerde niveau zijn ingeschreven\, worden niet tot de les toegelaten.
URL:https://www.zwembaddeplons.nl/event/di-1615u-niveau-4-guido-m/2026-04-21/
LOCATION:Beuningen\, Houtduiflaan 3\, Beuningen\, Gelderland\, 6641 ZN\, Nederland
CATEGORIES:Inhaalles
END:VEVENT
BEGIN:VEVENT
DTSTART;TZID=Europe/Amsterdam:20260428T161500
DTEND;TZID=Europe/Amsterdam:20260428T171500
DTSTAMP:20260419T203409
CREATED:20260403T141938Z
LAST-MODIFIED:20260415T124742Z
UID:10020842-1777392900-1777396500@www.zwembaddeplons.nl
SUMMARY:Di 16:15u niveau 4 Guido (m)
DESCRIPTION:Klik op de dag en tijd om te kijken hoeveel plaatsen er nog beschikbaar zijn en vervolgens in te schrijven. \n* Kinderen die met het verkeerde niveau zijn ingeschreven\, worden niet tot de les toegelaten.
URL:https://www.zwembaddeplons.nl/event/di-1615u-niveau-4-guido-m/2026-04-28/
LOCATION:Beuningen\, Houtduiflaan 3\, Beuningen\, Gelderland\, 6641 ZN\, Nederland
CATEGORIES:Inhaalles
END:VEVENT
BEGIN:VEVENT
DTSTART;TZID=Europe/Amsterdam:20260505T161500
DTEND;TZID=Europe/Amsterdam:20260505T171500
DTSTAMP:20260419T203409
CREATED:20260403T141938Z
LAST-MODIFIED:20260415T124742Z
UID:10020843-1777997700-1778001300@www.zwembaddeplons.nl
SUMMARY:Di 16:15u niveau 4 Guido (m)
DESCRIPTION:Klik op de dag en tijd om te kijken hoeveel plaatsen er nog beschikbaar zijn en vervolgens in te schrijven. \n* Kinderen die met het verkeerde niveau zijn ingeschreven\, worden niet tot de les toegelaten.
URL:https://www.zwembaddeplons.nl/event/di-1615u-niveau-4-guido-m/2026-05-05/
LOCATION:Beuningen\, Houtduiflaan 3\, Beuningen\, Gelderland\, 6641 ZN\, Nederland
CATEGORIES:Inhaalles
END:VEVENT
BEGIN:VEVENT
DTSTART;TZID=Europe/Amsterdam:20260512T161500
DTEND;TZID=Europe/Amsterdam:20260512T171500
DTSTAMP:20260419T203409
CREATED:20260403T141938Z
LAST-MODIFIED:20260415T124742Z
UID:10020844-1778602500-1778606100@www.zwembaddeplons.nl
SUMMARY:Di 16:15u niveau 4 Guido (m)
DESCRIPTION:Klik op de dag en tijd om te kijken hoeveel plaatsen er nog beschikbaar zijn en vervolgens in te schrijven. \n* Kinderen die met het verkeerde niveau zijn ingeschreven\, worden niet tot de les toegelaten.
URL:https://www.zwembaddeplons.nl/event/di-1615u-niveau-4-guido-m/2026-05-12/
LOCATION:Beuningen\, Houtduiflaan 3\, Beuningen\, Gelderland\, 6641 ZN\, Nederland
CATEGORIES:Inhaalles
END:VEVENT
BEGIN:VEVENT
DTSTART;TZID=Europe/Amsterdam:20260519T161500
DTEND;TZID=Europe/Amsterdam:20260519T171500
DTSTAMP:20260419T203409
CREATED:20260403T141938Z
LAST-MODIFIED:20260415T124742Z
UID:10020845-1779207300-1779210900@www.zwembaddeplons.nl
SUMMARY:Di 16:15u niveau 4 Guido (m)
DESCRIPTION:Klik op de dag en tijd om te kijken hoeveel plaatsen er nog beschikbaar zijn en vervolgens in te schrijven. \n* Kinderen die met het verkeerde niveau zijn ingeschreven\, worden niet tot de les toegelaten.
URL:https://www.zwembaddeplons.nl/event/di-1615u-niveau-4-guido-m/2026-05-19/
LOCATION:Beuningen\, Houtduiflaan 3\, Beuningen\, Gelderland\, 6641 ZN\, Nederland
CATEGORIES:Inhaalles
END:VEVENT
BEGIN:VEVENT
DTSTART;TZID=Europe/Amsterdam:20260526T161500
DTEND;TZID=Europe/Amsterdam:20260526T171500
DTSTAMP:20260419T203409
CREATED:20260403T141938Z
LAST-MODIFIED:20260415T124742Z
UID:10020846-1779812100-1779815700@www.zwembaddeplons.nl
SUMMARY:Di 16:15u niveau 4 Guido (m)
DESCRIPTION:Klik op de dag en tijd om te kijken hoeveel plaatsen er nog beschikbaar zijn en vervolgens in te schrijven. \n* Kinderen die met het verkeerde niveau zijn ingeschreven\, worden niet tot de les toegelaten.
URL:https://www.zwembaddeplons.nl/event/di-1615u-niveau-4-guido-m/2026-05-26/
LOCATION:Beuningen\, Houtduiflaan 3\, Beuningen\, Gelderland\, 6641 ZN\, Nederland
CATEGORIES:Inhaalles
END:VEVENT
BEGIN:VEVENT
DTSTART;TZID=Europe/Amsterdam:20260602T161500
DTEND;TZID=Europe/Amsterdam:20260602T171500
DTSTAMP:20260419T203409
CREATED:20260403T141938Z
LAST-MODIFIED:20260415T124742Z
UID:10020847-1780416900-1780420500@www.zwembaddeplons.nl
SUMMARY:Di 16:15u niveau 4 Guido (m)
DESCRIPTION:Klik op de dag en tijd om te kijken hoeveel plaatsen er nog beschikbaar zijn en vervolgens in te schrijven. \n* Kinderen die met het verkeerde niveau zijn ingeschreven\, worden niet tot de les toegelaten.
URL:https://www.zwembaddeplons.nl/event/di-1615u-niveau-4-guido-m/2026-06-02/
LOCATION:Beuningen\, Houtduiflaan 3\, Beuningen\, Gelderland\, 6641 ZN\, Nederland
CATEGORIES:Inhaalles
END:VEVENT
BEGIN:VEVENT
DTSTART;TZID=Europe/Amsterdam:20260609T161500
DTEND;TZID=Europe/Amsterdam:20260609T171500
DTSTAMP:20260419T203409
CREATED:20260403T141938Z
LAST-MODIFIED:20260415T124742Z
UID:10020848-1781021700-1781025300@www.zwembaddeplons.nl
SUMMARY:Di 16:15u niveau 4 Guido (m)
DESCRIPTION:Klik op de dag en tijd om te kijken hoeveel plaatsen er nog beschikbaar zijn en vervolgens in te schrijven. \n* Kinderen die met het verkeerde niveau zijn ingeschreven\, worden niet tot de les toegelaten.
URL:https://www.zwembaddeplons.nl/event/di-1615u-niveau-4-guido-m/2026-06-09/
LOCATION:Beuningen\, Houtduiflaan 3\, Beuningen\, Gelderland\, 6641 ZN\, Nederland
CATEGORIES:Inhaalles
END:VEVENT
BEGIN:VEVENT
DTSTART;TZID=Europe/Amsterdam:20260616T161500
DTEND;TZID=Europe/Amsterdam:20260616T171500
DTSTAMP:20260419T203409
CREATED:20260403T141938Z
LAST-MODIFIED:20260415T124742Z
UID:10020849-1781626500-1781630100@www.zwembaddeplons.nl
SUMMARY:Di 16:15u niveau 4 Guido (m)
DESCRIPTION:Klik op de dag en tijd om te kijken hoeveel plaatsen er nog beschikbaar zijn en vervolgens in te schrijven. \n* Kinderen die met het verkeerde niveau zijn ingeschreven\, worden niet tot de les toegelaten.
URL:https://www.zwembaddeplons.nl/event/di-1615u-niveau-4-guido-m/2026-06-16/
LOCATION:Beuningen\, Houtduiflaan 3\, Beuningen\, Gelderland\, 6641 ZN\, Nederland
CATEGORIES:Inhaalles
END:VEVENT
BEGIN:VEVENT
DTSTART;TZID=Europe/Amsterdam:20260623T161500
DTEND;TZID=Europe/Amsterdam:20260623T171500
DTSTAMP:20260419T203409
CREATED:20260403T141938Z
LAST-MODIFIED:20260415T124742Z
UID:10020850-1782231300-1782234900@www.zwembaddeplons.nl
SUMMARY:Di 16:15u niveau 4 Guido (m)
DESCRIPTION:Klik op de dag en tijd om te kijken hoeveel plaatsen er nog beschikbaar zijn en vervolgens in te schrijven. \n* Kinderen die met het verkeerde niveau zijn ingeschreven\, worden niet tot de les toegelaten.
URL:https://www.zwembaddeplons.nl/event/di-1615u-niveau-4-guido-m/2026-06-23/
LOCATION:Beuningen\, Houtduiflaan 3\, Beuningen\, Gelderland\, 6641 ZN\, Nederland
CATEGORIES:Inhaalles
END:VEVENT
END:VCALENDAR