BEGIN:VCALENDAR
VERSION:2.0
PRODID:-//Zwembad de Plons - ECPv6.15.20//NONSGML v1.0//EN
CALSCALE:GREGORIAN
METHOD:PUBLISH
X-WR-CALNAME:Zwembad de Plons
X-ORIGINAL-URL:https://www.zwembaddeplons.nl
X-WR-CALDESC:Evenementen voor Zwembad de Plons
REFRESH-INTERVAL;VALUE=DURATION:PT1H
X-Robots-Tag:noindex
X-PUBLISHED-TTL:PT1H
BEGIN:VTIMEZONE
TZID:Europe/Amsterdam
BEGIN:DAYLIGHT
TZOFFSETFROM:+0100
TZOFFSETTO:+0200
TZNAME:CEST
DTSTART:20250330T010000
END:DAYLIGHT
BEGIN:STANDARD
TZOFFSETFROM:+0200
TZOFFSETTO:+0100
TZNAME:CET
DTSTART:20251026T010000
END:STANDARD
BEGIN:DAYLIGHT
TZOFFSETFROM:+0100
TZOFFSETTO:+0200
TZNAME:CEST
DTSTART:20260329T010000
END:DAYLIGHT
BEGIN:STANDARD
TZOFFSETFROM:+0200
TZOFFSETTO:+0100
TZNAME:CET
DTSTART:20261025T010000
END:STANDARD
BEGIN:DAYLIGHT
TZOFFSETFROM:+0100
TZOFFSETTO:+0200
TZNAME:CEST
DTSTART:20270328T010000
END:DAYLIGHT
BEGIN:STANDARD
TZOFFSETFROM:+0200
TZOFFSETTO:+0100
TZNAME:CET
DTSTART:20271031T010000
END:STANDARD
END:VTIMEZONE
BEGIN:VEVENT
DTSTART;TZID=Europe/Amsterdam:20260504T171500
DTEND;TZID=Europe/Amsterdam:20260504T181500
DTSTAMP:20260421T112554
CREATED:20260403T134910Z
LAST-MODIFIED:20260403T135146Z
UID:10020659-1777914900-1777918500@www.zwembaddeplons.nl
SUMMARY:Ma 17:15u niveau 1 Desiree (v)
DESCRIPTION:Klik op de dag en tijd om te kijken hoeveel plaatsen er nog beschikbaar zijn en vervolgens in te schrijven. \n* Kinderen die met het verkeerde niveau zijn ingeschreven\, worden niet tot de les toegelaten.
URL:https://www.zwembaddeplons.nl/event/ma-1715u-niveau-1-desiree-v/2026-05-04/
LOCATION:Beuningen\, Houtduiflaan 3\, Beuningen\, Gelderland\, 6641 ZN\, Nederland
CATEGORIES:Inhaalles
END:VEVENT
BEGIN:VEVENT
DTSTART;TZID=Europe/Amsterdam:20260511T171500
DTEND;TZID=Europe/Amsterdam:20260511T181500
DTSTAMP:20260421T112554
CREATED:20260403T134910Z
LAST-MODIFIED:20260403T135146Z
UID:10020660-1778519700-1778523300@www.zwembaddeplons.nl
SUMMARY:Ma 17:15u niveau 1 Desiree (v)
DESCRIPTION:Klik op de dag en tijd om te kijken hoeveel plaatsen er nog beschikbaar zijn en vervolgens in te schrijven. \n* Kinderen die met het verkeerde niveau zijn ingeschreven\, worden niet tot de les toegelaten.
URL:https://www.zwembaddeplons.nl/event/ma-1715u-niveau-1-desiree-v/2026-05-11/
LOCATION:Beuningen\, Houtduiflaan 3\, Beuningen\, Gelderland\, 6641 ZN\, Nederland
CATEGORIES:Inhaalles
END:VEVENT
BEGIN:VEVENT
DTSTART;TZID=Europe/Amsterdam:20260518T171500
DTEND;TZID=Europe/Amsterdam:20260518T181500
DTSTAMP:20260421T112554
CREATED:20260403T134910Z
LAST-MODIFIED:20260403T135146Z
UID:10020661-1779124500-1779128100@www.zwembaddeplons.nl
SUMMARY:Ma 17:15u niveau 1 Desiree (v)
DESCRIPTION:Klik op de dag en tijd om te kijken hoeveel plaatsen er nog beschikbaar zijn en vervolgens in te schrijven. \n* Kinderen die met het verkeerde niveau zijn ingeschreven\, worden niet tot de les toegelaten.
URL:https://www.zwembaddeplons.nl/event/ma-1715u-niveau-1-desiree-v/2026-05-18/
LOCATION:Beuningen\, Houtduiflaan 3\, Beuningen\, Gelderland\, 6641 ZN\, Nederland
CATEGORIES:Inhaalles
END:VEVENT
BEGIN:VEVENT
DTSTART;TZID=Europe/Amsterdam:20260601T171500
DTEND;TZID=Europe/Amsterdam:20260601T181500
DTSTAMP:20260421T112554
CREATED:20260403T134910Z
LAST-MODIFIED:20260403T135146Z
UID:10020662-1780334100-1780337700@www.zwembaddeplons.nl
SUMMARY:Ma 17:15u niveau 1 Desiree (v)
DESCRIPTION:Klik op de dag en tijd om te kijken hoeveel plaatsen er nog beschikbaar zijn en vervolgens in te schrijven. \n* Kinderen die met het verkeerde niveau zijn ingeschreven\, worden niet tot de les toegelaten.
URL:https://www.zwembaddeplons.nl/event/ma-1715u-niveau-1-desiree-v/2026-06-01/
LOCATION:Beuningen\, Houtduiflaan 3\, Beuningen\, Gelderland\, 6641 ZN\, Nederland
CATEGORIES:Inhaalles
END:VEVENT
BEGIN:VEVENT
DTSTART;TZID=Europe/Amsterdam:20260608T171500
DTEND;TZID=Europe/Amsterdam:20260608T181500
DTSTAMP:20260421T112554
CREATED:20260403T134910Z
LAST-MODIFIED:20260403T135146Z
UID:10020663-1780938900-1780942500@www.zwembaddeplons.nl
SUMMARY:Ma 17:15u niveau 1 Desiree (v)
DESCRIPTION:Klik op de dag en tijd om te kijken hoeveel plaatsen er nog beschikbaar zijn en vervolgens in te schrijven. \n* Kinderen die met het verkeerde niveau zijn ingeschreven\, worden niet tot de les toegelaten.
URL:https://www.zwembaddeplons.nl/event/ma-1715u-niveau-1-desiree-v/2026-06-08/
LOCATION:Beuningen\, Houtduiflaan 3\, Beuningen\, Gelderland\, 6641 ZN\, Nederland
CATEGORIES:Inhaalles
END:VEVENT
BEGIN:VEVENT
DTSTART;TZID=Europe/Amsterdam:20260615T171500
DTEND;TZID=Europe/Amsterdam:20260615T181500
DTSTAMP:20260421T112554
CREATED:20260403T134910Z
LAST-MODIFIED:20260403T135146Z
UID:10020664-1781543700-1781547300@www.zwembaddeplons.nl
SUMMARY:Ma 17:15u niveau 1 Desiree (v)
DESCRIPTION:Klik op de dag en tijd om te kijken hoeveel plaatsen er nog beschikbaar zijn en vervolgens in te schrijven. \n* Kinderen die met het verkeerde niveau zijn ingeschreven\, worden niet tot de les toegelaten.
URL:https://www.zwembaddeplons.nl/event/ma-1715u-niveau-1-desiree-v/2026-06-15/
LOCATION:Beuningen\, Houtduiflaan 3\, Beuningen\, Gelderland\, 6641 ZN\, Nederland
CATEGORIES:Inhaalles
END:VEVENT
BEGIN:VEVENT
DTSTART;TZID=Europe/Amsterdam:20260622T171500
DTEND;TZID=Europe/Amsterdam:20260622T181500
DTSTAMP:20260421T112554
CREATED:20260403T134910Z
LAST-MODIFIED:20260403T135146Z
UID:10020665-1782148500-1782152100@www.zwembaddeplons.nl
SUMMARY:Ma 17:15u niveau 1 Desiree (v)
DESCRIPTION:Klik op de dag en tijd om te kijken hoeveel plaatsen er nog beschikbaar zijn en vervolgens in te schrijven. \n* Kinderen die met het verkeerde niveau zijn ingeschreven\, worden niet tot de les toegelaten.
URL:https://www.zwembaddeplons.nl/event/ma-1715u-niveau-1-desiree-v/2026-06-22/
LOCATION:Beuningen\, Houtduiflaan 3\, Beuningen\, Gelderland\, 6641 ZN\, Nederland
CATEGORIES:Inhaalles
END:VEVENT
END:VCALENDAR