BEGIN:VCALENDAR
VERSION:2.0
PRODID:-//Zwembad de Plons - ECPv6.15.20//NONSGML v1.0//EN
CALSCALE:GREGORIAN
METHOD:PUBLISH
X-WR-CALNAME:Zwembad de Plons
X-ORIGINAL-URL:https://www.zwembaddeplons.nl
X-WR-CALDESC:Evenementen voor Zwembad de Plons
REFRESH-INTERVAL;VALUE=DURATION:PT1H
X-Robots-Tag:noindex
X-PUBLISHED-TTL:PT1H
BEGIN:VTIMEZONE
TZID:Europe/Amsterdam
BEGIN:DAYLIGHT
TZOFFSETFROM:+0100
TZOFFSETTO:+0200
TZNAME:CEST
DTSTART:20250330T010000
END:DAYLIGHT
BEGIN:STANDARD
TZOFFSETFROM:+0200
TZOFFSETTO:+0100
TZNAME:CET
DTSTART:20251026T010000
END:STANDARD
BEGIN:DAYLIGHT
TZOFFSETFROM:+0100
TZOFFSETTO:+0200
TZNAME:CEST
DTSTART:20260329T010000
END:DAYLIGHT
BEGIN:STANDARD
TZOFFSETFROM:+0200
TZOFFSETTO:+0100
TZNAME:CET
DTSTART:20261025T010000
END:STANDARD
BEGIN:DAYLIGHT
TZOFFSETFROM:+0100
TZOFFSETTO:+0200
TZNAME:CEST
DTSTART:20270328T010000
END:DAYLIGHT
BEGIN:STANDARD
TZOFFSETFROM:+0200
TZOFFSETTO:+0100
TZNAME:CET
DTSTART:20271031T010000
END:STANDARD
END:VTIMEZONE
BEGIN:VEVENT
DTSTART;TZID=Europe/Amsterdam:20260421T151500
DTEND;TZID=Europe/Amsterdam:20260421T161500
DTSTAMP:20260421T154341
CREATED:20260403T141011Z
LAST-MODIFIED:20260403T141011Z
UID:10020769-1776784500-1776788100@www.zwembaddeplons.nl
SUMMARY:Di 15:15u niveau 1 Guido (m)
DESCRIPTION:Klik op de dag en tijd om te kijken hoeveel plaatsen er nog beschikbaar zijn en vervolgens in te schrijven. \n* Kinderen die met het verkeerde niveau zijn ingeschreven\, worden niet tot de les toegelaten.
URL:https://www.zwembaddeplons.nl/event/di-1515u-niveau-1-guido-m/2026-04-21/
LOCATION:Beuningen\, Houtduiflaan 3\, Beuningen\, Gelderland\, 6641 ZN\, Nederland
CATEGORIES:Inhaalles
END:VEVENT
BEGIN:VEVENT
DTSTART;TZID=Europe/Amsterdam:20260421T151500
DTEND;TZID=Europe/Amsterdam:20260421T161500
DTSTAMP:20260421T154341
CREATED:20260403T141132Z
LAST-MODIFIED:20260403T141132Z
UID:10020781-1776784500-1776788100@www.zwembaddeplons.nl
SUMMARY:Di 15:15u niveau 2 Elcke (v)
DESCRIPTION:Klik op de dag en tijd om te kijken hoeveel plaatsen er nog beschikbaar zijn en vervolgens in te schrijven. \n* Kinderen die met het verkeerde niveau zijn ingeschreven\, worden niet tot de les toegelaten.
URL:https://www.zwembaddeplons.nl/event/di-1515u-niveau-2-elcke-v/2026-04-21/
LOCATION:Beuningen\, Houtduiflaan 3\, Beuningen\, Gelderland\, 6641 ZN\, Nederland
CATEGORIES:Inhaalles
END:VEVENT
BEGIN:VEVENT
DTSTART;TZID=Europe/Amsterdam:20260421T151500
DTEND;TZID=Europe/Amsterdam:20260421T161500
DTSTAMP:20260421T154341
CREATED:20260403T141254Z
LAST-MODIFIED:20260403T141254Z
UID:10020793-1776784500-1776788100@www.zwembaddeplons.nl
SUMMARY:Di 15:15u niveau 3 Desiree (v)
DESCRIPTION:Klik op de dag en tijd om te kijken hoeveel plaatsen er nog beschikbaar zijn en vervolgens in te schrijven. \n* Kinderen die met het verkeerde niveau zijn ingeschreven\, worden niet tot de les toegelaten.
URL:https://www.zwembaddeplons.nl/event/di-1515u-niveau-3-desiree-v/2026-04-21/
LOCATION:Beuningen\, Houtduiflaan 3\, Beuningen\, Gelderland\, 6641 ZN\, Nederland
CATEGORIES:Inhaalles
END:VEVENT
BEGIN:VEVENT
DTSTART;TZID=Europe/Amsterdam:20260421T161500
DTEND;TZID=Europe/Amsterdam:20260421T171500
DTSTAMP:20260421T154341
CREATED:20260403T141442Z
LAST-MODIFIED:20260403T141442Z
UID:10020805-1776788100-1776791700@www.zwembaddeplons.nl
SUMMARY:Di 16:15u niveau 1 Desiree (v)
DESCRIPTION:Klik op de dag en tijd om te kijken hoeveel plaatsen er nog beschikbaar zijn en vervolgens in te schrijven. \n* Kinderen die met het verkeerde niveau zijn ingeschreven\, worden niet tot de les toegelaten.
URL:https://www.zwembaddeplons.nl/event/di-1615u-niveau-1-desiree-v/2026-04-21/
LOCATION:Beuningen\, Houtduiflaan 3\, Beuningen\, Gelderland\, 6641 ZN\, Nederland
CATEGORIES:Inhaalles
END:VEVENT
BEGIN:VEVENT
DTSTART;TZID=Europe/Amsterdam:20260421T161500
DTEND;TZID=Europe/Amsterdam:20260421T171500
DTSTAMP:20260421T154341
CREATED:20260403T141600Z
LAST-MODIFIED:20260403T141600Z
UID:10020817-1776788100-1776791700@www.zwembaddeplons.nl
SUMMARY:Di 16:15u niveau 2 Brenda (v)
DESCRIPTION:Klik op de dag en tijd om te kijken hoeveel plaatsen er nog beschikbaar zijn en vervolgens in te schrijven. \n* Kinderen die met het verkeerde niveau zijn ingeschreven\, worden niet tot de les toegelaten.
URL:https://www.zwembaddeplons.nl/event/di-1615u-niveau-2-brenda-v/2026-04-21/
LOCATION:Beuningen\, Houtduiflaan 3\, Beuningen\, Gelderland\, 6641 ZN\, Nederland
CATEGORIES:Inhaalles
END:VEVENT
BEGIN:VEVENT
DTSTART;TZID=Europe/Amsterdam:20260421T161500
DTEND;TZID=Europe/Amsterdam:20260421T171500
DTSTAMP:20260421T154341
CREATED:20260403T141757Z
LAST-MODIFIED:20260403T141757Z
UID:10020829-1776788100-1776791700@www.zwembaddeplons.nl
SUMMARY:Di 16:15u niveau 3 Elcke (v)
DESCRIPTION:Klik op de dag en tijd om te kijken hoeveel plaatsen er nog beschikbaar zijn en vervolgens in te schrijven. \n* Kinderen die met het verkeerde niveau zijn ingeschreven\, worden niet tot de les toegelaten.
URL:https://www.zwembaddeplons.nl/event/di-1615u-niveau-3-elcke-v/2026-04-21/
LOCATION:Beuningen\, Houtduiflaan 3\, Beuningen\, Gelderland\, 6641 ZN\, Nederland
CATEGORIES:Inhaalles
END:VEVENT
BEGIN:VEVENT
DTSTART;TZID=Europe/Amsterdam:20260421T161500
DTEND;TZID=Europe/Amsterdam:20260421T171500
DTSTAMP:20260421T154341
CREATED:20260403T141938Z
LAST-MODIFIED:20260415T124742Z
UID:10020841-1776788100-1776791700@www.zwembaddeplons.nl
SUMMARY:Di 16:15u niveau 4 Guido (m)
DESCRIPTION:Klik op de dag en tijd om te kijken hoeveel plaatsen er nog beschikbaar zijn en vervolgens in te schrijven. \n* Kinderen die met het verkeerde niveau zijn ingeschreven\, worden niet tot de les toegelaten.
URL:https://www.zwembaddeplons.nl/event/di-1615u-niveau-4-guido-m/2026-04-21/
LOCATION:Beuningen\, Houtduiflaan 3\, Beuningen\, Gelderland\, 6641 ZN\, Nederland
CATEGORIES:Inhaalles
END:VEVENT
BEGIN:VEVENT
DTSTART;TZID=Europe/Amsterdam:20260421T171500
DTEND;TZID=Europe/Amsterdam:20260421T181500
DTSTAMP:20260421T154341
CREATED:20260403T142048Z
LAST-MODIFIED:20260403T142048Z
UID:10020853-1776791700-1776795300@www.zwembaddeplons.nl
SUMMARY:Di 17:15u niveau 2 Guido (m)
DESCRIPTION:Klik op de dag en tijd om te kijken hoeveel plaatsen er nog beschikbaar zijn en vervolgens in te schrijven. \n* Kinderen die met het verkeerde niveau zijn ingeschreven\, worden niet tot de les toegelaten.
URL:https://www.zwembaddeplons.nl/event/di-1715u-niveau-2-guido-m/2026-04-21/
LOCATION:Beuningen\, Houtduiflaan 3\, Beuningen\, Gelderland\, 6641 ZN\, Nederland
CATEGORIES:Inhaalles
END:VEVENT
BEGIN:VEVENT
DTSTART;TZID=Europe/Amsterdam:20260421T171500
DTEND;TZID=Europe/Amsterdam:20260421T181500
DTSTAMP:20260421T154341
CREATED:20260403T142150Z
LAST-MODIFIED:20260403T142150Z
UID:10020865-1776791700-1776795300@www.zwembaddeplons.nl
SUMMARY:Di 17:15u niveau 3 Elcke (v)
DESCRIPTION:Klik op de dag en tijd om te kijken hoeveel plaatsen er nog beschikbaar zijn en vervolgens in te schrijven. \n* Kinderen die met het verkeerde niveau zijn ingeschreven\, worden niet tot de les toegelaten.
URL:https://www.zwembaddeplons.nl/event/di-1715u-niveau-3-elcke-v/2026-04-21/
LOCATION:Beuningen\, Houtduiflaan 3\, Beuningen\, Gelderland\, 6641 ZN\, Nederland
CATEGORIES:Inhaalles
END:VEVENT
BEGIN:VEVENT
DTSTART;TZID=Europe/Amsterdam:20260421T171500
DTEND;TZID=Europe/Amsterdam:20260421T181500
DTSTAMP:20260421T154341
CREATED:20260403T142302Z
LAST-MODIFIED:20260403T142302Z
UID:10020877-1776791700-1776795300@www.zwembaddeplons.nl
SUMMARY:Di 17:15u niveau 1 Brenda (v)
DESCRIPTION:Klik op de dag en tijd om te kijken hoeveel plaatsen er nog beschikbaar zijn en vervolgens in te schrijven. \n* Kinderen die met het verkeerde niveau zijn ingeschreven\, worden niet tot de les toegelaten.
URL:https://www.zwembaddeplons.nl/event/di-1715u-niveau-1-brenda-v/2026-04-21/
LOCATION:Beuningen\, Houtduiflaan 3\, Beuningen\, Gelderland\, 6641 ZN\, Nederland
CATEGORIES:Inhaalles
END:VEVENT
BEGIN:VEVENT
DTSTART;TZID=Europe/Amsterdam:20260421T171500
DTEND;TZID=Europe/Amsterdam:20260421T181500
DTSTAMP:20260421T154341
CREATED:20260403T142439Z
LAST-MODIFIED:20260415T124820Z
UID:10020889-1776791700-1776795300@www.zwembaddeplons.nl
SUMMARY:Di 17:15u niveau 4 Desiree (v)
DESCRIPTION:Klik op de dag en tijd om te kijken hoeveel plaatsen er nog beschikbaar zijn en vervolgens in te schrijven. \n* Kinderen die met het verkeerde niveau zijn ingeschreven\, worden niet tot de les toegelaten.
URL:https://www.zwembaddeplons.nl/event/di-1715u-niveau-4-desiree-v/2026-04-21/
LOCATION:Beuningen\, Houtduiflaan 3\, Beuningen\, Gelderland\, 6641 ZN\, Nederland
CATEGORIES:Inhaalles
END:VEVENT
BEGIN:VEVENT
DTSTART;TZID=Europe/Amsterdam:20260422T084500
DTEND;TZID=Europe/Amsterdam:20260422T093000
DTSTAMP:20260421T154341
CREATED:20260317T121924Z
LAST-MODIFIED:20260317T121924Z
UID:10020296-1776847500-1776850200@www.zwembaddeplons.nl
SUMMARY:Baby Woe 08.45u Elcke
DESCRIPTION:Klik op de dag en tijd om te kijken hoeveel plaatsen er nog beschikbaar zijn en vervolgens in te schrijven. \nMocht uw kind alsnog niet aanwezig zijn op de inhaalles?\nGeef dit dan vroegtijdig aan ons door via de uitschrijflink of de mail\, dan kunnen wij de inhaalles vrijgeven voor een ander kind.
URL:https://www.zwembaddeplons.nl/event/baby-woe-08-45u-elcke/2026-04-22/
LOCATION:Beuningen\, Houtduiflaan 3\, Beuningen\, Gelderland\, 6641 ZN\, Nederland
CATEGORIES:Inhaalles Baby/Peuter zwemmen
END:VEVENT
BEGIN:VEVENT
DTSTART;TZID=Europe/Amsterdam:20260422T084500
DTEND;TZID=Europe/Amsterdam:20260422T093000
DTSTAMP:20260421T154341
CREATED:20260416T060017Z
LAST-MODIFIED:20260416T074446Z
UID:10007273-1776847500-1776850200@www.zwembaddeplons.nl
SUMMARY:Proefles baby woe 08:45 uur Elcke
DESCRIPTION:Klik op de dag en tijd om te kijken of er plaatsen beschikbaar zijn en vervolgens in te schrijven.
URL:https://www.zwembaddeplons.nl/event/baby-woe-0845-uur-elcke/
LOCATION:Beuningen\, Houtduiflaan 3\, Beuningen\, Gelderland\, 6641 ZN\, Nederland
CATEGORIES:Proefles baby- peuter zwemmen
END:VEVENT
BEGIN:VEVENT
DTSTART;TZID=Europe/Amsterdam:20260422T093000
DTEND;TZID=Europe/Amsterdam:20260422T101500
DTSTAMP:20260421T154341
CREATED:20260317T122201Z
LAST-MODIFIED:20260317T122201Z
UID:10020318-1776850200-1776852900@www.zwembaddeplons.nl
SUMMARY:Baby Woe 09.30u Elcke
DESCRIPTION:Klik op de dag en tijd om te kijken hoeveel plaatsen er nog beschikbaar zijn en vervolgens in te schrijven. \nMocht uw kind alsnog niet aanwezig zijn op de inhaalles?\nGeef dit dan vroegtijdig aan ons door via de uitschrijflink of de mail\, dan kunnen wij de inhaalles vrijgeven voor een ander kind.
URL:https://www.zwembaddeplons.nl/event/baby-woe-09-30u-elcke/2026-04-22/
LOCATION:Beuningen\, Houtduiflaan 3\, Beuningen\, Gelderland\, 6641 ZN\, Nederland
CATEGORIES:Inhaalles Baby/Peuter zwemmen
END:VEVENT
BEGIN:VEVENT
DTSTART;TZID=Europe/Amsterdam:20260422T101500
DTEND;TZID=Europe/Amsterdam:20260422T110000
DTSTAMP:20260421T154341
CREATED:20260317T130008Z
LAST-MODIFIED:20260317T130008Z
UID:10020613-1776852900-1776855600@www.zwembaddeplons.nl
SUMMARY:Peuter Woe 10.15u Elcke
DESCRIPTION:Klik op de dag en tijd om te kijken hoeveel plaatsen er nog beschikbaar zijn en vervolgens in te schrijven. \nMocht uw kind alsnog niet aanwezig zijn op de inhaalles?\nGeef dit dan vroegtijdig aan ons door via de uitschrijflink of de mail\, dan kunnen wij de inhaalles vrijgeven voor een ander kind.
URL:https://www.zwembaddeplons.nl/event/peuter-woe-10-15u-elcke/2026-04-22/
LOCATION:Beuningen\, Houtduiflaan 3\, Beuningen\, Gelderland\, 6641 ZN\, Nederland
CATEGORIES:Inhaalles Baby/Peuter zwemmen
END:VEVENT
BEGIN:VEVENT
DTSTART;TZID=Europe/Amsterdam:20260422T143000
DTEND;TZID=Europe/Amsterdam:20260422T153000
DTSTAMP:20260421T154341
CREATED:20260403T142628Z
LAST-MODIFIED:20260403T142628Z
UID:10020901-1776868200-1776871800@www.zwembaddeplons.nl
SUMMARY:Wo 14:30u niveau 2 Tamara (v)
DESCRIPTION:Klik op de dag en tijd om te kijken hoeveel plaatsen er nog beschikbaar zijn en vervolgens in te schrijven. \n* Kinderen die met het verkeerde niveau zijn ingeschreven\, worden niet tot de les toegelaten.
URL:https://www.zwembaddeplons.nl/event/wo-1430u-niveau-2-tamara-v/2026-04-22/
LOCATION:Beuningen\, Houtduiflaan 3\, Beuningen\, Gelderland\, 6641 ZN\, Nederland
CATEGORIES:Inhaalles
END:VEVENT
BEGIN:VEVENT
DTSTART;TZID=Europe/Amsterdam:20260422T143000
DTEND;TZID=Europe/Amsterdam:20260422T153000
DTSTAMP:20260421T154341
CREATED:20260403T142734Z
LAST-MODIFIED:20260403T142734Z
UID:10020913-1776868200-1776871800@www.zwembaddeplons.nl
SUMMARY:Wo 14:30u niveau 3 Jory (v)
DESCRIPTION:Klik op de dag en tijd om te kijken hoeveel plaatsen er nog beschikbaar zijn en vervolgens in te schrijven. \n* Kinderen die met het verkeerde niveau zijn ingeschreven\, worden niet tot de les toegelaten.
URL:https://www.zwembaddeplons.nl/event/wo-1430u-niveau-3-jory-v/2026-04-22/
LOCATION:Beuningen\, Houtduiflaan 3\, Beuningen\, Gelderland\, 6641 ZN\, Nederland
CATEGORIES:Inhaalles
END:VEVENT
BEGIN:VEVENT
DTSTART;TZID=Europe/Amsterdam:20260422T143000
DTEND;TZID=Europe/Amsterdam:20260422T153000
DTSTAMP:20260421T154341
CREATED:20260403T142843Z
LAST-MODIFIED:20260403T142843Z
UID:10020925-1776868200-1776871800@www.zwembaddeplons.nl
SUMMARY:Wo 14:30u niveau 5 Brenda (v)
DESCRIPTION:Klik op de dag en tijd om te kijken hoeveel plaatsen er nog beschikbaar zijn en vervolgens in te schrijven. \n* Kinderen die met het verkeerde niveau zijn ingeschreven\, worden niet tot de les toegelaten.
URL:https://www.zwembaddeplons.nl/event/wo-1430u-niveau-5-brenda-v/2026-04-22/
LOCATION:Beuningen\, Houtduiflaan 3\, Beuningen\, Gelderland\, 6641 ZN\, Nederland
CATEGORIES:Inhaalles
END:VEVENT
BEGIN:VEVENT
DTSTART;TZID=Europe/Amsterdam:20260422T153000
DTEND;TZID=Europe/Amsterdam:20260422T163000
DTSTAMP:20260421T154341
CREATED:20260403T142955Z
LAST-MODIFIED:20260403T142955Z
UID:10020937-1776871800-1776875400@www.zwembaddeplons.nl
SUMMARY:Wo 15:30u niveau 1 Tamara (v)
DESCRIPTION:Klik op de dag en tijd om te kijken hoeveel plaatsen er nog beschikbaar zijn en vervolgens in te schrijven. \n* Kinderen die met het verkeerde niveau zijn ingeschreven\, worden niet tot de les toegelaten.
URL:https://www.zwembaddeplons.nl/event/wo-1530u-niveau-1-tamara-v/2026-04-22/
LOCATION:Beuningen\, Houtduiflaan 3\, Beuningen\, Gelderland\, 6641 ZN\, Nederland
CATEGORIES:Inhaalles
END:VEVENT
BEGIN:VEVENT
DTSTART;TZID=Europe/Amsterdam:20260422T153000
DTEND;TZID=Europe/Amsterdam:20260422T163000
DTSTAMP:20260421T154341
CREATED:20260403T143100Z
LAST-MODIFIED:20260403T143100Z
UID:10020949-1776871800-1776875400@www.zwembaddeplons.nl
SUMMARY:Wo 15:30u niveau 2 Brenda (v)
DESCRIPTION:Klik op de dag en tijd om te kijken hoeveel plaatsen er nog beschikbaar zijn en vervolgens in te schrijven. \n* Kinderen die met het verkeerde niveau zijn ingeschreven\, worden niet tot de les toegelaten.
URL:https://www.zwembaddeplons.nl/event/wo-1530u-niveau-2-brenda-v/2026-04-22/
LOCATION:Beuningen\, Houtduiflaan 3\, Beuningen\, Gelderland\, 6641 ZN\, Nederland
CATEGORIES:Inhaalles
END:VEVENT
BEGIN:VEVENT
DTSTART;TZID=Europe/Amsterdam:20260422T153000
DTEND;TZID=Europe/Amsterdam:20260422T163000
DTSTAMP:20260421T154341
CREATED:20260403T143200Z
LAST-MODIFIED:20260403T143200Z
UID:10020961-1776871800-1776875400@www.zwembaddeplons.nl
SUMMARY:Wo 15:30u niveau 5 Jory (v)
DESCRIPTION:Klik op de dag en tijd om te kijken hoeveel plaatsen er nog beschikbaar zijn en vervolgens in te schrijven. \n* Kinderen die met het verkeerde niveau zijn ingeschreven\, worden niet tot de les toegelaten.
URL:https://www.zwembaddeplons.nl/event/wo-1530u-niveau-5-jory-v/2026-04-22/
LOCATION:Beuningen\, Houtduiflaan 3\, Beuningen\, Gelderland\, 6641 ZN\, Nederland
CATEGORIES:Inhaalles
END:VEVENT
BEGIN:VEVENT
DTSTART;TZID=Europe/Amsterdam:20260422T163000
DTEND;TZID=Europe/Amsterdam:20260422T173000
DTSTAMP:20260421T154341
CREATED:20260403T143315Z
LAST-MODIFIED:20260403T143315Z
UID:10020973-1776875400-1776879000@www.zwembaddeplons.nl
SUMMARY:Wo 16:30u niveau 2 Jory (v)
DESCRIPTION:Klik op de dag en tijd om te kijken hoeveel plaatsen er nog beschikbaar zijn en vervolgens in te schrijven. \n* Kinderen die met het verkeerde niveau zijn ingeschreven\, worden niet tot de les toegelaten.
URL:https://www.zwembaddeplons.nl/event/wo-1630u-niveau-2-jory-v/2026-04-22/
LOCATION:Beuningen\, Houtduiflaan 3\, Beuningen\, Gelderland\, 6641 ZN\, Nederland
CATEGORIES:Inhaalles
END:VEVENT
BEGIN:VEVENT
DTSTART;TZID=Europe/Amsterdam:20260422T163000
DTEND;TZID=Europe/Amsterdam:20260422T173000
DTSTAMP:20260421T154341
CREATED:20260403T143415Z
LAST-MODIFIED:20260403T143415Z
UID:10020985-1776875400-1776879000@www.zwembaddeplons.nl
SUMMARY:Wo 16:30u niveau 3 Brenda (v)
DESCRIPTION:Klik op de dag en tijd om te kijken hoeveel plaatsen er nog beschikbaar zijn en vervolgens in te schrijven. \n* Kinderen die met het verkeerde niveau zijn ingeschreven\, worden niet tot de les toegelaten.
URL:https://www.zwembaddeplons.nl/event/wo-1630u-niveau-3-brenda-v/2026-04-22/
LOCATION:Beuningen\, Houtduiflaan 3\, Beuningen\, Gelderland\, 6641 ZN\, Nederland
CATEGORIES:Inhaalles
END:VEVENT
BEGIN:VEVENT
DTSTART;TZID=Europe/Amsterdam:20260422T163000
DTEND;TZID=Europe/Amsterdam:20260422T173000
DTSTAMP:20260421T154341
CREATED:20260403T143520Z
LAST-MODIFIED:20260415T124852Z
UID:10020997-1776875400-1776879000@www.zwembaddeplons.nl
SUMMARY:Wo 16:30u niveau 4 Meike (v)
DESCRIPTION:Klik op de dag en tijd om te kijken hoeveel plaatsen er nog beschikbaar zijn en vervolgens in te schrijven. \n* Kinderen die met het verkeerde niveau zijn ingeschreven\, worden niet tot de les toegelaten.
URL:https://www.zwembaddeplons.nl/event/wo-1630u-niveau-4-meike-v/2026-04-22/
LOCATION:Beuningen\, Houtduiflaan 3\, Beuningen\, Gelderland\, 6641 ZN\, Nederland
CATEGORIES:Inhaalles
END:VEVENT
BEGIN:VEVENT
DTSTART;TZID=Europe/Amsterdam:20260422T163000
DTEND;TZID=Europe/Amsterdam:20260422T173000
DTSTAMP:20260421T154341
CREATED:20260403T143623Z
LAST-MODIFIED:20260403T143623Z
UID:10021009-1776875400-1776879000@www.zwembaddeplons.nl
SUMMARY:Wo 16:30u niveau 5 Tamara (v)
DESCRIPTION:Klik op de dag en tijd om te kijken hoeveel plaatsen er nog beschikbaar zijn en vervolgens in te schrijven. \n* Kinderen die met het verkeerde niveau zijn ingeschreven\, worden niet tot de les toegelaten.
URL:https://www.zwembaddeplons.nl/event/wo-1630u-niveau-5-tamara-v/2026-04-22/
LOCATION:Beuningen\, Houtduiflaan 3\, Beuningen\, Gelderland\, 6641 ZN\, Nederland
CATEGORIES:Inhaalles
END:VEVENT
BEGIN:VEVENT
DTSTART;TZID=Europe/Amsterdam:20260422T173000
DTEND;TZID=Europe/Amsterdam:20260422T181500
DTSTAMP:20260421T154341
CREATED:20260326T141427Z
LAST-MODIFIED:20260326T141427Z
UID:10020636-1776879000-1776881700@www.zwembaddeplons.nl
SUMMARY:Intake; woensdag om 17.30 uur
DESCRIPTION:Klik op de dag en tijd om te kijken of er nog plaatsen beschikbaar zijn en vervolgens in te schrijven.
URL:https://www.zwembaddeplons.nl/event/intake-woensdag-om-17-30-uur-3/2026-04-22/
LOCATION:Beuningen\, Houtduiflaan 3\, Beuningen\, Gelderland\, 6641 ZN\, Nederland
CATEGORIES:Intake Juli 2026
END:VEVENT
BEGIN:VEVENT
DTSTART;TZID=Europe/Amsterdam:20260423T091500
DTEND;TZID=Europe/Amsterdam:20260423T100000
DTSTAMP:20260421T154341
CREATED:20260317T122442Z
LAST-MODIFIED:20260317T122442Z
UID:10020340-1776935700-1776938400@www.zwembaddeplons.nl
SUMMARY:Baby Do 09.15u Elcke
DESCRIPTION:Klik op de dag en tijd om te kijken hoeveel plaatsen er nog beschikbaar zijn en vervolgens in te schrijven. \nMocht uw kind alsnog niet aanwezig zijn op de inhaalles?\nGeef dit dan vroegtijdig aan ons door via de uitschrijflink of de mail\, dan kunnen wij de inhaalles vrijgeven voor een ander kind.
URL:https://www.zwembaddeplons.nl/event/baby-do-09-15u-elcke/2026-04-23/
LOCATION:Beuningen\, Houtduiflaan 3\, Beuningen\, Gelderland\, 6641 ZN\, Nederland
CATEGORIES:Inhaalles Baby/Peuter zwemmen
END:VEVENT
BEGIN:VEVENT
DTSTART;TZID=Europe/Amsterdam:20260423T091500
DTEND;TZID=Europe/Amsterdam:20260423T100000
DTSTAMP:20260421T154341
CREATED:20260416T060005Z
LAST-MODIFIED:20260416T074505Z
UID:10009988-1776935700-1776938400@www.zwembaddeplons.nl
SUMMARY:Proefles baby don 09.15 uur Elcke
DESCRIPTION:Klik op de dag en tijd om te kijken of er plaatsen beschikbaar zijn en vervolgens in te schrijven.
URL:https://www.zwembaddeplons.nl/event/proefles-baby-don-09-15-uur-elcke/
LOCATION:Beuningen\, Houtduiflaan 3\, Beuningen\, Gelderland\, 6641 ZN\, Nederland
CATEGORIES:Proefles baby- peuter zwemmen
END:VEVENT
BEGIN:VEVENT
DTSTART;TZID=Europe/Amsterdam:20260423T101500
DTEND;TZID=Europe/Amsterdam:20260423T110000
DTSTAMP:20260421T154341
CREATED:20260317T122637Z
LAST-MODIFIED:20260317T122637Z
UID:10020361-1776939300-1776942000@www.zwembaddeplons.nl
SUMMARY:Baby Do 10.15u Elcke
DESCRIPTION:Klik op de dag en tijd om te kijken hoeveel plaatsen er nog beschikbaar zijn en vervolgens in te schrijven. \nMocht uw kind alsnog niet aanwezig zijn op de inhaalles?\nGeef dit dan vroegtijdig aan ons door via de uitschrijflink of de mail\, dan kunnen wij de inhaalles vrijgeven voor een ander kind.
URL:https://www.zwembaddeplons.nl/event/baby-do-10-15u-elcke/2026-04-23/
LOCATION:Beuningen\, Houtduiflaan 3\, Beuningen\, Gelderland\, 6641 ZN\, Nederland
CATEGORIES:Inhaalles Baby/Peuter zwemmen
END:VEVENT
BEGIN:VEVENT
DTSTART;TZID=Europe/Amsterdam:20260423T101500
DTEND;TZID=Europe/Amsterdam:20260423T110000
DTSTAMP:20260421T154341
CREATED:20260416T060035Z
LAST-MODIFIED:20260416T074526Z
UID:10009990-1776939300-1776942000@www.zwembaddeplons.nl
SUMMARY:Proefles baby don 10.15 uur Elcke
DESCRIPTION:Klik op de dag en tijd om te kijken of er plaatsen beschikbaar zijn en vervolgens in te schrijven.
URL:https://www.zwembaddeplons.nl/event/proefles-baby-don-10-15-uur-elcke/
LOCATION:Beuningen\, Houtduiflaan 3\, Beuningen\, Gelderland\, 6641 ZN\, Nederland
CATEGORIES:Proefles baby- peuter zwemmen
END:VEVENT
END:VCALENDAR