BEGIN:VCALENDAR
VERSION:2.0
PRODID:-//Zwembad de Plons - ECPv6.15.20//NONSGML v1.0//EN
CALSCALE:GREGORIAN
METHOD:PUBLISH
X-WR-CALNAME:Zwembad de Plons
X-ORIGINAL-URL:https://www.zwembaddeplons.nl
X-WR-CALDESC:Evenementen voor Zwembad de Plons
REFRESH-INTERVAL;VALUE=DURATION:PT1H
X-Robots-Tag:noindex
X-PUBLISHED-TTL:PT1H
BEGIN:VTIMEZONE
TZID:Europe/Amsterdam
BEGIN:DAYLIGHT
TZOFFSETFROM:+0100
TZOFFSETTO:+0200
TZNAME:CEST
DTSTART:20250330T010000
END:DAYLIGHT
BEGIN:STANDARD
TZOFFSETFROM:+0200
TZOFFSETTO:+0100
TZNAME:CET
DTSTART:20251026T010000
END:STANDARD
BEGIN:DAYLIGHT
TZOFFSETFROM:+0100
TZOFFSETTO:+0200
TZNAME:CEST
DTSTART:20260329T010000
END:DAYLIGHT
BEGIN:STANDARD
TZOFFSETFROM:+0200
TZOFFSETTO:+0100
TZNAME:CET
DTSTART:20261025T010000
END:STANDARD
BEGIN:DAYLIGHT
TZOFFSETFROM:+0100
TZOFFSETTO:+0200
TZNAME:CEST
DTSTART:20270328T010000
END:DAYLIGHT
BEGIN:STANDARD
TZOFFSETFROM:+0200
TZOFFSETTO:+0100
TZNAME:CET
DTSTART:20271031T010000
END:STANDARD
END:VTIMEZONE
BEGIN:VEVENT
DTSTART;TZID=Europe/Amsterdam:20260301T081500
DTEND;TZID=Europe/Amsterdam:20260301T090000
DTSTAMP:20260421T180931
CREATED:20250912T094040Z
LAST-MODIFIED:20250912T094040Z
UID:10018700-1772352900-1772355600@www.zwembaddeplons.nl
SUMMARY:Baby zon 08.15u Jory
DESCRIPTION:Klik op de dag en tijd om te kijken hoeveel plaatsen er nog beschikbaar zijn en vervolgens in te schrijven. \nMocht uw kind alsnog niet aanwezig zijn op de inhaalles?\nGeef dit dan vroegtijdig aan ons door via de uitschrijflink of de mail\, dan kunnen wij de inhaalles vrijgeven voor een ander kind.
URL:https://www.zwembaddeplons.nl/event/baby-zon-08-15u-jory/2026-03-01/
LOCATION:Beuningen\, Houtduiflaan 3\, Beuningen\, Gelderland\, 6641 ZN\, Nederland
CATEGORIES:Inhaalles Baby/Peuter zwemmen
END:VEVENT
BEGIN:VEVENT
DTSTART;TZID=Europe/Amsterdam:20260301T090000
DTEND;TZID=Europe/Amsterdam:20260301T094500
DTSTAMP:20260421T180931
CREATED:20250912T092045Z
LAST-MODIFIED:20250912T092045Z
UID:10018398-1772355600-1772358300@www.zwembaddeplons.nl
SUMMARY:Peuter zon 09.00u Jory
DESCRIPTION:Klik op de dag en tijd om te kijken hoeveel plaatsen er nog beschikbaar zijn en vervolgens in te schrijven. \nMocht uw kind alsnog niet aanwezig zijn op de inhaalles?\nGeef dit dan vroegtijdig aan ons door via de uitschrijflink of de mail\, dan kunnen wij de inhaalles vrijgeven voor een ander kind.
URL:https://www.zwembaddeplons.nl/event/peuter-zon-09-00u-jory/2026-03-01/
LOCATION:Beuningen\, Houtduiflaan 3\, Beuningen\, Gelderland\, 6641 ZN\, Nederland
CATEGORIES:Inhaalles Baby/Peuter zwemmen
END:VEVENT
BEGIN:VEVENT
DTSTART;TZID=Europe/Amsterdam:20260301T094500
DTEND;TZID=Europe/Amsterdam:20260301T103000
DTSTAMP:20260421T180931
CREATED:20250912T094203Z
LAST-MODIFIED:20250912T094203Z
UID:10018725-1772358300-1772361000@www.zwembaddeplons.nl
SUMMARY:Baby zon 09.45u Jory
DESCRIPTION:Klik op de dag en tijd om te kijken hoeveel plaatsen er nog beschikbaar zijn en vervolgens in te schrijven. \nMocht uw kind alsnog niet aanwezig zijn op de inhaalles?\nGeef dit dan vroegtijdig aan ons door via de uitschrijflink of de mail\, dan kunnen wij de inhaalles vrijgeven voor een ander kind.
URL:https://www.zwembaddeplons.nl/event/baby-zon-09-45u-jory/2026-03-01/
LOCATION:Beuningen\, Houtduiflaan 3\, Beuningen\, Gelderland\, 6641 ZN\, Nederland
CATEGORIES:Inhaalles Baby/Peuter zwemmen
END:VEVENT
BEGIN:VEVENT
DTSTART;TZID=Europe/Amsterdam:20260301T103000
DTEND;TZID=Europe/Amsterdam:20260301T111500
DTSTAMP:20260421T180931
CREATED:20250912T094309Z
LAST-MODIFIED:20250912T094309Z
UID:10018750-1772361000-1772363700@www.zwembaddeplons.nl
SUMMARY:Baby zon 10.30u Jory
DESCRIPTION:Klik op de dag en tijd om te kijken hoeveel plaatsen er nog beschikbaar zijn en vervolgens in te schrijven. \nMocht uw kind alsnog niet aanwezig zijn op de inhaalles?\nGeef dit dan vroegtijdig aan ons door via de uitschrijflink of de mail\, dan kunnen wij de inhaalles vrijgeven voor een ander kind.
URL:https://www.zwembaddeplons.nl/event/baby-zon-10-30u-jory/2026-03-01/
LOCATION:Beuningen\, Houtduiflaan 3\, Beuningen\, Gelderland\, 6641 ZN\, Nederland
CATEGORIES:Inhaalles Baby/Peuter zwemmen
END:VEVENT
BEGIN:VEVENT
DTSTART;TZID=Europe/Amsterdam:20260301T111200
DTEND;TZID=Europe/Amsterdam:20260301T120000
DTSTAMP:20260421T180931
CREATED:20250912T091634Z
LAST-MODIFIED:20250912T091634Z
UID:10018373-1772363520-1772366400@www.zwembaddeplons.nl
SUMMARY:Peuter zon 11.15u Jory
DESCRIPTION:Klik op de dag en tijd om te kijken hoeveel plaatsen er nog beschikbaar zijn en vervolgens in te schrijven. \nMocht uw kind alsnog niet aanwezig zijn op de inhaalles?\nGeef dit dan vroegtijdig aan ons door via de uitschrijflink of de mail\, dan kunnen wij de inhaalles vrijgeven voor een ander kind.
URL:https://www.zwembaddeplons.nl/event/peuter-zon-11-15u-jory/2026-03-01/
LOCATION:Beuningen\, Houtduiflaan 3\, Beuningen\, Gelderland\, 6641 ZN\, Nederland
CATEGORIES:Inhaalles Baby/Peuter zwemmen
END:VEVENT
BEGIN:VEVENT
DTSTART;TZID=Europe/Amsterdam:20260302T161500
DTEND;TZID=Europe/Amsterdam:20260302T171500
DTSTAMP:20260421T180931
CREATED:20260101T180133Z
LAST-MODIFIED:20260101T180133Z
UID:10019546-1772468100-1772471700@www.zwembaddeplons.nl
SUMMARY:Ma 16:15u niveau 5 Desiree (v)
DESCRIPTION:Klik op de dag en tijd om te kijken hoeveel plaatsen er nog beschikbaar zijn en vervolgens in te schrijven. \n* Kinderen die met het verkeerde niveau zijn ingeschreven\, worden niet tot de les toegelaten.
URL:https://www.zwembaddeplons.nl/event/ma-1615u-niveau-5-desiree-v/2026-03-02/
LOCATION:Beuningen\, Houtduiflaan 3\, Beuningen\, Gelderland\, 6641 ZN\, Nederland
CATEGORIES:Inhaalles
END:VEVENT
BEGIN:VEVENT
DTSTART;TZID=Europe/Amsterdam:20260302T161500
DTEND;TZID=Europe/Amsterdam:20260302T171500
DTSTAMP:20260421T180931
CREATED:20260101T180339Z
LAST-MODIFIED:20260101T180339Z
UID:10019557-1772468100-1772471700@www.zwembaddeplons.nl
SUMMARY:Ma 16:15u niveau 2 Tamara (v)
DESCRIPTION:Klik op de dag en tijd om te kijken hoeveel plaatsen er nog beschikbaar zijn en vervolgens in te schrijven. \n* Kinderen die met het verkeerde niveau zijn ingeschreven\, worden niet tot de les toegelaten.
URL:https://www.zwembaddeplons.nl/event/ma-1615u-niveau-2-tamara-v/2026-03-02/
LOCATION:Beuningen\, Houtduiflaan 3\, Beuningen\, Gelderland\, 6641 ZN\, Nederland
CATEGORIES:Inhaalles
END:VEVENT
BEGIN:VEVENT
DTSTART;TZID=Europe/Amsterdam:20260302T171500
DTEND;TZID=Europe/Amsterdam:20260302T181500
DTSTAMP:20260421T180931
CREATED:20260101T180738Z
LAST-MODIFIED:20260101T180738Z
UID:10019590-1772471700-1772475300@www.zwembaddeplons.nl
SUMMARY:Ma 17:15u niveau 2 Guido (m)
DESCRIPTION:Klik op de dag en tijd om te kijken hoeveel plaatsen er nog beschikbaar zijn en vervolgens in te schrijven. \n* Kinderen die met het verkeerde niveau zijn ingeschreven\, worden niet tot de les toegelaten.
URL:https://www.zwembaddeplons.nl/event/ma-1715u-niveau-2-guido-m/2026-03-02/
LOCATION:Beuningen\, Houtduiflaan 3\, Beuningen\, Gelderland\, 6641 ZN\, Nederland
CATEGORIES:Inhaalles
END:VEVENT
BEGIN:VEVENT
DTSTART;TZID=Europe/Amsterdam:20260302T171500
DTEND;TZID=Europe/Amsterdam:20260302T181500
DTSTAMP:20260421T180931
CREATED:20260101T181021Z
LAST-MODIFIED:20260101T181514Z
UID:10019656-1772471700-1772475300@www.zwembaddeplons.nl
SUMMARY:Ma 17:15u niveau 1 Jory (v)
DESCRIPTION:Klik op de dag en tijd om te kijken hoeveel plaatsen er nog beschikbaar zijn en vervolgens in te schrijven. \n* Kinderen die met het verkeerde niveau zijn ingeschreven\, worden niet tot de les toegelaten.
URL:https://www.zwembaddeplons.nl/event/ma-1715u-niveau-1-jory-v/2026-03-02/
LOCATION:Beuningen\, Houtduiflaan 3\, Beuningen\, Gelderland\, 6641 ZN\, Nederland
CATEGORIES:Inhaalles
END:VEVENT
BEGIN:VEVENT
DTSTART;TZID=Europe/Amsterdam:20260302T171500
DTEND;TZID=Europe/Amsterdam:20260302T181500
DTSTAMP:20260421T180931
CREATED:20260101T181134Z
LAST-MODIFIED:20260101T181134Z
UID:10019623-1772471700-1772475300@www.zwembaddeplons.nl
SUMMARY:Ma 17:15u niveau 2 Tamara (v)
DESCRIPTION:Klik op de dag en tijd om te kijken hoeveel plaatsen er nog beschikbaar zijn en vervolgens in te schrijven. \n* Kinderen die met het verkeerde niveau zijn ingeschreven\, worden niet tot de les toegelaten.
URL:https://www.zwembaddeplons.nl/event/ma-1715u-niveau-2-tamara-v/2026-03-02/
LOCATION:Beuningen\, Houtduiflaan 3\, Beuningen\, Gelderland\, 6641 ZN\, Nederland
CATEGORIES:Inhaalles
END:VEVENT
BEGIN:VEVENT
DTSTART;TZID=Europe/Amsterdam:20260302T171500
DTEND;TZID=Europe/Amsterdam:20260302T181500
DTSTAMP:20260421T180931
CREATED:20260101T181254Z
LAST-MODIFIED:20260101T181254Z
UID:10019634-1772471700-1772475300@www.zwembaddeplons.nl
SUMMARY:Ma 17:15u niveau 5 Desiree (v)
DESCRIPTION:Klik op de dag en tijd om te kijken hoeveel plaatsen er nog beschikbaar zijn en vervolgens in te schrijven. \n* Kinderen die met het verkeerde niveau zijn ingeschreven\, worden niet tot de les toegelaten.
URL:https://www.zwembaddeplons.nl/event/ma-1715u-niveau-5-desiree-v/2026-03-02/
LOCATION:Beuningen\, Houtduiflaan 3\, Beuningen\, Gelderland\, 6641 ZN\, Nederland
CATEGORIES:Inhaalles
END:VEVENT
BEGIN:VEVENT
DTSTART;TZID=Europe/Amsterdam:20260302T181500
DTEND;TZID=Europe/Amsterdam:20260302T191500
DTSTAMP:20260421T180931
CREATED:20260101T180850Z
LAST-MODIFIED:20260101T180850Z
UID:10019601-1772475300-1772478900@www.zwembaddeplons.nl
SUMMARY:Ma 18:15u niveau 4 Guido (m)
DESCRIPTION:Klik op de dag en tijd om te kijken hoeveel plaatsen er nog beschikbaar zijn en vervolgens in te schrijven. \n* Kinderen die met het verkeerde niveau zijn ingeschreven\, worden niet tot de les toegelaten.
URL:https://www.zwembaddeplons.nl/event/ma-1815u-niveau-4-guido-m/2026-03-02/
LOCATION:Beuningen\, Houtduiflaan 3\, Beuningen\, Gelderland\, 6641 ZN\, Nederland
CATEGORIES:Inhaalles
END:VEVENT
BEGIN:VEVENT
DTSTART;TZID=Europe/Amsterdam:20260302T181500
DTEND;TZID=Europe/Amsterdam:20260302T191500
DTSTAMP:20260421T180931
CREATED:20260101T181414Z
LAST-MODIFIED:20260101T181414Z
UID:10019645-1772475300-1772478900@www.zwembaddeplons.nl
SUMMARY:Ma 18:15u niveau 2 Jory (v)
DESCRIPTION:Klik op de dag en tijd om te kijken hoeveel plaatsen er nog beschikbaar zijn en vervolgens in te schrijven. \n* Kinderen die met het verkeerde niveau zijn ingeschreven\, worden niet tot de les toegelaten.
URL:https://www.zwembaddeplons.nl/event/ma-1815u-niveau-2-jory-v/2026-03-02/
LOCATION:Beuningen\, Houtduiflaan 3\, Beuningen\, Gelderland\, 6641 ZN\, Nederland
CATEGORIES:Inhaalles
END:VEVENT
BEGIN:VEVENT
DTSTART;TZID=Europe/Amsterdam:20260302T181500
DTEND;TZID=Europe/Amsterdam:20260302T191500
DTSTAMP:20260421T180931
CREATED:20260101T181837Z
LAST-MODIFIED:20260101T181837Z
UID:10019667-1772475300-1772478900@www.zwembaddeplons.nl
SUMMARY:Ma 18:15u niveau 5 Tamara (v)
DESCRIPTION:Klik op de dag en tijd om te kijken hoeveel plaatsen er nog beschikbaar zijn en vervolgens in te schrijven. \n* Kinderen die met het verkeerde niveau zijn ingeschreven\, worden niet tot de les toegelaten.
URL:https://www.zwembaddeplons.nl/event/ma-1815u-niveau-5-tamara-v/2026-03-02/
LOCATION:Beuningen\, Houtduiflaan 3\, Beuningen\, Gelderland\, 6641 ZN\, Nederland
CATEGORIES:Inhaalles
END:VEVENT
BEGIN:VEVENT
DTSTART;TZID=Europe/Amsterdam:20260302T181500
DTEND;TZID=Europe/Amsterdam:20260302T191500
DTSTAMP:20260421T180931
CREATED:20260101T182036Z
LAST-MODIFIED:20260101T182036Z
UID:10019678-1772475300-1772478900@www.zwembaddeplons.nl
SUMMARY:Ma 18:15u niveau 3 Desiree (v)
DESCRIPTION:Klik op de dag en tijd om te kijken hoeveel plaatsen er nog beschikbaar zijn en vervolgens in te schrijven. \n* Kinderen die met het verkeerde niveau zijn ingeschreven\, worden niet tot de les toegelaten.
URL:https://www.zwembaddeplons.nl/event/ma-1815u-niveau-3-desiree-v/2026-03-02/
LOCATION:Beuningen\, Houtduiflaan 3\, Beuningen\, Gelderland\, 6641 ZN\, Nederland
CATEGORIES:Inhaalles
END:VEVENT
BEGIN:VEVENT
DTSTART;TZID=Europe/Amsterdam:20260303T151500
DTEND;TZID=Europe/Amsterdam:20260303T161500
DTSTAMP:20260421T180931
CREATED:20260101T182435Z
LAST-MODIFIED:20260101T182435Z
UID:10019689-1772550900-1772554500@www.zwembaddeplons.nl
SUMMARY:Di 15:15u niveau 1 Elcke (v)
DESCRIPTION:Klik op de dag en tijd om te kijken hoeveel plaatsen er nog beschikbaar zijn en vervolgens in te schrijven. \n* Kinderen die met het verkeerde niveau zijn ingeschreven\, worden niet tot de les toegelaten.
URL:https://www.zwembaddeplons.nl/event/di-1515u-niveau-1-elcke-v/2026-03-03/
LOCATION:Beuningen\, Houtduiflaan 3\, Beuningen\, Gelderland\, 6641 ZN\, Nederland
CATEGORIES:Inhaalles
END:VEVENT
BEGIN:VEVENT
DTSTART;TZID=Europe/Amsterdam:20260303T151500
DTEND;TZID=Europe/Amsterdam:20260303T161500
DTSTAMP:20260421T180931
CREATED:20260101T182556Z
LAST-MODIFIED:20260101T182556Z
UID:10019700-1772550900-1772554500@www.zwembaddeplons.nl
SUMMARY:Di 15:15u niveau 2 Desiree (v)
DESCRIPTION:Klik op de dag en tijd om te kijken hoeveel plaatsen er nog beschikbaar zijn en vervolgens in te schrijven. \n* Kinderen die met het verkeerde niveau zijn ingeschreven\, worden niet tot de les toegelaten.
URL:https://www.zwembaddeplons.nl/event/di-1515u-niveau-2-desiree-v/2026-03-03/
LOCATION:Beuningen\, Houtduiflaan 3\, Beuningen\, Gelderland\, 6641 ZN\, Nederland
CATEGORIES:Inhaalles
END:VEVENT
BEGIN:VEVENT
DTSTART;TZID=Europe/Amsterdam:20260303T151500
DTEND;TZID=Europe/Amsterdam:20260303T161500
DTSTAMP:20260421T180931
CREATED:20260101T182709Z
LAST-MODIFIED:20260128T103226Z
UID:10019711-1772550900-1772554500@www.zwembaddeplons.nl
SUMMARY:Di 15:15u niveau 5 Guido (m)
DESCRIPTION:Klik op de dag en tijd om te kijken hoeveel plaatsen er nog beschikbaar zijn en vervolgens in te schrijven. \n* Kinderen die met het verkeerde niveau zijn ingeschreven\, worden niet tot de les toegelaten.
URL:https://www.zwembaddeplons.nl/event/di-1515u-niveau-5-guido-m/2026-03-03/
LOCATION:Beuningen\, Houtduiflaan 3\, Beuningen\, Gelderland\, 6641 ZN\, Nederland
CATEGORIES:Inhaalles
END:VEVENT
BEGIN:VEVENT
DTSTART;TZID=Europe/Amsterdam:20260303T161500
DTEND;TZID=Europe/Amsterdam:20260303T171500
DTSTAMP:20260421T180931
CREATED:20260101T182819Z
LAST-MODIFIED:20260101T182819Z
UID:10019722-1772554500-1772558100@www.zwembaddeplons.nl
SUMMARY:Di 16:15u niveau 2 Elcke (v)
DESCRIPTION:Klik op de dag en tijd om te kijken hoeveel plaatsen er nog beschikbaar zijn en vervolgens in te schrijven. \n* Kinderen die met het verkeerde niveau zijn ingeschreven\, worden niet tot de les toegelaten.
URL:https://www.zwembaddeplons.nl/event/di-1615u-niveau-2-elcke-v/2026-03-03/
LOCATION:Beuningen\, Houtduiflaan 3\, Beuningen\, Gelderland\, 6641 ZN\, Nederland
CATEGORIES:Inhaalles
END:VEVENT
BEGIN:VEVENT
DTSTART;TZID=Europe/Amsterdam:20260303T161500
DTEND;TZID=Europe/Amsterdam:20260303T171500
DTSTAMP:20260421T180931
CREATED:20260101T183114Z
LAST-MODIFIED:20260101T183114Z
UID:10019744-1772554500-1772558100@www.zwembaddeplons.nl
SUMMARY:Di 16:15u niveau 3 Guido (m)
DESCRIPTION:Klik op de dag en tijd om te kijken hoeveel plaatsen er nog beschikbaar zijn en vervolgens in te schrijven. \n* Kinderen die met het verkeerde niveau zijn ingeschreven\, worden niet tot de les toegelaten.
URL:https://www.zwembaddeplons.nl/event/di-1615u-niveau-3-guido-m/2026-03-03/
LOCATION:Beuningen\, Houtduiflaan 3\, Beuningen\, Gelderland\, 6641 ZN\, Nederland
CATEGORIES:Inhaalles
END:VEVENT
BEGIN:VEVENT
DTSTART;TZID=Europe/Amsterdam:20260303T161500
DTEND;TZID=Europe/Amsterdam:20260303T171500
DTSTAMP:20260421T180931
CREATED:20260101T183234Z
LAST-MODIFIED:20260128T103248Z
UID:10019755-1772554500-1772558100@www.zwembaddeplons.nl
SUMMARY:Di 16:15u niveau 5 Desiree (v)
DESCRIPTION:Klik op de dag en tijd om te kijken hoeveel plaatsen er nog beschikbaar zijn en vervolgens in te schrijven. \n* Kinderen die met het verkeerde niveau zijn ingeschreven\, worden niet tot de les toegelaten.
URL:https://www.zwembaddeplons.nl/event/di-1615u-niveau-5-desiree-v/2026-03-03/
LOCATION:Beuningen\, Houtduiflaan 3\, Beuningen\, Gelderland\, 6641 ZN\, Nederland
CATEGORIES:Inhaalles
END:VEVENT
BEGIN:VEVENT
DTSTART;TZID=Europe/Amsterdam:20260303T161500
DTEND;TZID=Europe/Amsterdam:20260303T171500
DTSTAMP:20260421T180931
CREATED:20260101T183357Z
LAST-MODIFIED:20260101T183357Z
UID:10019766-1772554500-1772558100@www.zwembaddeplons.nl
SUMMARY:Di 16:15u niveau 1 Brenda (v)
DESCRIPTION:Klik op de dag en tijd om te kijken hoeveel plaatsen er nog beschikbaar zijn en vervolgens in te schrijven. \n* Kinderen die met het verkeerde niveau zijn ingeschreven\, worden niet tot de les toegelaten.
URL:https://www.zwembaddeplons.nl/event/di-1615u-niveau-1-brenda-v/2026-03-03/
LOCATION:Beuningen\, Houtduiflaan 3\, Beuningen\, Gelderland\, 6641 ZN\, Nederland
CATEGORIES:Inhaalles
END:VEVENT
BEGIN:VEVENT
DTSTART;TZID=Europe/Amsterdam:20260303T171500
DTEND;TZID=Europe/Amsterdam:20260303T181500
DTSTAMP:20260421T180931
CREATED:20260101T182954Z
LAST-MODIFIED:20260101T182954Z
UID:10019733-1772558100-1772561700@www.zwembaddeplons.nl
SUMMARY:Di 17:15u niveau 2 Elcke (v)
DESCRIPTION:Klik op de dag en tijd om te kijken hoeveel plaatsen er nog beschikbaar zijn en vervolgens in te schrijven. \n* Kinderen die met het verkeerde niveau zijn ingeschreven\, worden niet tot de les toegelaten.
URL:https://www.zwembaddeplons.nl/event/di-1715u-niveau-2-elcke-v/2026-03-03/
LOCATION:Beuningen\, Houtduiflaan 3\, Beuningen\, Gelderland\, 6641 ZN\, Nederland
CATEGORIES:Inhaalles
END:VEVENT
BEGIN:VEVENT
DTSTART;TZID=Europe/Amsterdam:20260303T171500
DTEND;TZID=Europe/Amsterdam:20260303T181500
DTSTAMP:20260421T180931
CREATED:20260101T183543Z
LAST-MODIFIED:20260101T183543Z
UID:10019777-1772558100-1772561700@www.zwembaddeplons.nl
SUMMARY:Di 17:15u niveau 1 Guido (m)
DESCRIPTION:Klik op de dag en tijd om te kijken hoeveel plaatsen er nog beschikbaar zijn en vervolgens in te schrijven. \n* Kinderen die met het verkeerde niveau zijn ingeschreven\, worden niet tot de les toegelaten.
URL:https://www.zwembaddeplons.nl/event/di-1715u-niveau-1-guido-m/2026-03-03/
LOCATION:Beuningen\, Houtduiflaan 3\, Beuningen\, Gelderland\, 6641 ZN\, Nederland
CATEGORIES:Inhaalles
END:VEVENT
BEGIN:VEVENT
DTSTART;TZID=Europe/Amsterdam:20260304T084500
DTEND;TZID=Europe/Amsterdam:20260304T093000
DTSTAMP:20260421T180931
CREATED:20250912T092846Z
LAST-MODIFIED:20250912T092846Z
UID:10018500-1772613900-1772616600@www.zwembaddeplons.nl
SUMMARY:Baby woe 08.45u Nicol
DESCRIPTION:Klik op de dag en tijd om te kijken hoeveel plaatsen er nog beschikbaar zijn en vervolgens in te schrijven. \nMocht uw kind alsnog niet aanwezig zijn op de inhaalles?\nGeef dit dan vroegtijdig aan ons door via de uitschrijflink of de mail\, dan kunnen wij de inhaalles vrijgeven voor een ander kind.
URL:https://www.zwembaddeplons.nl/event/baby-woe-08-45u-nicol-2/2026-03-04/
LOCATION:Beuningen\, Houtduiflaan 3\, Beuningen\, Gelderland\, 6641 ZN\, Nederland
CATEGORIES:Inhaalles Baby/Peuter zwemmen
END:VEVENT
BEGIN:VEVENT
DTSTART;TZID=Europe/Amsterdam:20260304T093000
DTEND;TZID=Europe/Amsterdam:20260304T101500
DTSTAMP:20260421T180931
CREATED:20250912T093036Z
LAST-MODIFIED:20250912T093036Z
UID:10018526-1772616600-1772619300@www.zwembaddeplons.nl
SUMMARY:Baby woe 09.30u Nicol
DESCRIPTION:Klik op de dag en tijd om te kijken hoeveel plaatsen er nog beschikbaar zijn en vervolgens in te schrijven. \nMocht uw kind alsnog niet aanwezig zijn op de inhaalles?\nGeef dit dan vroegtijdig aan ons door via de uitschrijflink of de mail\, dan kunnen wij de inhaalles vrijgeven voor een ander kind.
URL:https://www.zwembaddeplons.nl/event/baby-woe-09-30u-nicol-2/2026-03-04/
LOCATION:Beuningen\, Houtduiflaan 3\, Beuningen\, Gelderland\, 6641 ZN\, Nederland
CATEGORIES:Inhaalles Baby/Peuter zwemmen
END:VEVENT
BEGIN:VEVENT
DTSTART;TZID=Europe/Amsterdam:20260304T101500
DTEND;TZID=Europe/Amsterdam:20260304T110000
DTSTAMP:20260421T180931
CREATED:20250912T092416Z
LAST-MODIFIED:20250912T094605Z
UID:10018450-1772619300-1772622000@www.zwembaddeplons.nl
SUMMARY:Peuter woe 10.15u Nicol
DESCRIPTION:Klik op de dag en tijd om te kijken hoeveel plaatsen er nog beschikbaar zijn en vervolgens in te schrijven. \nMocht uw kind alsnog niet aanwezig zijn op de inhaalles?\nGeef dit dan vroegtijdig aan ons door via de uitschrijflink of de mail\, dan kunnen wij de inhaalles vrijgeven voor een ander kind.
URL:https://www.zwembaddeplons.nl/event/peuter-woe-10-15u-nicol/2026-03-04/
LOCATION:Beuningen\, Houtduiflaan 3\, Beuningen\, Gelderland\, 6641 ZN\, Nederland
CATEGORIES:Inhaalles Baby/Peuter zwemmen
END:VEVENT
BEGIN:VEVENT
DTSTART;TZID=Europe/Amsterdam:20260304T143000
DTEND;TZID=Europe/Amsterdam:20260304T153000
DTSTAMP:20260421T180931
CREATED:20260102T125247Z
LAST-MODIFIED:20260102T125247Z
UID:10019812-1772634600-1772638200@www.zwembaddeplons.nl
SUMMARY:Wo 14:30u niveau 2 Jory (v)
DESCRIPTION:Klik op de dag en tijd om te kijken hoeveel plaatsen er nog beschikbaar zijn en vervolgens in te schrijven. \n* Kinderen die met het verkeerde niveau zijn ingeschreven\, worden niet tot de les toegelaten.
URL:https://www.zwembaddeplons.nl/event/wo-1430u-niveau-2-jory-v/2026-03-04/
LOCATION:Beuningen\, Houtduiflaan 3\, Beuningen\, Gelderland\, 6641 ZN\, Nederland
CATEGORIES:Inhaalles
END:VEVENT
BEGIN:VEVENT
DTSTART;TZID=Europe/Amsterdam:20260304T143000
DTEND;TZID=Europe/Amsterdam:20260304T153000
DTSTAMP:20260421T180931
CREATED:20260102T125518Z
LAST-MODIFIED:20260102T125518Z
UID:10019836-1772634600-1772638200@www.zwembaddeplons.nl
SUMMARY:Wo 14:30u niveau 5 Tamara (v)
DESCRIPTION:Klik op de dag en tijd om te kijken hoeveel plaatsen er nog beschikbaar zijn en vervolgens in te schrijven. \n* Kinderen die met het verkeerde niveau zijn ingeschreven\, worden niet tot de les toegelaten.
URL:https://www.zwembaddeplons.nl/event/wo-1430u-niveau-5-tamara-v-2/2026-03-04/
LOCATION:Beuningen\, Houtduiflaan 3\, Beuningen\, Gelderland\, 6641 ZN\, Nederland
CATEGORIES:Inhaalles
END:VEVENT
BEGIN:VEVENT
DTSTART;TZID=Europe/Amsterdam:20260304T143000
DTEND;TZID=Europe/Amsterdam:20260304T170000
DTSTAMP:20260421T180931
CREATED:20260102T125127Z
LAST-MODIFIED:20260102T125127Z
UID:10019800-1772634600-1772643600@www.zwembaddeplons.nl
SUMMARY:Wo 14:30u niveau 1 Elcke (v)
DESCRIPTION:Klik op de dag en tijd om te kijken hoeveel plaatsen er nog beschikbaar zijn en vervolgens in te schrijven. \n* Kinderen die met het verkeerde niveau zijn ingeschreven\, worden niet tot de les toegelaten.
URL:https://www.zwembaddeplons.nl/event/wo-1430u-niveau-1-elcke-v/2026-03-04/
LOCATION:Beuningen\, Houtduiflaan 3\, Beuningen\, Gelderland\, 6641 ZN\, Nederland
CATEGORIES:Inhaalles
END:VEVENT
END:VCALENDAR