BEGIN:VCALENDAR
VERSION:2.0
PRODID:-//Zwembad de Plons - ECPv6.15.20//NONSGML v1.0//EN
CALSCALE:GREGORIAN
METHOD:PUBLISH
X-WR-CALNAME:Zwembad de Plons
X-ORIGINAL-URL:https://www.zwembaddeplons.nl
X-WR-CALDESC:Evenementen voor Zwembad de Plons
REFRESH-INTERVAL;VALUE=DURATION:PT1H
X-Robots-Tag:noindex
X-PUBLISHED-TTL:PT1H
BEGIN:VTIMEZONE
TZID:Europe/Amsterdam
BEGIN:DAYLIGHT
TZOFFSETFROM:+0100
TZOFFSETTO:+0200
TZNAME:CEST
DTSTART:20240331T010000
END:DAYLIGHT
BEGIN:STANDARD
TZOFFSETFROM:+0200
TZOFFSETTO:+0100
TZNAME:CET
DTSTART:20241027T010000
END:STANDARD
BEGIN:DAYLIGHT
TZOFFSETFROM:+0100
TZOFFSETTO:+0200
TZNAME:CEST
DTSTART:20250330T010000
END:DAYLIGHT
BEGIN:STANDARD
TZOFFSETFROM:+0200
TZOFFSETTO:+0100
TZNAME:CET
DTSTART:20251026T010000
END:STANDARD
BEGIN:DAYLIGHT
TZOFFSETFROM:+0100
TZOFFSETTO:+0200
TZNAME:CEST
DTSTART:20260329T010000
END:DAYLIGHT
BEGIN:STANDARD
TZOFFSETFROM:+0200
TZOFFSETTO:+0100
TZNAME:CET
DTSTART:20261025T010000
END:STANDARD
END:VTIMEZONE
BEGIN:VEVENT
DTSTART;TZID=Europe/Amsterdam:20251001T084500
DTEND;TZID=Europe/Amsterdam:20251001T093000
DTSTAMP:20260421T233711
CREATED:20250912T092846Z
LAST-MODIFIED:20250912T092846Z
UID:10018478-1759308300-1759311000@www.zwembaddeplons.nl
SUMMARY:Baby woe 08.45u Nicol
DESCRIPTION:Klik op de dag en tijd om te kijken hoeveel plaatsen er nog beschikbaar zijn en vervolgens in te schrijven. \nMocht uw kind alsnog niet aanwezig zijn op de inhaalles?\nGeef dit dan vroegtijdig aan ons door via de uitschrijflink of de mail\, dan kunnen wij de inhaalles vrijgeven voor een ander kind.
URL:https://www.zwembaddeplons.nl/event/baby-woe-08-45u-nicol-2/2025-10-01/
LOCATION:Beuningen\, Houtduiflaan 3\, Beuningen\, Gelderland\, 6641 ZN\, Nederland
CATEGORIES:Inhaalles Baby/Peuter zwemmen
END:VEVENT
BEGIN:VEVENT
DTSTART;TZID=Europe/Amsterdam:20251001T093000
DTEND;TZID=Europe/Amsterdam:20251001T101500
DTSTAMP:20260421T233711
CREATED:20250912T093036Z
LAST-MODIFIED:20250912T093036Z
UID:10018504-1759311000-1759313700@www.zwembaddeplons.nl
SUMMARY:Baby woe 09.30u Nicol
DESCRIPTION:Klik op de dag en tijd om te kijken hoeveel plaatsen er nog beschikbaar zijn en vervolgens in te schrijven. \nMocht uw kind alsnog niet aanwezig zijn op de inhaalles?\nGeef dit dan vroegtijdig aan ons door via de uitschrijflink of de mail\, dan kunnen wij de inhaalles vrijgeven voor een ander kind.
URL:https://www.zwembaddeplons.nl/event/baby-woe-09-30u-nicol-2/2025-10-01/
LOCATION:Beuningen\, Houtduiflaan 3\, Beuningen\, Gelderland\, 6641 ZN\, Nederland
CATEGORIES:Inhaalles Baby/Peuter zwemmen
END:VEVENT
BEGIN:VEVENT
DTSTART;TZID=Europe/Amsterdam:20251001T101500
DTEND;TZID=Europe/Amsterdam:20251001T110000
DTSTAMP:20260421T233711
CREATED:20250912T092416Z
LAST-MODIFIED:20250912T094605Z
UID:10018428-1759313700-1759316400@www.zwembaddeplons.nl
SUMMARY:Peuter woe 10.15u Nicol
DESCRIPTION:Klik op de dag en tijd om te kijken hoeveel plaatsen er nog beschikbaar zijn en vervolgens in te schrijven. \nMocht uw kind alsnog niet aanwezig zijn op de inhaalles?\nGeef dit dan vroegtijdig aan ons door via de uitschrijflink of de mail\, dan kunnen wij de inhaalles vrijgeven voor een ander kind.
URL:https://www.zwembaddeplons.nl/event/peuter-woe-10-15u-nicol/2025-10-01/
LOCATION:Beuningen\, Houtduiflaan 3\, Beuningen\, Gelderland\, 6641 ZN\, Nederland
CATEGORIES:Inhaalles Baby/Peuter zwemmen
END:VEVENT
BEGIN:VEVENT
DTSTART;TZID=Europe/Amsterdam:20251002T091500
DTEND;TZID=Europe/Amsterdam:20251002T100000
DTSTAMP:20260421T233711
CREATED:20250912T093228Z
LAST-MODIFIED:20250912T093228Z
UID:10018530-1759396500-1759399200@www.zwembaddeplons.nl
SUMMARY:Baby don 09.15u Elcke
DESCRIPTION:Klik op de dag en tijd om te kijken hoeveel plaatsen er nog beschikbaar zijn en vervolgens in te schrijven. \nMocht uw kind alsnog niet aanwezig zijn op de inhaalles?\nGeef dit dan vroegtijdig aan ons door via de uitschrijflink of de mail\, dan kunnen wij de inhaalles vrijgeven voor een ander kind.
URL:https://www.zwembaddeplons.nl/event/baby-don-09-15u-elcke/2025-10-02/
LOCATION:Beuningen\, Houtduiflaan 3\, Beuningen\, Gelderland\, 6641 ZN\, Nederland
CATEGORIES:Inhaalles Baby/Peuter zwemmen
END:VEVENT
BEGIN:VEVENT
DTSTART;TZID=Europe/Amsterdam:20251002T101500
DTEND;TZID=Europe/Amsterdam:20251002T110000
DTSTAMP:20260421T233711
CREATED:20250912T093354Z
LAST-MODIFIED:20250912T093354Z
UID:10018554-1759400100-1759402800@www.zwembaddeplons.nl
SUMMARY:Baby don 10.15u Elcke
DESCRIPTION:Klik op de dag en tijd om te kijken hoeveel plaatsen er nog beschikbaar zijn en vervolgens in te schrijven. \nMocht uw kind alsnog niet aanwezig zijn op de inhaalles?\nGeef dit dan vroegtijdig aan ons door via de uitschrijflink of de mail\, dan kunnen wij de inhaalles vrijgeven voor een ander kind.
URL:https://www.zwembaddeplons.nl/event/baby-don-10-15u-elcke/2025-10-02/
LOCATION:Beuningen\, Houtduiflaan 3\, Beuningen\, Gelderland\, 6641 ZN\, Nederland
CATEGORIES:Inhaalles Baby/Peuter zwemmen
END:VEVENT
BEGIN:VEVENT
DTSTART;TZID=Europe/Amsterdam:20251002T110000
DTEND;TZID=Europe/Amsterdam:20251002T114500
DTSTAMP:20260421T233711
CREATED:20250912T092555Z
LAST-MODIFIED:20250912T092555Z
UID:10018454-1759402800-1759405500@www.zwembaddeplons.nl
SUMMARY:Peuter don 11.00u Elcke
DESCRIPTION:Klik op de dag en tijd om te kijken hoeveel plaatsen er nog beschikbaar zijn en vervolgens in te schrijven. \nMocht uw kind alsnog niet aanwezig zijn op de inhaalles?\nGeef dit dan vroegtijdig aan ons door via de uitschrijflink of de mail\, dan kunnen wij de inhaalles vrijgeven voor een ander kind.
URL:https://www.zwembaddeplons.nl/event/peuter-don-11-00u-elcke/2025-10-02/
LOCATION:Beuningen\, Houtduiflaan 3\, Beuningen\, Gelderland\, 6641 ZN\, Nederland
CATEGORIES:Inhaalles Baby/Peuter zwemmen
END:VEVENT
BEGIN:VEVENT
DTSTART;TZID=Europe/Amsterdam:20251003T091500
DTEND;TZID=Europe/Amsterdam:20251003T100000
DTSTAMP:20260421T233711
CREATED:20250912T093521Z
LAST-MODIFIED:20250912T093521Z
UID:10018578-1759482900-1759485600@www.zwembaddeplons.nl
SUMMARY:Baby vrij 09.15u Nicol
DESCRIPTION:Klik op de dag en tijd om te kijken hoeveel plaatsen er nog beschikbaar zijn en vervolgens in te schrijven. \nMocht uw kind alsnog niet aanwezig zijn op de inhaalles?\nGeef dit dan vroegtijdig aan ons door via de uitschrijflink of de mail\, dan kunnen wij de inhaalles vrijgeven voor een ander kind.
URL:https://www.zwembaddeplons.nl/event/baby-vrij-09-15u-nicol/2025-10-03/
LOCATION:Beuningen\, Houtduiflaan 3\, Beuningen\, Gelderland\, 6641 ZN\, Nederland
CATEGORIES:Inhaalles Baby/Peuter zwemmen
END:VEVENT
BEGIN:VEVENT
DTSTART;TZID=Europe/Amsterdam:20251003T100000
DTEND;TZID=Europe/Amsterdam:20251003T104500
DTSTAMP:20260421T233711
CREATED:20250912T093627Z
LAST-MODIFIED:20250912T093627Z
UID:10018603-1759485600-1759488300@www.zwembaddeplons.nl
SUMMARY:Baby vrij 10.00u Nicol
DESCRIPTION:Klik op de dag en tijd om te kijken hoeveel plaatsen er nog beschikbaar zijn en vervolgens in te schrijven. \nMocht uw kind alsnog niet aanwezig zijn op de inhaalles?\nGeef dit dan vroegtijdig aan ons door via de uitschrijflink of de mail\, dan kunnen wij de inhaalles vrijgeven voor een ander kind.
URL:https://www.zwembaddeplons.nl/event/baby-vrij-10-00u-nicol/2025-10-03/
LOCATION:Beuningen\, Houtduiflaan 3\, Beuningen\, Gelderland\, 6641 ZN\, Nederland
CATEGORIES:Inhaalles Baby/Peuter zwemmen
END:VEVENT
BEGIN:VEVENT
DTSTART;TZID=Europe/Amsterdam:20251003T104500
DTEND;TZID=Europe/Amsterdam:20251003T113000
DTSTAMP:20260421T233711
CREATED:20250912T092225Z
LAST-MODIFIED:20250912T092225Z
UID:10018403-1759488300-1759491000@www.zwembaddeplons.nl
SUMMARY:Peuter vrij 10.45u Nicol
DESCRIPTION:Klik op de dag en tijd om te kijken hoeveel plaatsen er nog beschikbaar zijn en vervolgens in te schrijven. \nMocht uw kind alsnog niet aanwezig zijn op de inhaalles?\nGeef dit dan vroegtijdig aan ons door via de uitschrijflink of de mail\, dan kunnen wij de inhaalles vrijgeven voor een ander kind.
URL:https://www.zwembaddeplons.nl/event/peuter-vrij-10-45u-nicol/2025-10-03/
LOCATION:Beuningen\, Houtduiflaan 3\, Beuningen\, Gelderland\, 6641 ZN\, Nederland
CATEGORIES:Inhaalles Baby/Peuter zwemmen
END:VEVENT
BEGIN:VEVENT
DTSTART;TZID=Europe/Amsterdam:20251004T080000
DTEND;TZID=Europe/Amsterdam:20251004T084500
DTSTAMP:20260421T233711
CREATED:20250912T093800Z
LAST-MODIFIED:20250912T093800Z
UID:10018628-1759564800-1759567500@www.zwembaddeplons.nl
SUMMARY:Baby zat 08.00u Desiree
DESCRIPTION:Klik op de dag en tijd om te kijken hoeveel plaatsen er nog beschikbaar zijn en vervolgens in te schrijven. \nMocht uw kind alsnog niet aanwezig zijn op de inhaalles?\nGeef dit dan vroegtijdig aan ons door via de uitschrijflink of de mail\, dan kunnen wij de inhaalles vrijgeven voor een ander kind.
URL:https://www.zwembaddeplons.nl/event/baby-zat-08-00u-desiree-2/2025-10-04/
LOCATION:Beuningen\, Houtduiflaan 3\, Beuningen\, Gelderland\, 6641 ZN\, Nederland
CATEGORIES:Inhaalles Baby/Peuter zwemmen
END:VEVENT
BEGIN:VEVENT
DTSTART;TZID=Europe/Amsterdam:20251004T084500
DTEND;TZID=Europe/Amsterdam:20251004T093000
DTSTAMP:20260421T233711
CREATED:20250912T093901Z
LAST-MODIFIED:20250912T093901Z
UID:10018654-1759567500-1759570200@www.zwembaddeplons.nl
SUMMARY:Baby zat 08.45u Desiree
DESCRIPTION:Klik op de dag en tijd om te kijken hoeveel plaatsen er nog beschikbaar zijn en vervolgens in te schrijven. \nMocht uw kind alsnog niet aanwezig zijn op de inhaalles?\nGeef dit dan vroegtijdig aan ons door via de uitschrijflink of de mail\, dan kunnen wij de inhaalles vrijgeven voor een ander kind.
URL:https://www.zwembaddeplons.nl/event/baby-zat-08-45u-desiree-2/2025-10-04/
LOCATION:Beuningen\, Houtduiflaan 3\, Beuningen\, Gelderland\, 6641 ZN\, Nederland
CATEGORIES:Inhaalles Baby/Peuter zwemmen
END:VEVENT
BEGIN:VEVENT
DTSTART;TZID=Europe/Amsterdam:20251005T081500
DTEND;TZID=Europe/Amsterdam:20251005T090000
DTSTAMP:20260421T233711
CREATED:20250912T094040Z
LAST-MODIFIED:20250912T094040Z
UID:10018680-1759652100-1759654800@www.zwembaddeplons.nl
SUMMARY:Baby zon 08.15u Jory
DESCRIPTION:Klik op de dag en tijd om te kijken hoeveel plaatsen er nog beschikbaar zijn en vervolgens in te schrijven. \nMocht uw kind alsnog niet aanwezig zijn op de inhaalles?\nGeef dit dan vroegtijdig aan ons door via de uitschrijflink of de mail\, dan kunnen wij de inhaalles vrijgeven voor een ander kind.
URL:https://www.zwembaddeplons.nl/event/baby-zon-08-15u-jory/2025-10-05/
LOCATION:Beuningen\, Houtduiflaan 3\, Beuningen\, Gelderland\, 6641 ZN\, Nederland
CATEGORIES:Inhaalles Baby/Peuter zwemmen
END:VEVENT
BEGIN:VEVENT
DTSTART;TZID=Europe/Amsterdam:20251005T090000
DTEND;TZID=Europe/Amsterdam:20251005T094500
DTSTAMP:20260421T233711
CREATED:20250912T092045Z
LAST-MODIFIED:20250912T092045Z
UID:10018378-1759654800-1759657500@www.zwembaddeplons.nl
SUMMARY:Peuter zon 09.00u Jory
DESCRIPTION:Klik op de dag en tijd om te kijken hoeveel plaatsen er nog beschikbaar zijn en vervolgens in te schrijven. \nMocht uw kind alsnog niet aanwezig zijn op de inhaalles?\nGeef dit dan vroegtijdig aan ons door via de uitschrijflink of de mail\, dan kunnen wij de inhaalles vrijgeven voor een ander kind.
URL:https://www.zwembaddeplons.nl/event/peuter-zon-09-00u-jory/2025-10-05/
LOCATION:Beuningen\, Houtduiflaan 3\, Beuningen\, Gelderland\, 6641 ZN\, Nederland
CATEGORIES:Inhaalles Baby/Peuter zwemmen
END:VEVENT
BEGIN:VEVENT
DTSTART;TZID=Europe/Amsterdam:20251005T094500
DTEND;TZID=Europe/Amsterdam:20251005T103000
DTSTAMP:20260421T233711
CREATED:20250912T094203Z
LAST-MODIFIED:20250912T094203Z
UID:10018705-1759657500-1759660200@www.zwembaddeplons.nl
SUMMARY:Baby zon 09.45u Jory
DESCRIPTION:Klik op de dag en tijd om te kijken hoeveel plaatsen er nog beschikbaar zijn en vervolgens in te schrijven. \nMocht uw kind alsnog niet aanwezig zijn op de inhaalles?\nGeef dit dan vroegtijdig aan ons door via de uitschrijflink of de mail\, dan kunnen wij de inhaalles vrijgeven voor een ander kind.
URL:https://www.zwembaddeplons.nl/event/baby-zon-09-45u-jory/2025-10-05/
LOCATION:Beuningen\, Houtduiflaan 3\, Beuningen\, Gelderland\, 6641 ZN\, Nederland
CATEGORIES:Inhaalles Baby/Peuter zwemmen
END:VEVENT
BEGIN:VEVENT
DTSTART;TZID=Europe/Amsterdam:20251005T103000
DTEND;TZID=Europe/Amsterdam:20251005T111500
DTSTAMP:20260421T233711
CREATED:20250912T094309Z
LAST-MODIFIED:20250912T094309Z
UID:10018730-1759660200-1759662900@www.zwembaddeplons.nl
SUMMARY:Baby zon 10.30u Jory
DESCRIPTION:Klik op de dag en tijd om te kijken hoeveel plaatsen er nog beschikbaar zijn en vervolgens in te schrijven. \nMocht uw kind alsnog niet aanwezig zijn op de inhaalles?\nGeef dit dan vroegtijdig aan ons door via de uitschrijflink of de mail\, dan kunnen wij de inhaalles vrijgeven voor een ander kind.
URL:https://www.zwembaddeplons.nl/event/baby-zon-10-30u-jory/2025-10-05/
LOCATION:Beuningen\, Houtduiflaan 3\, Beuningen\, Gelderland\, 6641 ZN\, Nederland
CATEGORIES:Inhaalles Baby/Peuter zwemmen
END:VEVENT
BEGIN:VEVENT
DTSTART;TZID=Europe/Amsterdam:20251005T111200
DTEND;TZID=Europe/Amsterdam:20251005T120000
DTSTAMP:20260421T233711
CREATED:20250912T091634Z
LAST-MODIFIED:20250912T091634Z
UID:10018353-1759662720-1759665600@www.zwembaddeplons.nl
SUMMARY:Peuter zon 11.15u Jory
DESCRIPTION:Klik op de dag en tijd om te kijken hoeveel plaatsen er nog beschikbaar zijn en vervolgens in te schrijven. \nMocht uw kind alsnog niet aanwezig zijn op de inhaalles?\nGeef dit dan vroegtijdig aan ons door via de uitschrijflink of de mail\, dan kunnen wij de inhaalles vrijgeven voor een ander kind.
URL:https://www.zwembaddeplons.nl/event/peuter-zon-11-15u-jory/2025-10-05/
LOCATION:Beuningen\, Houtduiflaan 3\, Beuningen\, Gelderland\, 6641 ZN\, Nederland
CATEGORIES:Inhaalles Baby/Peuter zwemmen
END:VEVENT
BEGIN:VEVENT
DTSTART;TZID=Europe/Amsterdam:20251008T084500
DTEND;TZID=Europe/Amsterdam:20251008T093000
DTSTAMP:20260421T233711
CREATED:20250912T092846Z
LAST-MODIFIED:20250912T092846Z
UID:10018479-1759913100-1759915800@www.zwembaddeplons.nl
SUMMARY:Baby woe 08.45u Nicol
DESCRIPTION:Klik op de dag en tijd om te kijken hoeveel plaatsen er nog beschikbaar zijn en vervolgens in te schrijven. \nMocht uw kind alsnog niet aanwezig zijn op de inhaalles?\nGeef dit dan vroegtijdig aan ons door via de uitschrijflink of de mail\, dan kunnen wij de inhaalles vrijgeven voor een ander kind.
URL:https://www.zwembaddeplons.nl/event/baby-woe-08-45u-nicol-2/2025-10-08/
LOCATION:Beuningen\, Houtduiflaan 3\, Beuningen\, Gelderland\, 6641 ZN\, Nederland
CATEGORIES:Inhaalles Baby/Peuter zwemmen
END:VEVENT
BEGIN:VEVENT
DTSTART;TZID=Europe/Amsterdam:20251008T093000
DTEND;TZID=Europe/Amsterdam:20251008T101500
DTSTAMP:20260421T233711
CREATED:20250912T093036Z
LAST-MODIFIED:20250912T093036Z
UID:10018505-1759915800-1759918500@www.zwembaddeplons.nl
SUMMARY:Baby woe 09.30u Nicol
DESCRIPTION:Klik op de dag en tijd om te kijken hoeveel plaatsen er nog beschikbaar zijn en vervolgens in te schrijven. \nMocht uw kind alsnog niet aanwezig zijn op de inhaalles?\nGeef dit dan vroegtijdig aan ons door via de uitschrijflink of de mail\, dan kunnen wij de inhaalles vrijgeven voor een ander kind.
URL:https://www.zwembaddeplons.nl/event/baby-woe-09-30u-nicol-2/2025-10-08/
LOCATION:Beuningen\, Houtduiflaan 3\, Beuningen\, Gelderland\, 6641 ZN\, Nederland
CATEGORIES:Inhaalles Baby/Peuter zwemmen
END:VEVENT
BEGIN:VEVENT
DTSTART;TZID=Europe/Amsterdam:20251008T101500
DTEND;TZID=Europe/Amsterdam:20251008T110000
DTSTAMP:20260421T233711
CREATED:20250912T092416Z
LAST-MODIFIED:20250912T094605Z
UID:10018429-1759918500-1759921200@www.zwembaddeplons.nl
SUMMARY:Peuter woe 10.15u Nicol
DESCRIPTION:Klik op de dag en tijd om te kijken hoeveel plaatsen er nog beschikbaar zijn en vervolgens in te schrijven. \nMocht uw kind alsnog niet aanwezig zijn op de inhaalles?\nGeef dit dan vroegtijdig aan ons door via de uitschrijflink of de mail\, dan kunnen wij de inhaalles vrijgeven voor een ander kind.
URL:https://www.zwembaddeplons.nl/event/peuter-woe-10-15u-nicol/2025-10-08/
LOCATION:Beuningen\, Houtduiflaan 3\, Beuningen\, Gelderland\, 6641 ZN\, Nederland
CATEGORIES:Inhaalles Baby/Peuter zwemmen
END:VEVENT
BEGIN:VEVENT
DTSTART;TZID=Europe/Amsterdam:20251009T091500
DTEND;TZID=Europe/Amsterdam:20251009T100000
DTSTAMP:20260421T233711
CREATED:20250912T093228Z
LAST-MODIFIED:20250912T093228Z
UID:10018531-1760001300-1760004000@www.zwembaddeplons.nl
SUMMARY:Baby don 09.15u Elcke
DESCRIPTION:Klik op de dag en tijd om te kijken hoeveel plaatsen er nog beschikbaar zijn en vervolgens in te schrijven. \nMocht uw kind alsnog niet aanwezig zijn op de inhaalles?\nGeef dit dan vroegtijdig aan ons door via de uitschrijflink of de mail\, dan kunnen wij de inhaalles vrijgeven voor een ander kind.
URL:https://www.zwembaddeplons.nl/event/baby-don-09-15u-elcke/2025-10-09/
LOCATION:Beuningen\, Houtduiflaan 3\, Beuningen\, Gelderland\, 6641 ZN\, Nederland
CATEGORIES:Inhaalles Baby/Peuter zwemmen
END:VEVENT
BEGIN:VEVENT
DTSTART;TZID=Europe/Amsterdam:20251009T101500
DTEND;TZID=Europe/Amsterdam:20251009T110000
DTSTAMP:20260421T233711
CREATED:20250912T093354Z
LAST-MODIFIED:20250912T093354Z
UID:10018555-1760004900-1760007600@www.zwembaddeplons.nl
SUMMARY:Baby don 10.15u Elcke
DESCRIPTION:Klik op de dag en tijd om te kijken hoeveel plaatsen er nog beschikbaar zijn en vervolgens in te schrijven. \nMocht uw kind alsnog niet aanwezig zijn op de inhaalles?\nGeef dit dan vroegtijdig aan ons door via de uitschrijflink of de mail\, dan kunnen wij de inhaalles vrijgeven voor een ander kind.
URL:https://www.zwembaddeplons.nl/event/baby-don-10-15u-elcke/2025-10-09/
LOCATION:Beuningen\, Houtduiflaan 3\, Beuningen\, Gelderland\, 6641 ZN\, Nederland
CATEGORIES:Inhaalles Baby/Peuter zwemmen
END:VEVENT
BEGIN:VEVENT
DTSTART;TZID=Europe/Amsterdam:20251009T110000
DTEND;TZID=Europe/Amsterdam:20251009T114500
DTSTAMP:20260421T233711
CREATED:20250912T092555Z
LAST-MODIFIED:20250912T092555Z
UID:10018455-1760007600-1760010300@www.zwembaddeplons.nl
SUMMARY:Peuter don 11.00u Elcke
DESCRIPTION:Klik op de dag en tijd om te kijken hoeveel plaatsen er nog beschikbaar zijn en vervolgens in te schrijven. \nMocht uw kind alsnog niet aanwezig zijn op de inhaalles?\nGeef dit dan vroegtijdig aan ons door via de uitschrijflink of de mail\, dan kunnen wij de inhaalles vrijgeven voor een ander kind.
URL:https://www.zwembaddeplons.nl/event/peuter-don-11-00u-elcke/2025-10-09/
LOCATION:Beuningen\, Houtduiflaan 3\, Beuningen\, Gelderland\, 6641 ZN\, Nederland
CATEGORIES:Inhaalles Baby/Peuter zwemmen
END:VEVENT
BEGIN:VEVENT
DTSTART;TZID=Europe/Amsterdam:20251010T091500
DTEND;TZID=Europe/Amsterdam:20251010T100000
DTSTAMP:20260421T233711
CREATED:20250912T093521Z
LAST-MODIFIED:20250912T093521Z
UID:10018579-1760087700-1760090400@www.zwembaddeplons.nl
SUMMARY:Baby vrij 09.15u Nicol
DESCRIPTION:Klik op de dag en tijd om te kijken hoeveel plaatsen er nog beschikbaar zijn en vervolgens in te schrijven. \nMocht uw kind alsnog niet aanwezig zijn op de inhaalles?\nGeef dit dan vroegtijdig aan ons door via de uitschrijflink of de mail\, dan kunnen wij de inhaalles vrijgeven voor een ander kind.
URL:https://www.zwembaddeplons.nl/event/baby-vrij-09-15u-nicol/2025-10-10/
LOCATION:Beuningen\, Houtduiflaan 3\, Beuningen\, Gelderland\, 6641 ZN\, Nederland
CATEGORIES:Inhaalles Baby/Peuter zwemmen
END:VEVENT
BEGIN:VEVENT
DTSTART;TZID=Europe/Amsterdam:20251010T100000
DTEND;TZID=Europe/Amsterdam:20251010T104500
DTSTAMP:20260421T233711
CREATED:20250912T093627Z
LAST-MODIFIED:20250912T093627Z
UID:10018604-1760090400-1760093100@www.zwembaddeplons.nl
SUMMARY:Baby vrij 10.00u Nicol
DESCRIPTION:Klik op de dag en tijd om te kijken hoeveel plaatsen er nog beschikbaar zijn en vervolgens in te schrijven. \nMocht uw kind alsnog niet aanwezig zijn op de inhaalles?\nGeef dit dan vroegtijdig aan ons door via de uitschrijflink of de mail\, dan kunnen wij de inhaalles vrijgeven voor een ander kind.
URL:https://www.zwembaddeplons.nl/event/baby-vrij-10-00u-nicol/2025-10-10/
LOCATION:Beuningen\, Houtduiflaan 3\, Beuningen\, Gelderland\, 6641 ZN\, Nederland
CATEGORIES:Inhaalles Baby/Peuter zwemmen
END:VEVENT
BEGIN:VEVENT
DTSTART;TZID=Europe/Amsterdam:20251010T104500
DTEND;TZID=Europe/Amsterdam:20251010T113000
DTSTAMP:20260421T233711
CREATED:20250912T092225Z
LAST-MODIFIED:20250912T092225Z
UID:10018404-1760093100-1760095800@www.zwembaddeplons.nl
SUMMARY:Peuter vrij 10.45u Nicol
DESCRIPTION:Klik op de dag en tijd om te kijken hoeveel plaatsen er nog beschikbaar zijn en vervolgens in te schrijven. \nMocht uw kind alsnog niet aanwezig zijn op de inhaalles?\nGeef dit dan vroegtijdig aan ons door via de uitschrijflink of de mail\, dan kunnen wij de inhaalles vrijgeven voor een ander kind.
URL:https://www.zwembaddeplons.nl/event/peuter-vrij-10-45u-nicol/2025-10-10/
LOCATION:Beuningen\, Houtduiflaan 3\, Beuningen\, Gelderland\, 6641 ZN\, Nederland
CATEGORIES:Inhaalles Baby/Peuter zwemmen
END:VEVENT
BEGIN:VEVENT
DTSTART;TZID=Europe/Amsterdam:20251011T080000
DTEND;TZID=Europe/Amsterdam:20251011T084500
DTSTAMP:20260421T233711
CREATED:20250912T093800Z
LAST-MODIFIED:20250912T093800Z
UID:10018629-1760169600-1760172300@www.zwembaddeplons.nl
SUMMARY:Baby zat 08.00u Desiree
DESCRIPTION:Klik op de dag en tijd om te kijken hoeveel plaatsen er nog beschikbaar zijn en vervolgens in te schrijven. \nMocht uw kind alsnog niet aanwezig zijn op de inhaalles?\nGeef dit dan vroegtijdig aan ons door via de uitschrijflink of de mail\, dan kunnen wij de inhaalles vrijgeven voor een ander kind.
URL:https://www.zwembaddeplons.nl/event/baby-zat-08-00u-desiree-2/2025-10-11/
LOCATION:Beuningen\, Houtduiflaan 3\, Beuningen\, Gelderland\, 6641 ZN\, Nederland
CATEGORIES:Inhaalles Baby/Peuter zwemmen
END:VEVENT
BEGIN:VEVENT
DTSTART;TZID=Europe/Amsterdam:20251011T084500
DTEND;TZID=Europe/Amsterdam:20251011T093000
DTSTAMP:20260421T233711
CREATED:20250912T093901Z
LAST-MODIFIED:20250912T093901Z
UID:10018655-1760172300-1760175000@www.zwembaddeplons.nl
SUMMARY:Baby zat 08.45u Desiree
DESCRIPTION:Klik op de dag en tijd om te kijken hoeveel plaatsen er nog beschikbaar zijn en vervolgens in te schrijven. \nMocht uw kind alsnog niet aanwezig zijn op de inhaalles?\nGeef dit dan vroegtijdig aan ons door via de uitschrijflink of de mail\, dan kunnen wij de inhaalles vrijgeven voor een ander kind.
URL:https://www.zwembaddeplons.nl/event/baby-zat-08-45u-desiree-2/2025-10-11/
LOCATION:Beuningen\, Houtduiflaan 3\, Beuningen\, Gelderland\, 6641 ZN\, Nederland
CATEGORIES:Inhaalles Baby/Peuter zwemmen
END:VEVENT
BEGIN:VEVENT
DTSTART;TZID=Europe/Amsterdam:20251012T081500
DTEND;TZID=Europe/Amsterdam:20251012T090000
DTSTAMP:20260421T233711
CREATED:20250912T094040Z
LAST-MODIFIED:20250912T094040Z
UID:10018681-1760256900-1760259600@www.zwembaddeplons.nl
SUMMARY:Baby zon 08.15u Jory
DESCRIPTION:Klik op de dag en tijd om te kijken hoeveel plaatsen er nog beschikbaar zijn en vervolgens in te schrijven. \nMocht uw kind alsnog niet aanwezig zijn op de inhaalles?\nGeef dit dan vroegtijdig aan ons door via de uitschrijflink of de mail\, dan kunnen wij de inhaalles vrijgeven voor een ander kind.
URL:https://www.zwembaddeplons.nl/event/baby-zon-08-15u-jory/2025-10-12/
LOCATION:Beuningen\, Houtduiflaan 3\, Beuningen\, Gelderland\, 6641 ZN\, Nederland
CATEGORIES:Inhaalles Baby/Peuter zwemmen
END:VEVENT
BEGIN:VEVENT
DTSTART;TZID=Europe/Amsterdam:20251012T090000
DTEND;TZID=Europe/Amsterdam:20251012T094500
DTSTAMP:20260421T233711
CREATED:20250912T092045Z
LAST-MODIFIED:20250912T092045Z
UID:10018379-1760259600-1760262300@www.zwembaddeplons.nl
SUMMARY:Peuter zon 09.00u Jory
DESCRIPTION:Klik op de dag en tijd om te kijken hoeveel plaatsen er nog beschikbaar zijn en vervolgens in te schrijven. \nMocht uw kind alsnog niet aanwezig zijn op de inhaalles?\nGeef dit dan vroegtijdig aan ons door via de uitschrijflink of de mail\, dan kunnen wij de inhaalles vrijgeven voor een ander kind.
URL:https://www.zwembaddeplons.nl/event/peuter-zon-09-00u-jory/2025-10-12/
LOCATION:Beuningen\, Houtduiflaan 3\, Beuningen\, Gelderland\, 6641 ZN\, Nederland
CATEGORIES:Inhaalles Baby/Peuter zwemmen
END:VEVENT
BEGIN:VEVENT
DTSTART;TZID=Europe/Amsterdam:20251012T094500
DTEND;TZID=Europe/Amsterdam:20251012T103000
DTSTAMP:20260421T233711
CREATED:20250912T094203Z
LAST-MODIFIED:20250912T094203Z
UID:10018706-1760262300-1760265000@www.zwembaddeplons.nl
SUMMARY:Baby zon 09.45u Jory
DESCRIPTION:Klik op de dag en tijd om te kijken hoeveel plaatsen er nog beschikbaar zijn en vervolgens in te schrijven. \nMocht uw kind alsnog niet aanwezig zijn op de inhaalles?\nGeef dit dan vroegtijdig aan ons door via de uitschrijflink of de mail\, dan kunnen wij de inhaalles vrijgeven voor een ander kind.
URL:https://www.zwembaddeplons.nl/event/baby-zon-09-45u-jory/2025-10-12/
LOCATION:Beuningen\, Houtduiflaan 3\, Beuningen\, Gelderland\, 6641 ZN\, Nederland
CATEGORIES:Inhaalles Baby/Peuter zwemmen
END:VEVENT
END:VCALENDAR