BEGIN:VCALENDAR
VERSION:2.0
PRODID:-//Zwembad de Plons - ECPv6.15.20//NONSGML v1.0//EN
CALSCALE:GREGORIAN
METHOD:PUBLISH
X-WR-CALNAME:Zwembad de Plons
X-ORIGINAL-URL:https://www.zwembaddeplons.nl
X-WR-CALDESC:Evenementen voor Zwembad de Plons
REFRESH-INTERVAL;VALUE=DURATION:PT1H
X-Robots-Tag:noindex
X-PUBLISHED-TTL:PT1H
BEGIN:VTIMEZONE
TZID:Europe/Amsterdam
BEGIN:DAYLIGHT
TZOFFSETFROM:+0100
TZOFFSETTO:+0200
TZNAME:CEST
DTSTART:20250330T010000
END:DAYLIGHT
BEGIN:STANDARD
TZOFFSETFROM:+0200
TZOFFSETTO:+0100
TZNAME:CET
DTSTART:20251026T010000
END:STANDARD
BEGIN:DAYLIGHT
TZOFFSETFROM:+0100
TZOFFSETTO:+0200
TZNAME:CEST
DTSTART:20260329T010000
END:DAYLIGHT
BEGIN:STANDARD
TZOFFSETFROM:+0200
TZOFFSETTO:+0100
TZNAME:CET
DTSTART:20261025T010000
END:STANDARD
BEGIN:DAYLIGHT
TZOFFSETFROM:+0100
TZOFFSETTO:+0200
TZNAME:CEST
DTSTART:20270328T010000
END:DAYLIGHT
BEGIN:STANDARD
TZOFFSETFROM:+0200
TZOFFSETTO:+0100
TZNAME:CET
DTSTART:20271031T010000
END:STANDARD
END:VTIMEZONE
BEGIN:VEVENT
DTSTART;TZID=Europe/Amsterdam:20260330T161500
DTEND;TZID=Europe/Amsterdam:20260330T171500
DTSTAMP:20260422T034433
CREATED:20260323T180036Z
LAST-MODIFIED:20260323T092337Z
UID:10020290-1774887300-1774890900@www.zwembaddeplons.nl
SUMMARY:Ma 16:15u - 17:15u: Desiree (V)
DESCRIPTION:Klik op de dag en tijd om te kijken of er nog plaatsen beschikbaar zijn en vervolgens in te schrijven. \nMocht er geen geschikte dag of tijd voor u beschikbaar zijn\, neem dan NU telefonisch contact met ons op. \nTel: 024-6771987.
URL:https://www.zwembaddeplons.nl/event/ma-1615u-1715u-desiree-v/
LOCATION:Beuningen\, Houtduiflaan 3\, Beuningen\, Gelderland\, 6641 ZN\, Nederland
CATEGORIES:inschrijving zwemles opleiding A
END:VEVENT
BEGIN:VEVENT
DTSTART;TZID=Europe/Amsterdam:20260330T171500
DTEND;TZID=Europe/Amsterdam:20260330T181500
DTSTAMP:20260422T034433
CREATED:20260323T180034Z
LAST-MODIFIED:20260323T170941Z
UID:10020291-1774890900-1774894500@www.zwembaddeplons.nl
SUMMARY:Ma 17:15u - 18:15u: Desiree (V)
DESCRIPTION:Klik op de dag en tijd om te kijken of er nog plaatsen beschikbaar zijn en vervolgens in te schrijven. \nMocht er geen geschikte dag of tijd voor u beschikbaar zijn\, neem dan NU telefonisch contact met ons op. \nTel: 024-6771987.
URL:https://www.zwembaddeplons.nl/event/ma-1715u-1815u-desiree-v/
LOCATION:Beuningen\, Houtduiflaan 3\, Beuningen\, Gelderland\, 6641 ZN\, Nederland
CATEGORIES:inschrijving zwemles opleiding A
END:VEVENT
BEGIN:VEVENT
DTSTART;TZID=Europe/Amsterdam:20260330T181500
DTEND;TZID=Europe/Amsterdam:20260330T191500
DTSTAMP:20260422T034433
CREATED:20260323T180030Z
LAST-MODIFIED:20260323T092503Z
UID:10020292-1774894500-1774898100@www.zwembaddeplons.nl
SUMMARY:Ma 18:15u - 19:15u: Tamara (V)
DESCRIPTION:Klik op de dag en tijd om te kijken of er nog plaatsen beschikbaar zijn en vervolgens in te schrijven. \nMocht er geen geschikte dag of tijd voor u beschikbaar zijn\, neem dan NU telefonisch contact met ons op. \nTel: 024-6771987.
URL:https://www.zwembaddeplons.nl/event/ma-1815u-1915u-tamara-v/
LOCATION:Beuningen\, Houtduiflaan 3\, Beuningen\, Gelderland\, 6641 ZN\, Nederland
CATEGORIES:inschrijving zwemles opleiding A
END:VEVENT
BEGIN:VEVENT
DTSTART;TZID=Europe/Amsterdam:20260331T151500
DTEND;TZID=Europe/Amsterdam:20260331T161500
DTSTAMP:20260422T034433
CREATED:20260323T180059Z
LAST-MODIFIED:20260323T102739Z
UID:10020288-1774970100-1774973700@www.zwembaddeplons.nl
SUMMARY:Di 15:15u - 16:15u: Guido (M)
DESCRIPTION:Klik op de dag en tijd om te kijken of er nog plaatsen beschikbaar zijn en vervolgens in te schrijven. \nMocht er geen geschikte dag of tijd voor u beschikbaar zijn\, neem dan NU telefonisch contact met ons op. \nTel: 024-6771987.
URL:https://www.zwembaddeplons.nl/event/di-1515u-1615u-guido-m/
LOCATION:Beuningen\, Houtduiflaan 3\, Beuningen\, Gelderland\, 6641 ZN\, Nederland
CATEGORIES:inschrijving zwemles opleiding A
END:VEVENT
BEGIN:VEVENT
DTSTART;TZID=Europe/Amsterdam:20260331T161500
DTEND;TZID=Europe/Amsterdam:20260331T171500
DTSTAMP:20260422T034433
CREATED:20260323T180035Z
LAST-MODIFIED:20260323T092621Z
UID:10020289-1774973700-1774977300@www.zwembaddeplons.nl
SUMMARY:Di 16:15u - 17:15u: Desiree (V)
DESCRIPTION:Klik op de dag en tijd om te kijken of er nog plaatsen beschikbaar zijn en vervolgens in te schrijven. \nMocht er geen geschikte dag of tijd voor u beschikbaar zijn\, neem dan NU telefonisch contact met ons op. \nTel: 024-6771987.
URL:https://www.zwembaddeplons.nl/event/di-1615u-1715u-desiree-v/
LOCATION:Beuningen\, Houtduiflaan 3\, Beuningen\, Gelderland\, 6641 ZN\, Nederland
CATEGORIES:inschrijving zwemles opleiding A
END:VEVENT
BEGIN:VEVENT
DTSTART;TZID=Europe/Amsterdam:20260331T171500
DTEND;TZID=Europe/Amsterdam:20260331T181500
DTSTAMP:20260422T034433
CREATED:20260323T180053Z
LAST-MODIFIED:20260323T092901Z
UID:10020632-1774977300-1774980900@www.zwembaddeplons.nl
SUMMARY:Di 17:15u - 18:15u: Brenda (V)
DESCRIPTION:Klik op de dag en tijd om te kijken of er nog plaatsen beschikbaar zijn en vervolgens in te schrijven. \nMocht er geen geschikte dag of tijd voor u beschikbaar zijn\, neem dan NU telefonisch contact met ons op. \nTel: 024-6771987.
URL:https://www.zwembaddeplons.nl/event/di-1715u-1815u-brenda-v/
LOCATION:Beuningen\, Houtduiflaan 3\, Beuningen\, Gelderland\, 6641 ZN\, Nederland
CATEGORIES:inschrijving zwemles opleiding A
END:VEVENT
END:VCALENDAR