BEGIN:VCALENDAR
VERSION:2.0
PRODID:-//Zwembad de Plons - ECPv6.15.20//NONSGML v1.0//EN
CALSCALE:GREGORIAN
METHOD:PUBLISH
X-WR-CALNAME:Zwembad de Plons
X-ORIGINAL-URL:https://www.zwembaddeplons.nl
X-WR-CALDESC:Evenementen voor Zwembad de Plons
REFRESH-INTERVAL;VALUE=DURATION:PT1H
X-Robots-Tag:noindex
X-PUBLISHED-TTL:PT1H
BEGIN:VTIMEZONE
TZID:Europe/Amsterdam
BEGIN:DAYLIGHT
TZOFFSETFROM:+0100
TZOFFSETTO:+0200
TZNAME:CEST
DTSTART:20250330T010000
END:DAYLIGHT
BEGIN:STANDARD
TZOFFSETFROM:+0200
TZOFFSETTO:+0100
TZNAME:CET
DTSTART:20251026T010000
END:STANDARD
BEGIN:DAYLIGHT
TZOFFSETFROM:+0100
TZOFFSETTO:+0200
TZNAME:CEST
DTSTART:20260329T010000
END:DAYLIGHT
BEGIN:STANDARD
TZOFFSETFROM:+0200
TZOFFSETTO:+0100
TZNAME:CET
DTSTART:20261025T010000
END:STANDARD
BEGIN:DAYLIGHT
TZOFFSETFROM:+0100
TZOFFSETTO:+0200
TZNAME:CEST
DTSTART:20270328T010000
END:DAYLIGHT
BEGIN:STANDARD
TZOFFSETFROM:+0200
TZOFFSETTO:+0100
TZNAME:CET
DTSTART:20271031T010000
END:STANDARD
END:VTIMEZONE
BEGIN:VEVENT
DTSTART;TZID=Europe/Amsterdam:20260422T143000
DTEND;TZID=Europe/Amsterdam:20260422T153000
DTSTAMP:20260422T042057
CREATED:20260403T142628Z
LAST-MODIFIED:20260403T142628Z
UID:10020901-1776868200-1776871800@www.zwembaddeplons.nl
SUMMARY:Wo 14:30u niveau 2 Tamara (v)
DESCRIPTION:Klik op de dag en tijd om te kijken hoeveel plaatsen er nog beschikbaar zijn en vervolgens in te schrijven. \n* Kinderen die met het verkeerde niveau zijn ingeschreven\, worden niet tot de les toegelaten.
URL:https://www.zwembaddeplons.nl/event/wo-1430u-niveau-2-tamara-v/2026-04-22/
LOCATION:Beuningen\, Houtduiflaan 3\, Beuningen\, Gelderland\, 6641 ZN\, Nederland
CATEGORIES:Inhaalles
END:VEVENT
BEGIN:VEVENT
DTSTART;TZID=Europe/Amsterdam:20260422T143000
DTEND;TZID=Europe/Amsterdam:20260422T153000
DTSTAMP:20260422T042057
CREATED:20260403T142734Z
LAST-MODIFIED:20260403T142734Z
UID:10020913-1776868200-1776871800@www.zwembaddeplons.nl
SUMMARY:Wo 14:30u niveau 3 Jory (v)
DESCRIPTION:Klik op de dag en tijd om te kijken hoeveel plaatsen er nog beschikbaar zijn en vervolgens in te schrijven. \n* Kinderen die met het verkeerde niveau zijn ingeschreven\, worden niet tot de les toegelaten.
URL:https://www.zwembaddeplons.nl/event/wo-1430u-niveau-3-jory-v/2026-04-22/
LOCATION:Beuningen\, Houtduiflaan 3\, Beuningen\, Gelderland\, 6641 ZN\, Nederland
CATEGORIES:Inhaalles
END:VEVENT
BEGIN:VEVENT
DTSTART;TZID=Europe/Amsterdam:20260422T143000
DTEND;TZID=Europe/Amsterdam:20260422T153000
DTSTAMP:20260422T042057
CREATED:20260403T142843Z
LAST-MODIFIED:20260403T142843Z
UID:10020925-1776868200-1776871800@www.zwembaddeplons.nl
SUMMARY:Wo 14:30u niveau 5 Brenda (v)
DESCRIPTION:Klik op de dag en tijd om te kijken hoeveel plaatsen er nog beschikbaar zijn en vervolgens in te schrijven. \n* Kinderen die met het verkeerde niveau zijn ingeschreven\, worden niet tot de les toegelaten.
URL:https://www.zwembaddeplons.nl/event/wo-1430u-niveau-5-brenda-v/2026-04-22/
LOCATION:Beuningen\, Houtduiflaan 3\, Beuningen\, Gelderland\, 6641 ZN\, Nederland
CATEGORIES:Inhaalles
END:VEVENT
BEGIN:VEVENT
DTSTART;TZID=Europe/Amsterdam:20260422T153000
DTEND;TZID=Europe/Amsterdam:20260422T163000
DTSTAMP:20260422T042057
CREATED:20260403T142955Z
LAST-MODIFIED:20260403T142955Z
UID:10020937-1776871800-1776875400@www.zwembaddeplons.nl
SUMMARY:Wo 15:30u niveau 1 Tamara (v)
DESCRIPTION:Klik op de dag en tijd om te kijken hoeveel plaatsen er nog beschikbaar zijn en vervolgens in te schrijven. \n* Kinderen die met het verkeerde niveau zijn ingeschreven\, worden niet tot de les toegelaten.
URL:https://www.zwembaddeplons.nl/event/wo-1530u-niveau-1-tamara-v/2026-04-22/
LOCATION:Beuningen\, Houtduiflaan 3\, Beuningen\, Gelderland\, 6641 ZN\, Nederland
CATEGORIES:Inhaalles
END:VEVENT
BEGIN:VEVENT
DTSTART;TZID=Europe/Amsterdam:20260422T153000
DTEND;TZID=Europe/Amsterdam:20260422T163000
DTSTAMP:20260422T042057
CREATED:20260403T143100Z
LAST-MODIFIED:20260403T143100Z
UID:10020949-1776871800-1776875400@www.zwembaddeplons.nl
SUMMARY:Wo 15:30u niveau 2 Brenda (v)
DESCRIPTION:Klik op de dag en tijd om te kijken hoeveel plaatsen er nog beschikbaar zijn en vervolgens in te schrijven. \n* Kinderen die met het verkeerde niveau zijn ingeschreven\, worden niet tot de les toegelaten.
URL:https://www.zwembaddeplons.nl/event/wo-1530u-niveau-2-brenda-v/2026-04-22/
LOCATION:Beuningen\, Houtduiflaan 3\, Beuningen\, Gelderland\, 6641 ZN\, Nederland
CATEGORIES:Inhaalles
END:VEVENT
BEGIN:VEVENT
DTSTART;TZID=Europe/Amsterdam:20260422T153000
DTEND;TZID=Europe/Amsterdam:20260422T163000
DTSTAMP:20260422T042057
CREATED:20260403T143200Z
LAST-MODIFIED:20260403T143200Z
UID:10020961-1776871800-1776875400@www.zwembaddeplons.nl
SUMMARY:Wo 15:30u niveau 5 Jory (v)
DESCRIPTION:Klik op de dag en tijd om te kijken hoeveel plaatsen er nog beschikbaar zijn en vervolgens in te schrijven. \n* Kinderen die met het verkeerde niveau zijn ingeschreven\, worden niet tot de les toegelaten.
URL:https://www.zwembaddeplons.nl/event/wo-1530u-niveau-5-jory-v/2026-04-22/
LOCATION:Beuningen\, Houtduiflaan 3\, Beuningen\, Gelderland\, 6641 ZN\, Nederland
CATEGORIES:Inhaalles
END:VEVENT
BEGIN:VEVENT
DTSTART;TZID=Europe/Amsterdam:20260422T163000
DTEND;TZID=Europe/Amsterdam:20260422T173000
DTSTAMP:20260422T042057
CREATED:20260403T143315Z
LAST-MODIFIED:20260403T143315Z
UID:10020973-1776875400-1776879000@www.zwembaddeplons.nl
SUMMARY:Wo 16:30u niveau 2 Jory (v)
DESCRIPTION:Klik op de dag en tijd om te kijken hoeveel plaatsen er nog beschikbaar zijn en vervolgens in te schrijven. \n* Kinderen die met het verkeerde niveau zijn ingeschreven\, worden niet tot de les toegelaten.
URL:https://www.zwembaddeplons.nl/event/wo-1630u-niveau-2-jory-v/2026-04-22/
LOCATION:Beuningen\, Houtduiflaan 3\, Beuningen\, Gelderland\, 6641 ZN\, Nederland
CATEGORIES:Inhaalles
END:VEVENT
BEGIN:VEVENT
DTSTART;TZID=Europe/Amsterdam:20260422T163000
DTEND;TZID=Europe/Amsterdam:20260422T173000
DTSTAMP:20260422T042057
CREATED:20260403T143415Z
LAST-MODIFIED:20260403T143415Z
UID:10020985-1776875400-1776879000@www.zwembaddeplons.nl
SUMMARY:Wo 16:30u niveau 3 Brenda (v)
DESCRIPTION:Klik op de dag en tijd om te kijken hoeveel plaatsen er nog beschikbaar zijn en vervolgens in te schrijven. \n* Kinderen die met het verkeerde niveau zijn ingeschreven\, worden niet tot de les toegelaten.
URL:https://www.zwembaddeplons.nl/event/wo-1630u-niveau-3-brenda-v/2026-04-22/
LOCATION:Beuningen\, Houtduiflaan 3\, Beuningen\, Gelderland\, 6641 ZN\, Nederland
CATEGORIES:Inhaalles
END:VEVENT
BEGIN:VEVENT
DTSTART;TZID=Europe/Amsterdam:20260422T163000
DTEND;TZID=Europe/Amsterdam:20260422T173000
DTSTAMP:20260422T042057
CREATED:20260403T143520Z
LAST-MODIFIED:20260415T124852Z
UID:10020997-1776875400-1776879000@www.zwembaddeplons.nl
SUMMARY:Wo 16:30u niveau 4 Meike (v)
DESCRIPTION:Klik op de dag en tijd om te kijken hoeveel plaatsen er nog beschikbaar zijn en vervolgens in te schrijven. \n* Kinderen die met het verkeerde niveau zijn ingeschreven\, worden niet tot de les toegelaten.
URL:https://www.zwembaddeplons.nl/event/wo-1630u-niveau-4-meike-v/2026-04-22/
LOCATION:Beuningen\, Houtduiflaan 3\, Beuningen\, Gelderland\, 6641 ZN\, Nederland
CATEGORIES:Inhaalles
END:VEVENT
BEGIN:VEVENT
DTSTART;TZID=Europe/Amsterdam:20260422T163000
DTEND;TZID=Europe/Amsterdam:20260422T173000
DTSTAMP:20260422T042057
CREATED:20260403T143623Z
LAST-MODIFIED:20260403T143623Z
UID:10021009-1776875400-1776879000@www.zwembaddeplons.nl
SUMMARY:Wo 16:30u niveau 5 Tamara (v)
DESCRIPTION:Klik op de dag en tijd om te kijken hoeveel plaatsen er nog beschikbaar zijn en vervolgens in te schrijven. \n* Kinderen die met het verkeerde niveau zijn ingeschreven\, worden niet tot de les toegelaten.
URL:https://www.zwembaddeplons.nl/event/wo-1630u-niveau-5-tamara-v/2026-04-22/
LOCATION:Beuningen\, Houtduiflaan 3\, Beuningen\, Gelderland\, 6641 ZN\, Nederland
CATEGORIES:Inhaalles
END:VEVENT
BEGIN:VEVENT
DTSTART;TZID=Europe/Amsterdam:20260423T150000
DTEND;TZID=Europe/Amsterdam:20260423T160000
DTSTAMP:20260422T042057
CREATED:20260403T143912Z
LAST-MODIFIED:20260403T143912Z
UID:10021021-1776956400-1776960000@www.zwembaddeplons.nl
SUMMARY:Do 15:00u niveau 2 Elcke (v)
DESCRIPTION:Klik op de dag en tijd om te kijken hoeveel plaatsen er nog beschikbaar zijn en vervolgens in te schrijven. \n* Kinderen die met het verkeerde niveau zijn ingeschreven\, worden niet tot de les toegelaten.
URL:https://www.zwembaddeplons.nl/event/do-1500u-niveau-2-elcke-v/2026-04-23/
LOCATION:Beuningen\, Houtduiflaan 3\, Beuningen\, Gelderland\, 6641 ZN\, Nederland
CATEGORIES:Inhaalles
END:VEVENT
BEGIN:VEVENT
DTSTART;TZID=Europe/Amsterdam:20260423T150000
DTEND;TZID=Europe/Amsterdam:20260423T160000
DTSTAMP:20260422T042057
CREATED:20260403T144123Z
LAST-MODIFIED:20260415T124915Z
UID:10021043-1776956400-1776960000@www.zwembaddeplons.nl
SUMMARY:Do 15:00u niveau 4 Jory (v)
DESCRIPTION:Klik op de dag en tijd om te kijken hoeveel plaatsen er nog beschikbaar zijn en vervolgens in te schrijven. \n* Kinderen die met het verkeerde niveau zijn ingeschreven\, worden niet tot de les toegelaten.
URL:https://www.zwembaddeplons.nl/event/do-1500u-niveau-4-jory-v/2026-04-23/
LOCATION:Beuningen\, Houtduiflaan 3\, Beuningen\, Gelderland\, 6641 ZN\, Nederland
CATEGORIES:Inhaalles
END:VEVENT
BEGIN:VEVENT
DTSTART;TZID=Europe/Amsterdam:20260423T150000
DTEND;TZID=Europe/Amsterdam:20260423T160000
DTSTAMP:20260422T042057
CREATED:20260403T144240Z
LAST-MODIFIED:20260403T144240Z
UID:10021054-1776956400-1776960000@www.zwembaddeplons.nl
SUMMARY:Do 15:00u niveau 5 Guido (m)
DESCRIPTION:Klik op de dag en tijd om te kijken hoeveel plaatsen er nog beschikbaar zijn en vervolgens in te schrijven. \n* Kinderen die met het verkeerde niveau zijn ingeschreven\, worden niet tot de les toegelaten.
URL:https://www.zwembaddeplons.nl/event/do-1500u-niveau-5-guido-m/2026-04-23/
LOCATION:Beuningen\, Houtduiflaan 3\, Beuningen\, Gelderland\, 6641 ZN\, Nederland
CATEGORIES:Inhaalles
END:VEVENT
BEGIN:VEVENT
DTSTART;TZID=Europe/Amsterdam:20260423T160000
DTEND;TZID=Europe/Amsterdam:20260423T170000
DTSTAMP:20260422T042057
CREATED:20260403T144358Z
LAST-MODIFIED:20260403T144358Z
UID:10021065-1776960000-1776963600@www.zwembaddeplons.nl
SUMMARY:Do 16:00u niveau 1 Guido (m)
DESCRIPTION:Klik op de dag en tijd om te kijken hoeveel plaatsen er nog beschikbaar zijn en vervolgens in te schrijven. \n* Kinderen die met het verkeerde niveau zijn ingeschreven\, worden niet tot de les toegelaten.
URL:https://www.zwembaddeplons.nl/event/do-1600u-niveau-1-guido-m/2026-04-23/
LOCATION:Beuningen\, Houtduiflaan 3\, Beuningen\, Gelderland\, 6641 ZN\, Nederland
CATEGORIES:Inhaalles
END:VEVENT
BEGIN:VEVENT
DTSTART;TZID=Europe/Amsterdam:20260423T160000
DTEND;TZID=Europe/Amsterdam:20260423T170000
DTSTAMP:20260422T042057
CREATED:20260403T144506Z
LAST-MODIFIED:20260403T144506Z
UID:10021076-1776960000-1776963600@www.zwembaddeplons.nl
SUMMARY:Do 16:00u niveau 2 Brenda (v)
DESCRIPTION:Klik op de dag en tijd om te kijken hoeveel plaatsen er nog beschikbaar zijn en vervolgens in te schrijven. \n* Kinderen die met het verkeerde niveau zijn ingeschreven\, worden niet tot de les toegelaten.
URL:https://www.zwembaddeplons.nl/event/do-1600u-niveau-2-brenda-v/2026-04-23/
LOCATION:Beuningen\, Houtduiflaan 3\, Beuningen\, Gelderland\, 6641 ZN\, Nederland
CATEGORIES:Inhaalles
END:VEVENT
BEGIN:VEVENT
DTSTART;TZID=Europe/Amsterdam:20260423T160000
DTEND;TZID=Europe/Amsterdam:20260423T170000
DTSTAMP:20260422T042057
CREATED:20260403T144608Z
LAST-MODIFIED:20260403T144608Z
UID:10021087-1776960000-1776963600@www.zwembaddeplons.nl
SUMMARY:Do 16:00u niveau 2 Elcke (v)
DESCRIPTION:Klik op de dag en tijd om te kijken hoeveel plaatsen er nog beschikbaar zijn en vervolgens in te schrijven. \n* Kinderen die met het verkeerde niveau zijn ingeschreven\, worden niet tot de les toegelaten.
URL:https://www.zwembaddeplons.nl/event/do-1600u-niveau-2-elcke-v/2026-04-23/
LOCATION:Beuningen\, Houtduiflaan 3\, Beuningen\, Gelderland\, 6641 ZN\, Nederland
CATEGORIES:Inhaalles
END:VEVENT
BEGIN:VEVENT
DTSTART;TZID=Europe/Amsterdam:20260423T160000
DTEND;TZID=Europe/Amsterdam:20260423T170000
DTSTAMP:20260422T042057
CREATED:20260403T155124Z
LAST-MODIFIED:20260403T155124Z
UID:10021098-1776960000-1776963600@www.zwembaddeplons.nl
SUMMARY:Do 16:00u niveau 5 Jory (v)
DESCRIPTION:Klik op de dag en tijd om te kijken hoeveel plaatsen er nog beschikbaar zijn en vervolgens in te schrijven. \n* Kinderen die met het verkeerde niveau zijn ingeschreven\, worden niet tot de les toegelaten.
URL:https://www.zwembaddeplons.nl/event/do-1600u-niveau-5-jory-v/2026-04-23/
LOCATION:Beuningen\, Houtduiflaan 3\, Beuningen\, Gelderland\, 6641 ZN\, Nederland
CATEGORIES:Inhaalles
END:VEVENT
BEGIN:VEVENT
DTSTART;TZID=Europe/Amsterdam:20260423T170000
DTEND;TZID=Europe/Amsterdam:20260423T180000
DTSTAMP:20260422T042057
CREATED:20260403T155241Z
LAST-MODIFIED:20260403T155241Z
UID:10021109-1776963600-1776967200@www.zwembaddeplons.nl
SUMMARY:Do 17:00u niveau 1 Jory (v)
DESCRIPTION:Klik op de dag en tijd om te kijken hoeveel plaatsen er nog beschikbaar zijn en vervolgens in te schrijven. \n* Kinderen die met het verkeerde niveau zijn ingeschreven\, worden niet tot de les toegelaten.
URL:https://www.zwembaddeplons.nl/event/do-1700u-niveau-1-jory-v/2026-04-23/
LOCATION:Beuningen\, Houtduiflaan 3\, Beuningen\, Gelderland\, 6641 ZN\, Nederland
CATEGORIES:Inhaalles
END:VEVENT
BEGIN:VEVENT
DTSTART;TZID=Europe/Amsterdam:20260423T170000
DTEND;TZID=Europe/Amsterdam:20260423T180000
DTSTAMP:20260422T042057
CREATED:20260403T155345Z
LAST-MODIFIED:20260403T155345Z
UID:10021120-1776963600-1776967200@www.zwembaddeplons.nl
SUMMARY:Do 17:00u niveau 2 Brenda (v)
DESCRIPTION:Klik op de dag en tijd om te kijken hoeveel plaatsen er nog beschikbaar zijn en vervolgens in te schrijven. \n* Kinderen die met het verkeerde niveau zijn ingeschreven\, worden niet tot de les toegelaten.
URL:https://www.zwembaddeplons.nl/event/do-1700u-niveau-2-brenda-v/2026-04-23/
LOCATION:Beuningen\, Houtduiflaan 3\, Beuningen\, Gelderland\, 6641 ZN\, Nederland
CATEGORIES:Inhaalles
END:VEVENT
BEGIN:VEVENT
DTSTART;TZID=Europe/Amsterdam:20260423T170000
DTEND;TZID=Europe/Amsterdam:20260423T180000
DTSTAMP:20260422T042057
CREATED:20260403T155456Z
LAST-MODIFIED:20260403T155456Z
UID:10021131-1776963600-1776967200@www.zwembaddeplons.nl
SUMMARY:Do 17:00u niveau 5 Milou (v)
DESCRIPTION:Klik op de dag en tijd om te kijken hoeveel plaatsen er nog beschikbaar zijn en vervolgens in te schrijven. \n* Kinderen die met het verkeerde niveau zijn ingeschreven\, worden niet tot de les toegelaten.
URL:https://www.zwembaddeplons.nl/event/do-1700u-niveau-5-milou-v/2026-04-23/
LOCATION:Beuningen\, Houtduiflaan 3\, Beuningen\, Gelderland\, 6641 ZN\, Nederland
CATEGORIES:Inhaalles
END:VEVENT
BEGIN:VEVENT
DTSTART;TZID=Europe/Amsterdam:20260423T170000
DTEND;TZID=Europe/Amsterdam:20260423T180000
DTSTAMP:20260422T042057
CREATED:20260403T155602Z
LAST-MODIFIED:20260403T155602Z
UID:10021142-1776963600-1776967200@www.zwembaddeplons.nl
SUMMARY:Do 17:00u niveau 3 Guido (m)
DESCRIPTION:Klik op de dag en tijd om te kijken hoeveel plaatsen er nog beschikbaar zijn en vervolgens in te schrijven. \n* Kinderen die met het verkeerde niveau zijn ingeschreven\, worden niet tot de les toegelaten.
URL:https://www.zwembaddeplons.nl/event/do-1700u-niveau-3-guido-m/2026-04-23/
LOCATION:Beuningen\, Houtduiflaan 3\, Beuningen\, Gelderland\, 6641 ZN\, Nederland
CATEGORIES:Inhaalles
END:VEVENT
BEGIN:VEVENT
DTSTART;TZID=Europe/Amsterdam:20260425T093000
DTEND;TZID=Europe/Amsterdam:20260425T103000
DTSTAMP:20260422T042057
CREATED:20260403T155822Z
LAST-MODIFIED:20260403T161211Z
UID:10021155-1777109400-1777113000@www.zwembaddeplons.nl
SUMMARY:Za 09:30u niveau 1 Ruben (m)
DESCRIPTION:Klik op de dag en tijd om te kijken hoeveel plaatsen er nog beschikbaar zijn en vervolgens in te schrijven. \n* Kinderen die met het verkeerde niveau zijn ingeschreven\, worden niet tot de les toegelaten.
URL:https://www.zwembaddeplons.nl/event/za-0930u-niveau-1-ruben-m/2026-04-25/
LOCATION:Beuningen\, Houtduiflaan 3\, Beuningen\, Gelderland\, 6641 ZN\, Nederland
CATEGORIES:Inhaalles
END:VEVENT
BEGIN:VEVENT
DTSTART;TZID=Europe/Amsterdam:20260425T093000
DTEND;TZID=Europe/Amsterdam:20260425T103000
DTSTAMP:20260422T042057
CREATED:20260403T155933Z
LAST-MODIFIED:20260403T155933Z
UID:10021176-1777109400-1777113000@www.zwembaddeplons.nl
SUMMARY:Za 09:30u niveau 2 Meike (v)
DESCRIPTION:Klik op de dag en tijd om te kijken hoeveel plaatsen er nog beschikbaar zijn en vervolgens in te schrijven. \n* Kinderen die met het verkeerde niveau zijn ingeschreven\, worden niet tot de les toegelaten.
URL:https://www.zwembaddeplons.nl/event/za-0930u-niveau-2-meike-v/2026-04-25/
LOCATION:Beuningen\, Houtduiflaan 3\, Beuningen\, Gelderland\, 6641 ZN\, Nederland
CATEGORIES:Inhaalles
END:VEVENT
BEGIN:VEVENT
DTSTART;TZID=Europe/Amsterdam:20260425T093000
DTEND;TZID=Europe/Amsterdam:20260425T103000
DTSTAMP:20260422T042057
CREATED:20260403T160050Z
LAST-MODIFIED:20260403T160050Z
UID:10021188-1777109400-1777113000@www.zwembaddeplons.nl
SUMMARY:Za 09:30u niveau 3 Desiree (v)
DESCRIPTION:Klik op de dag en tijd om te kijken hoeveel plaatsen er nog beschikbaar zijn en vervolgens in te schrijven. \n* Kinderen die met het verkeerde niveau zijn ingeschreven\, worden niet tot de les toegelaten.
URL:https://www.zwembaddeplons.nl/event/za-0930u-niveau-3-desiree-v/2026-04-25/
LOCATION:Beuningen\, Houtduiflaan 3\, Beuningen\, Gelderland\, 6641 ZN\, Nederland
CATEGORIES:Inhaalles
END:VEVENT
BEGIN:VEVENT
DTSTART;TZID=Europe/Amsterdam:20260425T093000
DTEND;TZID=Europe/Amsterdam:20260425T103000
DTSTAMP:20260422T042057
CREATED:20260403T160147Z
LAST-MODIFIED:20260403T160147Z
UID:10021200-1777109400-1777113000@www.zwembaddeplons.nl
SUMMARY:Za 09:30u niveau 3 Milou (v)
DESCRIPTION:Klik op de dag en tijd om te kijken hoeveel plaatsen er nog beschikbaar zijn en vervolgens in te schrijven. \n* Kinderen die met het verkeerde niveau zijn ingeschreven\, worden niet tot de les toegelaten.
URL:https://www.zwembaddeplons.nl/event/za-0930u-niveau-3-milou-v/2026-04-25/
LOCATION:Beuningen\, Houtduiflaan 3\, Beuningen\, Gelderland\, 6641 ZN\, Nederland
CATEGORIES:Inhaalles
END:VEVENT
BEGIN:VEVENT
DTSTART;TZID=Europe/Amsterdam:20260425T093000
DTEND;TZID=Europe/Amsterdam:20260425T103000
DTSTAMP:20260422T042057
CREATED:20260403T160300Z
LAST-MODIFIED:20260415T124942Z
UID:10021212-1777109400-1777113000@www.zwembaddeplons.nl
SUMMARY:Za 9:30u niveau 4 Guido (m)
DESCRIPTION:Klik op de dag en tijd om te kijken hoeveel plaatsen er nog beschikbaar zijn en vervolgens in te schrijven. \n* Kinderen die met het verkeerde niveau zijn ingeschreven\, worden niet tot de les toegelaten.
URL:https://www.zwembaddeplons.nl/event/za-930u-niveau-4-guido-m/2026-04-25/
LOCATION:Beuningen\, Houtduiflaan 3\, Beuningen\, Gelderland\, 6641 ZN\, Nederland
CATEGORIES:Inhaalles
END:VEVENT
BEGIN:VEVENT
DTSTART;TZID=Europe/Amsterdam:20260425T103000
DTEND;TZID=Europe/Amsterdam:20260425T113000
DTSTAMP:20260422T042057
CREATED:20260403T160358Z
LAST-MODIFIED:20260403T160358Z
UID:10021224-1777113000-1777116600@www.zwembaddeplons.nl
SUMMARY:Za 10:30u niveau 1 Meike (v)
DESCRIPTION:Klik op de dag en tijd om te kijken hoeveel plaatsen er nog beschikbaar zijn en vervolgens in te schrijven. \n* Kinderen die met het verkeerde niveau zijn ingeschreven\, worden niet tot de les toegelaten.
URL:https://www.zwembaddeplons.nl/event/za-1030u-niveau-1-meike-v/2026-04-25/
LOCATION:Beuningen\, Houtduiflaan 3\, Beuningen\, Gelderland\, 6641 ZN\, Nederland
CATEGORIES:Inhaalles
END:VEVENT
BEGIN:VEVENT
DTSTART;TZID=Europe/Amsterdam:20260425T103000
DTEND;TZID=Europe/Amsterdam:20260425T113000
DTSTAMP:20260422T042057
CREATED:20260403T160508Z
LAST-MODIFIED:20260403T160508Z
UID:10021236-1777113000-1777116600@www.zwembaddeplons.nl
SUMMARY:Za 10:30u niveau 3 Desiree (v)
DESCRIPTION:Klik op de dag en tijd om te kijken hoeveel plaatsen er nog beschikbaar zijn en vervolgens in te schrijven. \n* Kinderen die met het verkeerde niveau zijn ingeschreven\, worden niet tot de les toegelaten.
URL:https://www.zwembaddeplons.nl/event/za-1030u-niveau-3-desiree-v/2026-04-25/
LOCATION:Beuningen\, Houtduiflaan 3\, Beuningen\, Gelderland\, 6641 ZN\, Nederland
CATEGORIES:Inhaalles
END:VEVENT
BEGIN:VEVENT
DTSTART;TZID=Europe/Amsterdam:20260425T103000
DTEND;TZID=Europe/Amsterdam:20260425T113000
DTSTAMP:20260422T042057
CREATED:20260403T160616Z
LAST-MODIFIED:20260403T160616Z
UID:10021248-1777113000-1777116600@www.zwembaddeplons.nl
SUMMARY:Za 10:30u niveau 5 Guido (m)
DESCRIPTION:Klik op de dag en tijd om te kijken hoeveel plaatsen er nog beschikbaar zijn en vervolgens in te schrijven. \n* Kinderen die met het verkeerde niveau zijn ingeschreven\, worden niet tot de les toegelaten.
URL:https://www.zwembaddeplons.nl/event/za-1030u-niveau-5-guido-m/2026-04-25/
LOCATION:Beuningen\, Houtduiflaan 3\, Beuningen\, Gelderland\, 6641 ZN\, Nederland
CATEGORIES:Inhaalles
END:VEVENT
BEGIN:VEVENT
DTSTART;TZID=Europe/Amsterdam:20260425T103000
DTEND;TZID=Europe/Amsterdam:20260425T113000
DTSTAMP:20260422T042057
CREATED:20260403T160835Z
LAST-MODIFIED:20260403T160835Z
UID:10021272-1777113000-1777116600@www.zwembaddeplons.nl
SUMMARY:Za 10:30u niveau 2 Ruben (m)
DESCRIPTION:Klik op de dag en tijd om te kijken hoeveel plaatsen er nog beschikbaar zijn en vervolgens in te schrijven. \n* Kinderen die met het verkeerde niveau zijn ingeschreven\, worden niet tot de les toegelaten.
URL:https://www.zwembaddeplons.nl/event/za-1030u-niveau-2-ruben-m/2026-04-25/
LOCATION:Beuningen\, Houtduiflaan 3\, Beuningen\, Gelderland\, 6641 ZN\, Nederland
CATEGORIES:Inhaalles
END:VEVENT
END:VCALENDAR