BEGIN:VCALENDAR
VERSION:2.0
PRODID:-//Zwembad de Plons - ECPv6.15.20//NONSGML v1.0//EN
CALSCALE:GREGORIAN
METHOD:PUBLISH
X-WR-CALNAME:Zwembad de Plons
X-ORIGINAL-URL:https://www.zwembaddeplons.nl
X-WR-CALDESC:Evenementen voor Zwembad de Plons
REFRESH-INTERVAL;VALUE=DURATION:PT1H
X-Robots-Tag:noindex
X-PUBLISHED-TTL:PT1H
BEGIN:VTIMEZONE
TZID:Europe/Amsterdam
BEGIN:DAYLIGHT
TZOFFSETFROM:+0100
TZOFFSETTO:+0200
TZNAME:CEST
DTSTART:20250330T010000
END:DAYLIGHT
BEGIN:STANDARD
TZOFFSETFROM:+0200
TZOFFSETTO:+0100
TZNAME:CET
DTSTART:20251026T010000
END:STANDARD
BEGIN:DAYLIGHT
TZOFFSETFROM:+0100
TZOFFSETTO:+0200
TZNAME:CEST
DTSTART:20260329T010000
END:DAYLIGHT
BEGIN:STANDARD
TZOFFSETFROM:+0200
TZOFFSETTO:+0100
TZNAME:CET
DTSTART:20261025T010000
END:STANDARD
BEGIN:DAYLIGHT
TZOFFSETFROM:+0100
TZOFFSETTO:+0200
TZNAME:CEST
DTSTART:20270328T010000
END:DAYLIGHT
BEGIN:STANDARD
TZOFFSETFROM:+0200
TZOFFSETTO:+0100
TZNAME:CET
DTSTART:20271031T010000
END:STANDARD
END:VTIMEZONE
BEGIN:VEVENT
DTSTART;TZID=Europe/Amsterdam:20260105T161500
DTEND;TZID=Europe/Amsterdam:20260105T171500
DTSTAMP:20260422T084439
CREATED:20260101T180133Z
LAST-MODIFIED:20260101T180133Z
UID:10019539-1767629700-1767633300@www.zwembaddeplons.nl
SUMMARY:Ma 16:15u niveau 5 Desiree (v)
DESCRIPTION:Klik op de dag en tijd om te kijken hoeveel plaatsen er nog beschikbaar zijn en vervolgens in te schrijven. \n* Kinderen die met het verkeerde niveau zijn ingeschreven\, worden niet tot de les toegelaten.
URL:https://www.zwembaddeplons.nl/event/ma-1615u-niveau-5-desiree-v/2026-01-05/
LOCATION:Beuningen\, Houtduiflaan 3\, Beuningen\, Gelderland\, 6641 ZN\, Nederland
CATEGORIES:Inhaalles
END:VEVENT
BEGIN:VEVENT
DTSTART;TZID=Europe/Amsterdam:20260105T161500
DTEND;TZID=Europe/Amsterdam:20260105T171500
DTSTAMP:20260422T084439
CREATED:20260101T180339Z
LAST-MODIFIED:20260101T180339Z
UID:10019550-1767629700-1767633300@www.zwembaddeplons.nl
SUMMARY:Ma 16:15u niveau 2 Tamara (v)
DESCRIPTION:Klik op de dag en tijd om te kijken hoeveel plaatsen er nog beschikbaar zijn en vervolgens in te schrijven. \n* Kinderen die met het verkeerde niveau zijn ingeschreven\, worden niet tot de les toegelaten.
URL:https://www.zwembaddeplons.nl/event/ma-1615u-niveau-2-tamara-v/2026-01-05/
LOCATION:Beuningen\, Houtduiflaan 3\, Beuningen\, Gelderland\, 6641 ZN\, Nederland
CATEGORIES:Inhaalles
END:VEVENT
BEGIN:VEVENT
DTSTART;TZID=Europe/Amsterdam:20260105T171500
DTEND;TZID=Europe/Amsterdam:20260105T181500
DTSTAMP:20260422T084439
CREATED:20260101T180738Z
LAST-MODIFIED:20260101T180738Z
UID:10019583-1767633300-1767636900@www.zwembaddeplons.nl
SUMMARY:Ma 17:15u niveau 2 Guido (m)
DESCRIPTION:Klik op de dag en tijd om te kijken hoeveel plaatsen er nog beschikbaar zijn en vervolgens in te schrijven. \n* Kinderen die met het verkeerde niveau zijn ingeschreven\, worden niet tot de les toegelaten.
URL:https://www.zwembaddeplons.nl/event/ma-1715u-niveau-2-guido-m/2026-01-05/
LOCATION:Beuningen\, Houtduiflaan 3\, Beuningen\, Gelderland\, 6641 ZN\, Nederland
CATEGORIES:Inhaalles
END:VEVENT
BEGIN:VEVENT
DTSTART;TZID=Europe/Amsterdam:20260105T171500
DTEND;TZID=Europe/Amsterdam:20260105T181500
DTSTAMP:20260422T084439
CREATED:20260101T181021Z
LAST-MODIFIED:20260101T181514Z
UID:10019649-1767633300-1767636900@www.zwembaddeplons.nl
SUMMARY:Ma 17:15u niveau 1 Jory (v)
DESCRIPTION:Klik op de dag en tijd om te kijken hoeveel plaatsen er nog beschikbaar zijn en vervolgens in te schrijven. \n* Kinderen die met het verkeerde niveau zijn ingeschreven\, worden niet tot de les toegelaten.
URL:https://www.zwembaddeplons.nl/event/ma-1715u-niveau-1-jory-v/2026-01-05/
LOCATION:Beuningen\, Houtduiflaan 3\, Beuningen\, Gelderland\, 6641 ZN\, Nederland
CATEGORIES:Inhaalles
END:VEVENT
BEGIN:VEVENT
DTSTART;TZID=Europe/Amsterdam:20260105T171500
DTEND;TZID=Europe/Amsterdam:20260105T181500
DTSTAMP:20260422T084439
CREATED:20260101T181134Z
LAST-MODIFIED:20260101T181134Z
UID:10019616-1767633300-1767636900@www.zwembaddeplons.nl
SUMMARY:Ma 17:15u niveau 2 Tamara (v)
DESCRIPTION:Klik op de dag en tijd om te kijken hoeveel plaatsen er nog beschikbaar zijn en vervolgens in te schrijven. \n* Kinderen die met het verkeerde niveau zijn ingeschreven\, worden niet tot de les toegelaten.
URL:https://www.zwembaddeplons.nl/event/ma-1715u-niveau-2-tamara-v/2026-01-05/
LOCATION:Beuningen\, Houtduiflaan 3\, Beuningen\, Gelderland\, 6641 ZN\, Nederland
CATEGORIES:Inhaalles
END:VEVENT
BEGIN:VEVENT
DTSTART;TZID=Europe/Amsterdam:20260105T171500
DTEND;TZID=Europe/Amsterdam:20260105T181500
DTSTAMP:20260422T084439
CREATED:20260101T181254Z
LAST-MODIFIED:20260101T181254Z
UID:10019627-1767633300-1767636900@www.zwembaddeplons.nl
SUMMARY:Ma 17:15u niveau 5 Desiree (v)
DESCRIPTION:Klik op de dag en tijd om te kijken hoeveel plaatsen er nog beschikbaar zijn en vervolgens in te schrijven. \n* Kinderen die met het verkeerde niveau zijn ingeschreven\, worden niet tot de les toegelaten.
URL:https://www.zwembaddeplons.nl/event/ma-1715u-niveau-5-desiree-v/2026-01-05/
LOCATION:Beuningen\, Houtduiflaan 3\, Beuningen\, Gelderland\, 6641 ZN\, Nederland
CATEGORIES:Inhaalles
END:VEVENT
BEGIN:VEVENT
DTSTART;TZID=Europe/Amsterdam:20260105T181500
DTEND;TZID=Europe/Amsterdam:20260105T191500
DTSTAMP:20260422T084439
CREATED:20260101T180850Z
LAST-MODIFIED:20260101T180850Z
UID:10019594-1767636900-1767640500@www.zwembaddeplons.nl
SUMMARY:Ma 18:15u niveau 4 Guido (m)
DESCRIPTION:Klik op de dag en tijd om te kijken hoeveel plaatsen er nog beschikbaar zijn en vervolgens in te schrijven. \n* Kinderen die met het verkeerde niveau zijn ingeschreven\, worden niet tot de les toegelaten.
URL:https://www.zwembaddeplons.nl/event/ma-1815u-niveau-4-guido-m/2026-01-05/
LOCATION:Beuningen\, Houtduiflaan 3\, Beuningen\, Gelderland\, 6641 ZN\, Nederland
CATEGORIES:Inhaalles
END:VEVENT
BEGIN:VEVENT
DTSTART;TZID=Europe/Amsterdam:20260105T181500
DTEND;TZID=Europe/Amsterdam:20260105T191500
DTSTAMP:20260422T084439
CREATED:20260101T181414Z
LAST-MODIFIED:20260101T181414Z
UID:10019638-1767636900-1767640500@www.zwembaddeplons.nl
SUMMARY:Ma 18:15u niveau 2 Jory (v)
DESCRIPTION:Klik op de dag en tijd om te kijken hoeveel plaatsen er nog beschikbaar zijn en vervolgens in te schrijven. \n* Kinderen die met het verkeerde niveau zijn ingeschreven\, worden niet tot de les toegelaten.
URL:https://www.zwembaddeplons.nl/event/ma-1815u-niveau-2-jory-v/2026-01-05/
LOCATION:Beuningen\, Houtduiflaan 3\, Beuningen\, Gelderland\, 6641 ZN\, Nederland
CATEGORIES:Inhaalles
END:VEVENT
BEGIN:VEVENT
DTSTART;TZID=Europe/Amsterdam:20260105T181500
DTEND;TZID=Europe/Amsterdam:20260105T191500
DTSTAMP:20260422T084439
CREATED:20260101T181837Z
LAST-MODIFIED:20260101T181837Z
UID:10019660-1767636900-1767640500@www.zwembaddeplons.nl
SUMMARY:Ma 18:15u niveau 5 Tamara (v)
DESCRIPTION:Klik op de dag en tijd om te kijken hoeveel plaatsen er nog beschikbaar zijn en vervolgens in te schrijven. \n* Kinderen die met het verkeerde niveau zijn ingeschreven\, worden niet tot de les toegelaten.
URL:https://www.zwembaddeplons.nl/event/ma-1815u-niveau-5-tamara-v/2026-01-05/
LOCATION:Beuningen\, Houtduiflaan 3\, Beuningen\, Gelderland\, 6641 ZN\, Nederland
CATEGORIES:Inhaalles
END:VEVENT
BEGIN:VEVENT
DTSTART;TZID=Europe/Amsterdam:20260105T181500
DTEND;TZID=Europe/Amsterdam:20260105T191500
DTSTAMP:20260422T084439
CREATED:20260101T182036Z
LAST-MODIFIED:20260101T182036Z
UID:10019671-1767636900-1767640500@www.zwembaddeplons.nl
SUMMARY:Ma 18:15u niveau 3 Desiree (v)
DESCRIPTION:Klik op de dag en tijd om te kijken hoeveel plaatsen er nog beschikbaar zijn en vervolgens in te schrijven. \n* Kinderen die met het verkeerde niveau zijn ingeschreven\, worden niet tot de les toegelaten.
URL:https://www.zwembaddeplons.nl/event/ma-1815u-niveau-3-desiree-v/2026-01-05/
LOCATION:Beuningen\, Houtduiflaan 3\, Beuningen\, Gelderland\, 6641 ZN\, Nederland
CATEGORIES:Inhaalles
END:VEVENT
BEGIN:VEVENT
DTSTART;TZID=Europe/Amsterdam:20260106T151500
DTEND;TZID=Europe/Amsterdam:20260106T161500
DTSTAMP:20260422T084439
CREATED:20260101T182435Z
LAST-MODIFIED:20260101T182435Z
UID:10019682-1767712500-1767716100@www.zwembaddeplons.nl
SUMMARY:Di 15:15u niveau 1 Elcke (v)
DESCRIPTION:Klik op de dag en tijd om te kijken hoeveel plaatsen er nog beschikbaar zijn en vervolgens in te schrijven. \n* Kinderen die met het verkeerde niveau zijn ingeschreven\, worden niet tot de les toegelaten.
URL:https://www.zwembaddeplons.nl/event/di-1515u-niveau-1-elcke-v/2026-01-06/
LOCATION:Beuningen\, Houtduiflaan 3\, Beuningen\, Gelderland\, 6641 ZN\, Nederland
CATEGORIES:Inhaalles
END:VEVENT
BEGIN:VEVENT
DTSTART;TZID=Europe/Amsterdam:20260106T151500
DTEND;TZID=Europe/Amsterdam:20260106T161500
DTSTAMP:20260422T084439
CREATED:20260101T182556Z
LAST-MODIFIED:20260101T182556Z
UID:10019693-1767712500-1767716100@www.zwembaddeplons.nl
SUMMARY:Di 15:15u niveau 2 Desiree (v)
DESCRIPTION:Klik op de dag en tijd om te kijken hoeveel plaatsen er nog beschikbaar zijn en vervolgens in te schrijven. \n* Kinderen die met het verkeerde niveau zijn ingeschreven\, worden niet tot de les toegelaten.
URL:https://www.zwembaddeplons.nl/event/di-1515u-niveau-2-desiree-v/2026-01-06/
LOCATION:Beuningen\, Houtduiflaan 3\, Beuningen\, Gelderland\, 6641 ZN\, Nederland
CATEGORIES:Inhaalles
END:VEVENT
BEGIN:VEVENT
DTSTART;TZID=Europe/Amsterdam:20260106T151500
DTEND;TZID=Europe/Amsterdam:20260106T161500
DTSTAMP:20260422T084439
CREATED:20260101T182709Z
LAST-MODIFIED:20260128T103226Z
UID:10019704-1767712500-1767716100@www.zwembaddeplons.nl
SUMMARY:Di 15:15u niveau 5 Guido (m)
DESCRIPTION:Klik op de dag en tijd om te kijken hoeveel plaatsen er nog beschikbaar zijn en vervolgens in te schrijven. \n* Kinderen die met het verkeerde niveau zijn ingeschreven\, worden niet tot de les toegelaten.
URL:https://www.zwembaddeplons.nl/event/di-1515u-niveau-5-guido-m/2026-01-06/
LOCATION:Beuningen\, Houtduiflaan 3\, Beuningen\, Gelderland\, 6641 ZN\, Nederland
CATEGORIES:Inhaalles
END:VEVENT
BEGIN:VEVENT
DTSTART;TZID=Europe/Amsterdam:20260106T161500
DTEND;TZID=Europe/Amsterdam:20260106T171500
DTSTAMP:20260422T084439
CREATED:20260101T182819Z
LAST-MODIFIED:20260101T182819Z
UID:10019715-1767716100-1767719700@www.zwembaddeplons.nl
SUMMARY:Di 16:15u niveau 2 Elcke (v)
DESCRIPTION:Klik op de dag en tijd om te kijken hoeveel plaatsen er nog beschikbaar zijn en vervolgens in te schrijven. \n* Kinderen die met het verkeerde niveau zijn ingeschreven\, worden niet tot de les toegelaten.
URL:https://www.zwembaddeplons.nl/event/di-1615u-niveau-2-elcke-v/2026-01-06/
LOCATION:Beuningen\, Houtduiflaan 3\, Beuningen\, Gelderland\, 6641 ZN\, Nederland
CATEGORIES:Inhaalles
END:VEVENT
BEGIN:VEVENT
DTSTART;TZID=Europe/Amsterdam:20260106T161500
DTEND;TZID=Europe/Amsterdam:20260106T171500
DTSTAMP:20260422T084439
CREATED:20260101T183114Z
LAST-MODIFIED:20260101T183114Z
UID:10019737-1767716100-1767719700@www.zwembaddeplons.nl
SUMMARY:Di 16:15u niveau 3 Guido (m)
DESCRIPTION:Klik op de dag en tijd om te kijken hoeveel plaatsen er nog beschikbaar zijn en vervolgens in te schrijven. \n* Kinderen die met het verkeerde niveau zijn ingeschreven\, worden niet tot de les toegelaten.
URL:https://www.zwembaddeplons.nl/event/di-1615u-niveau-3-guido-m/2026-01-06/
LOCATION:Beuningen\, Houtduiflaan 3\, Beuningen\, Gelderland\, 6641 ZN\, Nederland
CATEGORIES:Inhaalles
END:VEVENT
BEGIN:VEVENT
DTSTART;TZID=Europe/Amsterdam:20260106T161500
DTEND;TZID=Europe/Amsterdam:20260106T171500
DTSTAMP:20260422T084439
CREATED:20260101T183234Z
LAST-MODIFIED:20260128T103248Z
UID:10019748-1767716100-1767719700@www.zwembaddeplons.nl
SUMMARY:Di 16:15u niveau 5 Desiree (v)
DESCRIPTION:Klik op de dag en tijd om te kijken hoeveel plaatsen er nog beschikbaar zijn en vervolgens in te schrijven. \n* Kinderen die met het verkeerde niveau zijn ingeschreven\, worden niet tot de les toegelaten.
URL:https://www.zwembaddeplons.nl/event/di-1615u-niveau-5-desiree-v/2026-01-06/
LOCATION:Beuningen\, Houtduiflaan 3\, Beuningen\, Gelderland\, 6641 ZN\, Nederland
CATEGORIES:Inhaalles
END:VEVENT
BEGIN:VEVENT
DTSTART;TZID=Europe/Amsterdam:20260106T161500
DTEND;TZID=Europe/Amsterdam:20260106T171500
DTSTAMP:20260422T084439
CREATED:20260101T183357Z
LAST-MODIFIED:20260101T183357Z
UID:10019759-1767716100-1767719700@www.zwembaddeplons.nl
SUMMARY:Di 16:15u niveau 1 Brenda (v)
DESCRIPTION:Klik op de dag en tijd om te kijken hoeveel plaatsen er nog beschikbaar zijn en vervolgens in te schrijven. \n* Kinderen die met het verkeerde niveau zijn ingeschreven\, worden niet tot de les toegelaten.
URL:https://www.zwembaddeplons.nl/event/di-1615u-niveau-1-brenda-v/2026-01-06/
LOCATION:Beuningen\, Houtduiflaan 3\, Beuningen\, Gelderland\, 6641 ZN\, Nederland
CATEGORIES:Inhaalles
END:VEVENT
BEGIN:VEVENT
DTSTART;TZID=Europe/Amsterdam:20260106T171500
DTEND;TZID=Europe/Amsterdam:20260106T181500
DTSTAMP:20260422T084439
CREATED:20260101T182954Z
LAST-MODIFIED:20260101T182954Z
UID:10019726-1767719700-1767723300@www.zwembaddeplons.nl
SUMMARY:Di 17:15u niveau 2 Elcke (v)
DESCRIPTION:Klik op de dag en tijd om te kijken hoeveel plaatsen er nog beschikbaar zijn en vervolgens in te schrijven. \n* Kinderen die met het verkeerde niveau zijn ingeschreven\, worden niet tot de les toegelaten.
URL:https://www.zwembaddeplons.nl/event/di-1715u-niveau-2-elcke-v/2026-01-06/
LOCATION:Beuningen\, Houtduiflaan 3\, Beuningen\, Gelderland\, 6641 ZN\, Nederland
CATEGORIES:Inhaalles
END:VEVENT
BEGIN:VEVENT
DTSTART;TZID=Europe/Amsterdam:20260106T171500
DTEND;TZID=Europe/Amsterdam:20260106T181500
DTSTAMP:20260422T084439
CREATED:20260101T183543Z
LAST-MODIFIED:20260101T183543Z
UID:10019770-1767719700-1767723300@www.zwembaddeplons.nl
SUMMARY:Di 17:15u niveau 1 Guido (m)
DESCRIPTION:Klik op de dag en tijd om te kijken hoeveel plaatsen er nog beschikbaar zijn en vervolgens in te schrijven. \n* Kinderen die met het verkeerde niveau zijn ingeschreven\, worden niet tot de les toegelaten.
URL:https://www.zwembaddeplons.nl/event/di-1715u-niveau-1-guido-m/2026-01-06/
LOCATION:Beuningen\, Houtduiflaan 3\, Beuningen\, Gelderland\, 6641 ZN\, Nederland
CATEGORIES:Inhaalles
END:VEVENT
BEGIN:VEVENT
DTSTART;TZID=Europe/Amsterdam:20260107T143000
DTEND;TZID=Europe/Amsterdam:20260107T153000
DTSTAMP:20260422T084439
CREATED:20260102T125247Z
LAST-MODIFIED:20260102T125247Z
UID:10019804-1767796200-1767799800@www.zwembaddeplons.nl
SUMMARY:Wo 14:30u niveau 2 Jory (v)
DESCRIPTION:Klik op de dag en tijd om te kijken hoeveel plaatsen er nog beschikbaar zijn en vervolgens in te schrijven. \n* Kinderen die met het verkeerde niveau zijn ingeschreven\, worden niet tot de les toegelaten.
URL:https://www.zwembaddeplons.nl/event/wo-1430u-niveau-2-jory-v/2026-01-07/
LOCATION:Beuningen\, Houtduiflaan 3\, Beuningen\, Gelderland\, 6641 ZN\, Nederland
CATEGORIES:Inhaalles
END:VEVENT
BEGIN:VEVENT
DTSTART;TZID=Europe/Amsterdam:20260107T143000
DTEND;TZID=Europe/Amsterdam:20260107T153000
DTSTAMP:20260422T084439
CREATED:20260102T125518Z
LAST-MODIFIED:20260102T125518Z
UID:10019828-1767796200-1767799800@www.zwembaddeplons.nl
SUMMARY:Wo 14:30u niveau 5 Tamara (v)
DESCRIPTION:Klik op de dag en tijd om te kijken hoeveel plaatsen er nog beschikbaar zijn en vervolgens in te schrijven. \n* Kinderen die met het verkeerde niveau zijn ingeschreven\, worden niet tot de les toegelaten.
URL:https://www.zwembaddeplons.nl/event/wo-1430u-niveau-5-tamara-v-2/2026-01-07/
LOCATION:Beuningen\, Houtduiflaan 3\, Beuningen\, Gelderland\, 6641 ZN\, Nederland
CATEGORIES:Inhaalles
END:VEVENT
BEGIN:VEVENT
DTSTART;TZID=Europe/Amsterdam:20260107T143000
DTEND;TZID=Europe/Amsterdam:20260107T170000
DTSTAMP:20260422T084439
CREATED:20260102T125127Z
LAST-MODIFIED:20260102T125127Z
UID:10019792-1767796200-1767805200@www.zwembaddeplons.nl
SUMMARY:Wo 14:30u niveau 1 Elcke (v)
DESCRIPTION:Klik op de dag en tijd om te kijken hoeveel plaatsen er nog beschikbaar zijn en vervolgens in te schrijven. \n* Kinderen die met het verkeerde niveau zijn ingeschreven\, worden niet tot de les toegelaten.
URL:https://www.zwembaddeplons.nl/event/wo-1430u-niveau-1-elcke-v/2026-01-07/
LOCATION:Beuningen\, Houtduiflaan 3\, Beuningen\, Gelderland\, 6641 ZN\, Nederland
CATEGORIES:Inhaalles
END:VEVENT
BEGIN:VEVENT
DTSTART;TZID=Europe/Amsterdam:20260107T153000
DTEND;TZID=Europe/Amsterdam:20260107T163000
DTSTAMP:20260422T084439
CREATED:20260102T125628Z
LAST-MODIFIED:20260128T103722Z
UID:10019840-1767799800-1767803400@www.zwembaddeplons.nl
SUMMARY:Wo 15:30u niveau 5 Tamara (v)
DESCRIPTION:Klik op de dag en tijd om te kijken hoeveel plaatsen er nog beschikbaar zijn en vervolgens in te schrijven. \n* Kinderen die met het verkeerde niveau zijn ingeschreven\, worden niet tot de les toegelaten.
URL:https://www.zwembaddeplons.nl/event/wo-1530u-niveau-5-tamara-v/2026-01-07/
LOCATION:Beuningen\, Houtduiflaan 3\, Beuningen\, Gelderland\, 6641 ZN\, Nederland
CATEGORIES:Inhaalles
END:VEVENT
BEGIN:VEVENT
DTSTART;TZID=Europe/Amsterdam:20260107T153000
DTEND;TZID=Europe/Amsterdam:20260107T163000
DTSTAMP:20260422T084439
CREATED:20260102T125733Z
LAST-MODIFIED:20260102T125733Z
UID:10019852-1767799800-1767803400@www.zwembaddeplons.nl
SUMMARY:Wo 15:30u niveau 1 Brenda (v)
DESCRIPTION:Klik op de dag en tijd om te kijken hoeveel plaatsen er nog beschikbaar zijn en vervolgens in te schrijven. \n* Kinderen die met het verkeerde niveau zijn ingeschreven\, worden niet tot de les toegelaten.
URL:https://www.zwembaddeplons.nl/event/wo-1530u-niveau-1-brenda-v/2026-01-07/
LOCATION:Beuningen\, Houtduiflaan 3\, Beuningen\, Gelderland\, 6641 ZN\, Nederland
CATEGORIES:Inhaalles
END:VEVENT
BEGIN:VEVENT
DTSTART;TZID=Europe/Amsterdam:20260107T153000
DTEND;TZID=Europe/Amsterdam:20260107T163000
DTSTAMP:20260422T084439
CREATED:20260102T125840Z
LAST-MODIFIED:20260102T125840Z
UID:10019864-1767799800-1767803400@www.zwembaddeplons.nl
SUMMARY:Wo 15:30u niveau 4 Jory (v)
DESCRIPTION:Klik op de dag en tijd om te kijken hoeveel plaatsen er nog beschikbaar zijn en vervolgens in te schrijven. \n* Kinderen die met het verkeerde niveau zijn ingeschreven\, worden niet tot de les toegelaten.
URL:https://www.zwembaddeplons.nl/event/wo-1530u-niveau-4-jory-v/2026-01-07/
LOCATION:Beuningen\, Houtduiflaan 3\, Beuningen\, Gelderland\, 6641 ZN\, Nederland
CATEGORIES:Inhaalles
END:VEVENT
BEGIN:VEVENT
DTSTART;TZID=Europe/Amsterdam:20260107T163000
DTEND;TZID=Europe/Amsterdam:20260107T173000
DTSTAMP:20260422T084439
CREATED:20260102T125954Z
LAST-MODIFIED:20260102T125954Z
UID:10019876-1767803400-1767807000@www.zwembaddeplons.nl
SUMMARY:Wo 16:30u niveau 1 Jory (v)
DESCRIPTION:Klik op de dag en tijd om te kijken hoeveel plaatsen er nog beschikbaar zijn en vervolgens in te schrijven. \n* Kinderen die met het verkeerde niveau zijn ingeschreven\, worden niet tot de les toegelaten.
URL:https://www.zwembaddeplons.nl/event/wo-1630u-niveau-1-jory-v/2026-01-07/
LOCATION:Beuningen\, Houtduiflaan 3\, Beuningen\, Gelderland\, 6641 ZN\, Nederland
CATEGORIES:Inhaalles
END:VEVENT
BEGIN:VEVENT
DTSTART;TZID=Europe/Amsterdam:20260107T163000
DTEND;TZID=Europe/Amsterdam:20260107T173000
DTSTAMP:20260422T084439
CREATED:20260102T130155Z
LAST-MODIFIED:20260102T130155Z
UID:10019888-1767803400-1767807000@www.zwembaddeplons.nl
SUMMARY:Wo 16:30u niveau 2 Brenda (v)
DESCRIPTION:Klik op de dag en tijd om te kijken hoeveel plaatsen er nog beschikbaar zijn en vervolgens in te schrijven. \n* Kinderen die met het verkeerde niveau zijn ingeschreven\, worden niet tot de les toegelaten.
URL:https://www.zwembaddeplons.nl/event/wo-1630u-niveau-2-brenda-v/2026-01-07/
LOCATION:Beuningen\, Houtduiflaan 3\, Beuningen\, Gelderland\, 6641 ZN\, Nederland
CATEGORIES:Inhaalles
END:VEVENT
BEGIN:VEVENT
DTSTART;TZID=Europe/Amsterdam:20260107T163000
DTEND;TZID=Europe/Amsterdam:20260107T173000
DTSTAMP:20260422T084439
CREATED:20260102T130520Z
LAST-MODIFIED:20260128T103440Z
UID:10019912-1767803400-1767807000@www.zwembaddeplons.nl
SUMMARY:Wo 16:30u niveau 4 Tamara (v)
DESCRIPTION:Klik op de dag en tijd om te kijken hoeveel plaatsen er nog beschikbaar zijn en vervolgens in te schrijven. \n* Kinderen die met het verkeerde niveau zijn ingeschreven\, worden niet tot de les toegelaten.
URL:https://www.zwembaddeplons.nl/event/wo-1630u-niveau-4-tamara-v/2026-01-07/
LOCATION:Beuningen\, Houtduiflaan 3\, Beuningen\, Gelderland\, 6641 ZN\, Nederland
CATEGORIES:Inhaalles
END:VEVENT
BEGIN:VEVENT
DTSTART;TZID=Europe/Amsterdam:20260108T150000
DTEND;TZID=Europe/Amsterdam:20260108T160000
DTSTAMP:20260422T084439
CREATED:20260102T130955Z
LAST-MODIFIED:20260108T172443Z
UID:10019924-1767884400-1767888000@www.zwembaddeplons.nl
SUMMARY:Do 15:00u niveau 1 Elcke (v)
DESCRIPTION:Klik op de dag en tijd om te kijken hoeveel plaatsen er nog beschikbaar zijn en vervolgens in te schrijven. \n* Kinderen die met het verkeerde niveau zijn ingeschreven\, worden niet tot de les toegelaten.
URL:https://www.zwembaddeplons.nl/event/do-1500u-niveau-1-elcke-v/2026-01-08/
LOCATION:Beuningen\, Houtduiflaan 3\, Beuningen\, Gelderland\, 6641 ZN\, Nederland
CATEGORIES:Inhaalles
END:VEVENT
BEGIN:VEVENT
DTSTART;TZID=Europe/Amsterdam:20260108T150000
DTEND;TZID=Europe/Amsterdam:20260108T160000
DTSTAMP:20260422T084439
CREATED:20260102T131105Z
LAST-MODIFIED:20260108T172707Z
UID:10019947-1767884400-1767888000@www.zwembaddeplons.nl
SUMMARY:Do 15:00u niveau 2 Brenda (v)
DESCRIPTION:Klik op de dag en tijd om te kijken hoeveel plaatsen er nog beschikbaar zijn en vervolgens in te schrijven. \n* Kinderen die met het verkeerde niveau zijn ingeschreven\, worden niet tot de les toegelaten.
URL:https://www.zwembaddeplons.nl/event/do-1500u-niveau-2-brenda-v/2026-01-08/
LOCATION:Beuningen\, Houtduiflaan 3\, Beuningen\, Gelderland\, 6641 ZN\, Nederland
CATEGORIES:Inhaalles
END:VEVENT
END:VCALENDAR