BEGIN:VCALENDAR
VERSION:2.0
PRODID:-//Zwembad de Plons - ECPv6.15.20//NONSGML v1.0//EN
CALSCALE:GREGORIAN
METHOD:PUBLISH
X-ORIGINAL-URL:https://www.zwembaddeplons.nl
X-WR-CALDESC:Evenementen voor Zwembad de Plons
REFRESH-INTERVAL;VALUE=DURATION:PT1H
X-Robots-Tag:noindex
X-PUBLISHED-TTL:PT1H
BEGIN:VTIMEZONE
TZID:Europe/Amsterdam
BEGIN:DAYLIGHT
TZOFFSETFROM:+0100
TZOFFSETTO:+0200
TZNAME:CEST
DTSTART:20250330T010000
END:DAYLIGHT
BEGIN:STANDARD
TZOFFSETFROM:+0200
TZOFFSETTO:+0100
TZNAME:CET
DTSTART:20251026T010000
END:STANDARD
BEGIN:DAYLIGHT
TZOFFSETFROM:+0100
TZOFFSETTO:+0200
TZNAME:CEST
DTSTART:20260329T010000
END:DAYLIGHT
BEGIN:STANDARD
TZOFFSETFROM:+0200
TZOFFSETTO:+0100
TZNAME:CET
DTSTART:20261025T010000
END:STANDARD
BEGIN:DAYLIGHT
TZOFFSETFROM:+0100
TZOFFSETTO:+0200
TZNAME:CEST
DTSTART:20270328T010000
END:DAYLIGHT
BEGIN:STANDARD
TZOFFSETFROM:+0200
TZOFFSETTO:+0100
TZNAME:CET
DTSTART:20271031T010000
END:STANDARD
END:VTIMEZONE
BEGIN:VEVENT
DTSTART;TZID=Europe/Amsterdam:20260429T163000
DTEND;TZID=Europe/Amsterdam:20260429T173000
DTSTAMP:20260422T160722
CREATED:20260403T143415Z
LAST-MODIFIED:20260403T143415Z
UID:10020986-1777480200-1777483800@www.zwembaddeplons.nl
SUMMARY:Wo 16:30u niveau 3 Brenda (v)
DESCRIPTION:Klik op de dag en tijd om te kijken hoeveel plaatsen er nog beschikbaar zijn en vervolgens in te schrijven. \n* Kinderen die met het verkeerde niveau zijn ingeschreven\, worden niet tot de les toegelaten.
URL:https://www.zwembaddeplons.nl/event/wo-1630u-niveau-3-brenda-v/2026-04-29/
LOCATION:Beuningen\, Houtduiflaan 3\, Beuningen\, Gelderland\, 6641 ZN\, Nederland
CATEGORIES:Inhaalles
END:VEVENT
BEGIN:VEVENT
DTSTART;TZID=Europe/Amsterdam:20260429T163000
DTEND;TZID=Europe/Amsterdam:20260429T173000
DTSTAMP:20260422T160722
CREATED:20260403T143520Z
LAST-MODIFIED:20260415T124852Z
UID:10020998-1777480200-1777483800@www.zwembaddeplons.nl
SUMMARY:Wo 16:30u niveau 4 Meike (v)
DESCRIPTION:Klik op de dag en tijd om te kijken hoeveel plaatsen er nog beschikbaar zijn en vervolgens in te schrijven. \n* Kinderen die met het verkeerde niveau zijn ingeschreven\, worden niet tot de les toegelaten.
URL:https://www.zwembaddeplons.nl/event/wo-1630u-niveau-4-meike-v/2026-04-29/
LOCATION:Beuningen\, Houtduiflaan 3\, Beuningen\, Gelderland\, 6641 ZN\, Nederland
CATEGORIES:Inhaalles
END:VEVENT
BEGIN:VEVENT
DTSTART;TZID=Europe/Amsterdam:20260429T163000
DTEND;TZID=Europe/Amsterdam:20260429T173000
DTSTAMP:20260422T160722
CREATED:20260403T143623Z
LAST-MODIFIED:20260403T143623Z
UID:10021010-1777480200-1777483800@www.zwembaddeplons.nl
SUMMARY:Wo 16:30u niveau 5 Tamara (v)
DESCRIPTION:Klik op de dag en tijd om te kijken hoeveel plaatsen er nog beschikbaar zijn en vervolgens in te schrijven. \n* Kinderen die met het verkeerde niveau zijn ingeschreven\, worden niet tot de les toegelaten.
URL:https://www.zwembaddeplons.nl/event/wo-1630u-niveau-5-tamara-v/2026-04-29/
LOCATION:Beuningen\, Houtduiflaan 3\, Beuningen\, Gelderland\, 6641 ZN\, Nederland
CATEGORIES:Inhaalles
END:VEVENT
BEGIN:VEVENT
DTSTART;TZID=Europe/Amsterdam:20260429T173000
DTEND;TZID=Europe/Amsterdam:20260429T181500
DTSTAMP:20260422T160722
CREATED:20260326T141427Z
LAST-MODIFIED:20260326T141427Z
UID:10020637-1777483800-1777486500@www.zwembaddeplons.nl
SUMMARY:Intake; woensdag om 17.30 uur
DESCRIPTION:Klik op de dag en tijd om te kijken of er nog plaatsen beschikbaar zijn en vervolgens in te schrijven.
URL:https://www.zwembaddeplons.nl/event/intake-woensdag-om-17-30-uur-3/2026-04-29/
LOCATION:Beuningen\, Houtduiflaan 3\, Beuningen\, Gelderland\, 6641 ZN\, Nederland
CATEGORIES:Intake Juli 2026
END:VEVENT
BEGIN:VEVENT
DTSTART;TZID=Europe/Amsterdam:20260430T091500
DTEND;TZID=Europe/Amsterdam:20260430T100000
DTSTAMP:20260422T160722
CREATED:20260317T122442Z
LAST-MODIFIED:20260317T122442Z
UID:10020341-1777540500-1777543200@www.zwembaddeplons.nl
SUMMARY:Baby Do 09.15u Elcke
DESCRIPTION:Klik op de dag en tijd om te kijken hoeveel plaatsen er nog beschikbaar zijn en vervolgens in te schrijven. \nMocht uw kind alsnog niet aanwezig zijn op de inhaalles?\nGeef dit dan vroegtijdig aan ons door via de uitschrijflink of de mail\, dan kunnen wij de inhaalles vrijgeven voor een ander kind.
URL:https://www.zwembaddeplons.nl/event/baby-do-09-15u-elcke/2026-04-30/
LOCATION:Beuningen\, Houtduiflaan 3\, Beuningen\, Gelderland\, 6641 ZN\, Nederland
CATEGORIES:Inhaalles Baby/Peuter zwemmen
END:VEVENT
BEGIN:VEVENT
DTSTART;TZID=Europe/Amsterdam:20260430T101500
DTEND;TZID=Europe/Amsterdam:20260430T110000
DTSTAMP:20260422T160722
CREATED:20260317T122637Z
LAST-MODIFIED:20260317T122637Z
UID:10020362-1777544100-1777546800@www.zwembaddeplons.nl
SUMMARY:Baby Do 10.15u Elcke
DESCRIPTION:Klik op de dag en tijd om te kijken hoeveel plaatsen er nog beschikbaar zijn en vervolgens in te schrijven. \nMocht uw kind alsnog niet aanwezig zijn op de inhaalles?\nGeef dit dan vroegtijdig aan ons door via de uitschrijflink of de mail\, dan kunnen wij de inhaalles vrijgeven voor een ander kind.
URL:https://www.zwembaddeplons.nl/event/baby-do-10-15u-elcke/2026-04-30/
LOCATION:Beuningen\, Houtduiflaan 3\, Beuningen\, Gelderland\, 6641 ZN\, Nederland
CATEGORIES:Inhaalles Baby/Peuter zwemmen
END:VEVENT
BEGIN:VEVENT
DTSTART;TZID=Europe/Amsterdam:20260430T110000
DTEND;TZID=Europe/Amsterdam:20260430T114500
DTSTAMP:20260422T160722
CREATED:20260317T125829Z
LAST-MODIFIED:20260317T125829Z
UID:10020593-1777546800-1777549500@www.zwembaddeplons.nl
SUMMARY:Peuter Do 11.00u Elcke
DESCRIPTION:Klik op de dag en tijd om te kijken hoeveel plaatsen er nog beschikbaar zijn en vervolgens in te schrijven. \nMocht uw kind alsnog niet aanwezig zijn op de inhaalles?\nGeef dit dan vroegtijdig aan ons door via de uitschrijflink of de mail\, dan kunnen wij de inhaalles vrijgeven voor een ander kind.
URL:https://www.zwembaddeplons.nl/event/peuter-do-11-00u-elcke/2026-04-30/
LOCATION:Beuningen\, Houtduiflaan 3\, Beuningen\, Gelderland\, 6641 ZN\, Nederland
CATEGORIES:Inhaalles Baby/Peuter zwemmen
END:VEVENT
BEGIN:VEVENT
DTSTART;TZID=Europe/Amsterdam:20260430T150000
DTEND;TZID=Europe/Amsterdam:20260430T160000
DTSTAMP:20260422T160722
CREATED:20260403T143912Z
LAST-MODIFIED:20260403T143912Z
UID:10021022-1777561200-1777564800@www.zwembaddeplons.nl
SUMMARY:Do 15:00u niveau 2 Elcke (v)
DESCRIPTION:Klik op de dag en tijd om te kijken hoeveel plaatsen er nog beschikbaar zijn en vervolgens in te schrijven. \n* Kinderen die met het verkeerde niveau zijn ingeschreven\, worden niet tot de les toegelaten.
URL:https://www.zwembaddeplons.nl/event/do-1500u-niveau-2-elcke-v/2026-04-30/
LOCATION:Beuningen\, Houtduiflaan 3\, Beuningen\, Gelderland\, 6641 ZN\, Nederland
CATEGORIES:Inhaalles
END:VEVENT
BEGIN:VEVENT
DTSTART;TZID=Europe/Amsterdam:20260430T150000
DTEND;TZID=Europe/Amsterdam:20260430T160000
DTSTAMP:20260422T160722
CREATED:20260403T144123Z
LAST-MODIFIED:20260415T124915Z
UID:10021044-1777561200-1777564800@www.zwembaddeplons.nl
SUMMARY:Do 15:00u niveau 4 Jory (v)
DESCRIPTION:Klik op de dag en tijd om te kijken hoeveel plaatsen er nog beschikbaar zijn en vervolgens in te schrijven. \n* Kinderen die met het verkeerde niveau zijn ingeschreven\, worden niet tot de les toegelaten.
URL:https://www.zwembaddeplons.nl/event/do-1500u-niveau-4-jory-v/2026-04-30/
LOCATION:Beuningen\, Houtduiflaan 3\, Beuningen\, Gelderland\, 6641 ZN\, Nederland
CATEGORIES:Inhaalles
END:VEVENT
BEGIN:VEVENT
DTSTART;TZID=Europe/Amsterdam:20260430T150000
DTEND;TZID=Europe/Amsterdam:20260430T160000
DTSTAMP:20260422T160722
CREATED:20260403T144240Z
LAST-MODIFIED:20260403T144240Z
UID:10021055-1777561200-1777564800@www.zwembaddeplons.nl
SUMMARY:Do 15:00u niveau 5 Guido (m)
DESCRIPTION:Klik op de dag en tijd om te kijken hoeveel plaatsen er nog beschikbaar zijn en vervolgens in te schrijven. \n* Kinderen die met het verkeerde niveau zijn ingeschreven\, worden niet tot de les toegelaten.
URL:https://www.zwembaddeplons.nl/event/do-1500u-niveau-5-guido-m/2026-04-30/
LOCATION:Beuningen\, Houtduiflaan 3\, Beuningen\, Gelderland\, 6641 ZN\, Nederland
CATEGORIES:Inhaalles
END:VEVENT
BEGIN:VEVENT
DTSTART;TZID=Europe/Amsterdam:20260430T160000
DTEND;TZID=Europe/Amsterdam:20260430T170000
DTSTAMP:20260422T160722
CREATED:20260403T144358Z
LAST-MODIFIED:20260403T144358Z
UID:10021066-1777564800-1777568400@www.zwembaddeplons.nl
SUMMARY:Do 16:00u niveau 1 Guido (m)
DESCRIPTION:Klik op de dag en tijd om te kijken hoeveel plaatsen er nog beschikbaar zijn en vervolgens in te schrijven. \n* Kinderen die met het verkeerde niveau zijn ingeschreven\, worden niet tot de les toegelaten.
URL:https://www.zwembaddeplons.nl/event/do-1600u-niveau-1-guido-m/2026-04-30/
LOCATION:Beuningen\, Houtduiflaan 3\, Beuningen\, Gelderland\, 6641 ZN\, Nederland
CATEGORIES:Inhaalles
END:VEVENT
BEGIN:VEVENT
DTSTART;TZID=Europe/Amsterdam:20260430T160000
DTEND;TZID=Europe/Amsterdam:20260430T170000
DTSTAMP:20260422T160722
CREATED:20260403T144506Z
LAST-MODIFIED:20260403T144506Z
UID:10021077-1777564800-1777568400@www.zwembaddeplons.nl
SUMMARY:Do 16:00u niveau 2 Brenda (v)
DESCRIPTION:Klik op de dag en tijd om te kijken hoeveel plaatsen er nog beschikbaar zijn en vervolgens in te schrijven. \n* Kinderen die met het verkeerde niveau zijn ingeschreven\, worden niet tot de les toegelaten.
URL:https://www.zwembaddeplons.nl/event/do-1600u-niveau-2-brenda-v/2026-04-30/
LOCATION:Beuningen\, Houtduiflaan 3\, Beuningen\, Gelderland\, 6641 ZN\, Nederland
CATEGORIES:Inhaalles
END:VEVENT
BEGIN:VEVENT
DTSTART;TZID=Europe/Amsterdam:20260430T160000
DTEND;TZID=Europe/Amsterdam:20260430T170000
DTSTAMP:20260422T160722
CREATED:20260403T144608Z
LAST-MODIFIED:20260403T144608Z
UID:10021088-1777564800-1777568400@www.zwembaddeplons.nl
SUMMARY:Do 16:00u niveau 2 Elcke (v)
DESCRIPTION:Klik op de dag en tijd om te kijken hoeveel plaatsen er nog beschikbaar zijn en vervolgens in te schrijven. \n* Kinderen die met het verkeerde niveau zijn ingeschreven\, worden niet tot de les toegelaten.
URL:https://www.zwembaddeplons.nl/event/do-1600u-niveau-2-elcke-v/2026-04-30/
LOCATION:Beuningen\, Houtduiflaan 3\, Beuningen\, Gelderland\, 6641 ZN\, Nederland
CATEGORIES:Inhaalles
END:VEVENT
BEGIN:VEVENT
DTSTART;TZID=Europe/Amsterdam:20260430T160000
DTEND;TZID=Europe/Amsterdam:20260430T170000
DTSTAMP:20260422T160722
CREATED:20260403T155124Z
LAST-MODIFIED:20260403T155124Z
UID:10021099-1777564800-1777568400@www.zwembaddeplons.nl
SUMMARY:Do 16:00u niveau 5 Jory (v)
DESCRIPTION:Klik op de dag en tijd om te kijken hoeveel plaatsen er nog beschikbaar zijn en vervolgens in te schrijven. \n* Kinderen die met het verkeerde niveau zijn ingeschreven\, worden niet tot de les toegelaten.
URL:https://www.zwembaddeplons.nl/event/do-1600u-niveau-5-jory-v/2026-04-30/
LOCATION:Beuningen\, Houtduiflaan 3\, Beuningen\, Gelderland\, 6641 ZN\, Nederland
CATEGORIES:Inhaalles
END:VEVENT
BEGIN:VEVENT
DTSTART;TZID=Europe/Amsterdam:20260430T170000
DTEND;TZID=Europe/Amsterdam:20260430T180000
DTSTAMP:20260422T160722
CREATED:20260403T155241Z
LAST-MODIFIED:20260403T155241Z
UID:10021110-1777568400-1777572000@www.zwembaddeplons.nl
SUMMARY:Do 17:00u niveau 1 Jory (v)
DESCRIPTION:Klik op de dag en tijd om te kijken hoeveel plaatsen er nog beschikbaar zijn en vervolgens in te schrijven. \n* Kinderen die met het verkeerde niveau zijn ingeschreven\, worden niet tot de les toegelaten.
URL:https://www.zwembaddeplons.nl/event/do-1700u-niveau-1-jory-v/2026-04-30/
LOCATION:Beuningen\, Houtduiflaan 3\, Beuningen\, Gelderland\, 6641 ZN\, Nederland
CATEGORIES:Inhaalles
END:VEVENT
BEGIN:VEVENT
DTSTART;TZID=Europe/Amsterdam:20260430T170000
DTEND;TZID=Europe/Amsterdam:20260430T180000
DTSTAMP:20260422T160722
CREATED:20260403T155345Z
LAST-MODIFIED:20260403T155345Z
UID:10021121-1777568400-1777572000@www.zwembaddeplons.nl
SUMMARY:Do 17:00u niveau 2 Brenda (v)
DESCRIPTION:Klik op de dag en tijd om te kijken hoeveel plaatsen er nog beschikbaar zijn en vervolgens in te schrijven. \n* Kinderen die met het verkeerde niveau zijn ingeschreven\, worden niet tot de les toegelaten.
URL:https://www.zwembaddeplons.nl/event/do-1700u-niveau-2-brenda-v/2026-04-30/
LOCATION:Beuningen\, Houtduiflaan 3\, Beuningen\, Gelderland\, 6641 ZN\, Nederland
CATEGORIES:Inhaalles
END:VEVENT
BEGIN:VEVENT
DTSTART;TZID=Europe/Amsterdam:20260430T170000
DTEND;TZID=Europe/Amsterdam:20260430T180000
DTSTAMP:20260422T160722
CREATED:20260403T155456Z
LAST-MODIFIED:20260403T155456Z
UID:10021132-1777568400-1777572000@www.zwembaddeplons.nl
SUMMARY:Do 17:00u niveau 5 Milou (v)
DESCRIPTION:Klik op de dag en tijd om te kijken hoeveel plaatsen er nog beschikbaar zijn en vervolgens in te schrijven. \n* Kinderen die met het verkeerde niveau zijn ingeschreven\, worden niet tot de les toegelaten.
URL:https://www.zwembaddeplons.nl/event/do-1700u-niveau-5-milou-v/2026-04-30/
LOCATION:Beuningen\, Houtduiflaan 3\, Beuningen\, Gelderland\, 6641 ZN\, Nederland
CATEGORIES:Inhaalles
END:VEVENT
BEGIN:VEVENT
DTSTART;TZID=Europe/Amsterdam:20260430T170000
DTEND;TZID=Europe/Amsterdam:20260430T180000
DTSTAMP:20260422T160722
CREATED:20260403T155602Z
LAST-MODIFIED:20260403T155602Z
UID:10021143-1777568400-1777572000@www.zwembaddeplons.nl
SUMMARY:Do 17:00u niveau 3 Guido (m)
DESCRIPTION:Klik op de dag en tijd om te kijken hoeveel plaatsen er nog beschikbaar zijn en vervolgens in te schrijven. \n* Kinderen die met het verkeerde niveau zijn ingeschreven\, worden niet tot de les toegelaten.
URL:https://www.zwembaddeplons.nl/event/do-1700u-niveau-3-guido-m/2026-04-30/
LOCATION:Beuningen\, Houtduiflaan 3\, Beuningen\, Gelderland\, 6641 ZN\, Nederland
CATEGORIES:Inhaalles
END:VEVENT
BEGIN:VEVENT
DTSTART;TZID=Europe/Amsterdam:20260430T180000
DTEND;TZID=Europe/Amsterdam:20260430T184500
DTSTAMP:20260422T160722
CREATED:20260326T141614Z
LAST-MODIFIED:20260326T141614Z
UID:10020641-1777572000-1777574700@www.zwembaddeplons.nl
SUMMARY:Intake; donderdag om 18.00 uur
DESCRIPTION:Klik op de dag en tijd om te kijken of er nog plaatsen beschikbaar zijn en vervolgens in te schrijven.
URL:https://www.zwembaddeplons.nl/event/intake-donderdag-om-18-00-uur/2026-04-30/
LOCATION:Beuningen\, Houtduiflaan 3\, Beuningen\, Gelderland\, 6641 ZN\, Nederland
CATEGORIES:Intake Juli 2026
END:VEVENT
BEGIN:VEVENT
DTSTART;TZID=Europe/Amsterdam:20260501T091500
DTEND;TZID=Europe/Amsterdam:20260501T100000
DTSTAMP:20260422T160722
CREATED:20260317T122839Z
LAST-MODIFIED:20260317T122839Z
UID:10020383-1777626900-1777629600@www.zwembaddeplons.nl
SUMMARY:Baby Vrij 09.15u Elcke
DESCRIPTION:Klik op de dag en tijd om te kijken hoeveel plaatsen er nog beschikbaar zijn en vervolgens in te schrijven. \nMocht uw kind alsnog niet aanwezig zijn op de inhaalles?\nGeef dit dan vroegtijdig aan ons door via de uitschrijflink of de mail\, dan kunnen wij de inhaalles vrijgeven voor een ander kind.
URL:https://www.zwembaddeplons.nl/event/baby-vrij-09-15u-elcke/2026-05-01/
LOCATION:Beuningen\, Houtduiflaan 3\, Beuningen\, Gelderland\, 6641 ZN\, Nederland
CATEGORIES:Inhaalles Baby/Peuter zwemmen
END:VEVENT
BEGIN:VEVENT
DTSTART;TZID=Europe/Amsterdam:20260501T100000
DTEND;TZID=Europe/Amsterdam:20260501T104500
DTSTAMP:20260422T160722
CREATED:20260317T123012Z
LAST-MODIFIED:20260317T123012Z
UID:10020405-1777629600-1777632300@www.zwembaddeplons.nl
SUMMARY:Baby Vrij 10.00u Elcke
DESCRIPTION:Klik op de dag en tijd om te kijken hoeveel plaatsen er nog beschikbaar zijn en vervolgens in te schrijven. \nMocht uw kind alsnog niet aanwezig zijn op de inhaalles?\nGeef dit dan vroegtijdig aan ons door via de uitschrijflink of de mail\, dan kunnen wij de inhaalles vrijgeven voor een ander kind.
URL:https://www.zwembaddeplons.nl/event/baby-vrij-10-00u-elcke/2026-05-01/
LOCATION:Beuningen\, Houtduiflaan 3\, Beuningen\, Gelderland\, 6641 ZN\, Nederland
CATEGORIES:Inhaalles Baby/Peuter zwemmen
END:VEVENT
BEGIN:VEVENT
DTSTART;TZID=Europe/Amsterdam:20260501T104500
DTEND;TZID=Europe/Amsterdam:20260501T110000
DTSTAMP:20260422T160722
CREATED:20260317T125609Z
LAST-MODIFIED:20260317T125609Z
UID:10020571-1777632300-1777633200@www.zwembaddeplons.nl
SUMMARY:Peuter Vrij 10.45u Elcke
DESCRIPTION:Klik op de dag en tijd om te kijken hoeveel plaatsen er nog beschikbaar zijn en vervolgens in te schrijven. \nMocht uw kind alsnog niet aanwezig zijn op de inhaalles?\nGeef dit dan vroegtijdig aan ons door via de uitschrijflink of de mail\, dan kunnen wij de inhaalles vrijgeven voor een ander kind.
URL:https://www.zwembaddeplons.nl/event/peuter-vrij-10-45u-elcke/2026-05-01/
LOCATION:Beuningen\, Houtduiflaan 3\, Beuningen\, Gelderland\, 6641 ZN\, Nederland
CATEGORIES:Inhaalles Baby/Peuter zwemmen
END:VEVENT
BEGIN:VEVENT
DTSTART;TZID=Europe/Amsterdam:20260502T080000
DTEND;TZID=Europe/Amsterdam:20260502T084500
DTSTAMP:20260422T160722
CREATED:20260317T123205Z
LAST-MODIFIED:20260317T123205Z
UID:10020427-1777708800-1777711500@www.zwembaddeplons.nl
SUMMARY:Baby Zat 08.00u Desiree
DESCRIPTION:Klik op de dag en tijd om te kijken hoeveel plaatsen er nog beschikbaar zijn en vervolgens in te schrijven. \nMocht uw kind alsnog niet aanwezig zijn op de inhaalles?\nGeef dit dan vroegtijdig aan ons door via de uitschrijflink of de mail\, dan kunnen wij de inhaalles vrijgeven voor een ander kind.
URL:https://www.zwembaddeplons.nl/event/baby-zat-08-00u-desiree/2026-05-02/
LOCATION:Beuningen\, Houtduiflaan 3\, Beuningen\, Gelderland\, 6641 ZN\, Nederland
CATEGORIES:Inhaalles Baby/Peuter zwemmen
END:VEVENT
BEGIN:VEVENT
DTSTART;TZID=Europe/Amsterdam:20260502T084500
DTEND;TZID=Europe/Amsterdam:20260502T093000
DTSTAMP:20260422T160722
CREATED:20260317T123331Z
LAST-MODIFIED:20260317T123331Z
UID:10020449-1777711500-1777714200@www.zwembaddeplons.nl
SUMMARY:Baby Zat 08.45u Desiree
DESCRIPTION:Klik op de dag en tijd om te kijken hoeveel plaatsen er nog beschikbaar zijn en vervolgens in te schrijven. \nMocht uw kind alsnog niet aanwezig zijn op de inhaalles?\nGeef dit dan vroegtijdig aan ons door via de uitschrijflink of de mail\, dan kunnen wij de inhaalles vrijgeven voor een ander kind.
URL:https://www.zwembaddeplons.nl/event/baby-zat-08-45u-desiree/2026-05-02/
LOCATION:Beuningen\, Houtduiflaan 3\, Beuningen\, Gelderland\, 6641 ZN\, Nederland
CATEGORIES:Inhaalles Baby/Peuter zwemmen
END:VEVENT
BEGIN:VEVENT
DTSTART;TZID=Europe/Amsterdam:20260502T093000
DTEND;TZID=Europe/Amsterdam:20260502T103000
DTSTAMP:20260422T160722
CREATED:20260403T155822Z
LAST-MODIFIED:20260403T161211Z
UID:10021157-1777714200-1777717800@www.zwembaddeplons.nl
SUMMARY:Za 09:30u niveau 1 Ruben (m)
DESCRIPTION:Klik op de dag en tijd om te kijken hoeveel plaatsen er nog beschikbaar zijn en vervolgens in te schrijven. \n* Kinderen die met het verkeerde niveau zijn ingeschreven\, worden niet tot de les toegelaten.
URL:https://www.zwembaddeplons.nl/event/za-0930u-niveau-1-ruben-m/2026-05-02/
LOCATION:Beuningen\, Houtduiflaan 3\, Beuningen\, Gelderland\, 6641 ZN\, Nederland
CATEGORIES:Inhaalles
END:VEVENT
BEGIN:VEVENT
DTSTART;TZID=Europe/Amsterdam:20260502T093000
DTEND;TZID=Europe/Amsterdam:20260502T103000
DTSTAMP:20260422T160722
CREATED:20260403T155933Z
LAST-MODIFIED:20260403T155933Z
UID:10021177-1777714200-1777717800@www.zwembaddeplons.nl
SUMMARY:Za 09:30u niveau 2 Meike (v)
DESCRIPTION:Klik op de dag en tijd om te kijken hoeveel plaatsen er nog beschikbaar zijn en vervolgens in te schrijven. \n* Kinderen die met het verkeerde niveau zijn ingeschreven\, worden niet tot de les toegelaten.
URL:https://www.zwembaddeplons.nl/event/za-0930u-niveau-2-meike-v/2026-05-02/
LOCATION:Beuningen\, Houtduiflaan 3\, Beuningen\, Gelderland\, 6641 ZN\, Nederland
CATEGORIES:Inhaalles
END:VEVENT
BEGIN:VEVENT
DTSTART;TZID=Europe/Amsterdam:20260502T093000
DTEND;TZID=Europe/Amsterdam:20260502T103000
DTSTAMP:20260422T160722
CREATED:20260403T160050Z
LAST-MODIFIED:20260403T160050Z
UID:10021189-1777714200-1777717800@www.zwembaddeplons.nl
SUMMARY:Za 09:30u niveau 3 Desiree (v)
DESCRIPTION:Klik op de dag en tijd om te kijken hoeveel plaatsen er nog beschikbaar zijn en vervolgens in te schrijven. \n* Kinderen die met het verkeerde niveau zijn ingeschreven\, worden niet tot de les toegelaten.
URL:https://www.zwembaddeplons.nl/event/za-0930u-niveau-3-desiree-v/2026-05-02/
LOCATION:Beuningen\, Houtduiflaan 3\, Beuningen\, Gelderland\, 6641 ZN\, Nederland
CATEGORIES:Inhaalles
END:VEVENT
BEGIN:VEVENT
DTSTART;TZID=Europe/Amsterdam:20260502T093000
DTEND;TZID=Europe/Amsterdam:20260502T103000
DTSTAMP:20260422T160722
CREATED:20260403T160147Z
LAST-MODIFIED:20260403T160147Z
UID:10021201-1777714200-1777717800@www.zwembaddeplons.nl
SUMMARY:Za 09:30u niveau 3 Milou (v)
DESCRIPTION:Klik op de dag en tijd om te kijken hoeveel plaatsen er nog beschikbaar zijn en vervolgens in te schrijven. \n* Kinderen die met het verkeerde niveau zijn ingeschreven\, worden niet tot de les toegelaten.
URL:https://www.zwembaddeplons.nl/event/za-0930u-niveau-3-milou-v/2026-05-02/
LOCATION:Beuningen\, Houtduiflaan 3\, Beuningen\, Gelderland\, 6641 ZN\, Nederland
CATEGORIES:Inhaalles
END:VEVENT
BEGIN:VEVENT
DTSTART;TZID=Europe/Amsterdam:20260502T093000
DTEND;TZID=Europe/Amsterdam:20260502T103000
DTSTAMP:20260422T160722
CREATED:20260403T160300Z
LAST-MODIFIED:20260415T124942Z
UID:10021213-1777714200-1777717800@www.zwembaddeplons.nl
SUMMARY:Za 9:30u niveau 4 Guido (m)
DESCRIPTION:Klik op de dag en tijd om te kijken hoeveel plaatsen er nog beschikbaar zijn en vervolgens in te schrijven. \n* Kinderen die met het verkeerde niveau zijn ingeschreven\, worden niet tot de les toegelaten.
URL:https://www.zwembaddeplons.nl/event/za-930u-niveau-4-guido-m/2026-05-02/
LOCATION:Beuningen\, Houtduiflaan 3\, Beuningen\, Gelderland\, 6641 ZN\, Nederland
CATEGORIES:Inhaalles
END:VEVENT
BEGIN:VEVENT
DTSTART;TZID=Europe/Amsterdam:20260502T103000
DTEND;TZID=Europe/Amsterdam:20260502T113000
DTSTAMP:20260422T160722
CREATED:20260403T160358Z
LAST-MODIFIED:20260403T160358Z
UID:10021225-1777717800-1777721400@www.zwembaddeplons.nl
SUMMARY:Za 10:30u niveau 1 Meike (v)
DESCRIPTION:Klik op de dag en tijd om te kijken hoeveel plaatsen er nog beschikbaar zijn en vervolgens in te schrijven. \n* Kinderen die met het verkeerde niveau zijn ingeschreven\, worden niet tot de les toegelaten.
URL:https://www.zwembaddeplons.nl/event/za-1030u-niveau-1-meike-v/2026-05-02/
LOCATION:Beuningen\, Houtduiflaan 3\, Beuningen\, Gelderland\, 6641 ZN\, Nederland
CATEGORIES:Inhaalles
END:VEVENT
END:VCALENDAR