BEGIN:VCALENDAR
VERSION:2.0
PRODID:-//Zwembad de Plons - ECPv6.15.20//NONSGML v1.0//EN
CALSCALE:GREGORIAN
METHOD:PUBLISH
X-ORIGINAL-URL:https://www.zwembaddeplons.nl
X-WR-CALDESC:Evenementen voor Zwembad de Plons
REFRESH-INTERVAL;VALUE=DURATION:PT1H
X-Robots-Tag:noindex
X-PUBLISHED-TTL:PT1H
BEGIN:VTIMEZONE
TZID:Europe/Amsterdam
BEGIN:DAYLIGHT
TZOFFSETFROM:+0100
TZOFFSETTO:+0200
TZNAME:CEST
DTSTART:20250330T010000
END:DAYLIGHT
BEGIN:STANDARD
TZOFFSETFROM:+0200
TZOFFSETTO:+0100
TZNAME:CET
DTSTART:20251026T010000
END:STANDARD
BEGIN:DAYLIGHT
TZOFFSETFROM:+0100
TZOFFSETTO:+0200
TZNAME:CEST
DTSTART:20260329T010000
END:DAYLIGHT
BEGIN:STANDARD
TZOFFSETFROM:+0200
TZOFFSETTO:+0100
TZNAME:CET
DTSTART:20261025T010000
END:STANDARD
BEGIN:DAYLIGHT
TZOFFSETFROM:+0100
TZOFFSETTO:+0200
TZNAME:CEST
DTSTART:20270328T010000
END:DAYLIGHT
BEGIN:STANDARD
TZOFFSETFROM:+0200
TZOFFSETTO:+0100
TZNAME:CET
DTSTART:20271031T010000
END:STANDARD
END:VTIMEZONE
BEGIN:VEVENT
DTSTART;TZID=Europe/Amsterdam:20260418T103000
DTEND;TZID=Europe/Amsterdam:20260418T113000
DTSTAMP:20260422T132049
CREATED:20260403T161045Z
LAST-MODIFIED:20260415T125002Z
UID:10021295-1776508200-1776511800@www.zwembaddeplons.nl
SUMMARY:Za 10:30u niveau 4 milou (v)
DESCRIPTION:Klik op de dag en tijd om te kijken hoeveel plaatsen er nog beschikbaar zijn en vervolgens in te schrijven. \n* Kinderen die met het verkeerde niveau zijn ingeschreven\, worden niet tot de les toegelaten.
URL:https://www.zwembaddeplons.nl/event/za-1030u-niveau-4-milou-v/2026-04-18/
LOCATION:Beuningen\, Houtduiflaan 3\, Beuningen\, Gelderland\, 6641 ZN\, Nederland
CATEGORIES:Inhaalles
END:VEVENT
BEGIN:VEVENT
DTSTART;TZID=Europe/Amsterdam:20260418T103000
DTEND;TZID=Europe/Amsterdam:20260418T113000
DTSTAMP:20260422T132049
CREATED:20260403T160835Z
LAST-MODIFIED:20260403T160835Z
UID:10021271-1776508200-1776511800@www.zwembaddeplons.nl
SUMMARY:Za 10:30u niveau 2 Ruben (m)
DESCRIPTION:Klik op de dag en tijd om te kijken hoeveel plaatsen er nog beschikbaar zijn en vervolgens in te schrijven. \n* Kinderen die met het verkeerde niveau zijn ingeschreven\, worden niet tot de les toegelaten.
URL:https://www.zwembaddeplons.nl/event/za-1030u-niveau-2-ruben-m/2026-04-18/
LOCATION:Beuningen\, Houtduiflaan 3\, Beuningen\, Gelderland\, 6641 ZN\, Nederland
CATEGORIES:Inhaalles
END:VEVENT
BEGIN:VEVENT
DTSTART;TZID=Europe/Amsterdam:20260418T103000
DTEND;TZID=Europe/Amsterdam:20260418T113000
DTSTAMP:20260422T132049
CREATED:20260403T160616Z
LAST-MODIFIED:20260403T160616Z
UID:10021247-1776508200-1776511800@www.zwembaddeplons.nl
SUMMARY:Za 10:30u niveau 5 Guido (m)
DESCRIPTION:Klik op de dag en tijd om te kijken hoeveel plaatsen er nog beschikbaar zijn en vervolgens in te schrijven. \n* Kinderen die met het verkeerde niveau zijn ingeschreven\, worden niet tot de les toegelaten.
URL:https://www.zwembaddeplons.nl/event/za-1030u-niveau-5-guido-m/2026-04-18/
LOCATION:Beuningen\, Houtduiflaan 3\, Beuningen\, Gelderland\, 6641 ZN\, Nederland
CATEGORIES:Inhaalles
END:VEVENT
BEGIN:VEVENT
DTSTART;TZID=Europe/Amsterdam:20260418T103000
DTEND;TZID=Europe/Amsterdam:20260418T113000
DTSTAMP:20260422T132049
CREATED:20260403T160508Z
LAST-MODIFIED:20260403T160508Z
UID:10021235-1776508200-1776511800@www.zwembaddeplons.nl
SUMMARY:Za 10:30u niveau 3 Desiree (v)
DESCRIPTION:Klik op de dag en tijd om te kijken hoeveel plaatsen er nog beschikbaar zijn en vervolgens in te schrijven. \n* Kinderen die met het verkeerde niveau zijn ingeschreven\, worden niet tot de les toegelaten.
URL:https://www.zwembaddeplons.nl/event/za-1030u-niveau-3-desiree-v/2026-04-18/
LOCATION:Beuningen\, Houtduiflaan 3\, Beuningen\, Gelderland\, 6641 ZN\, Nederland
CATEGORIES:Inhaalles
END:VEVENT
BEGIN:VEVENT
DTSTART;TZID=Europe/Amsterdam:20260418T103000
DTEND;TZID=Europe/Amsterdam:20260418T113000
DTSTAMP:20260422T132049
CREATED:20260403T160358Z
LAST-MODIFIED:20260403T160358Z
UID:10021223-1776508200-1776511800@www.zwembaddeplons.nl
SUMMARY:Za 10:30u niveau 1 Meike (v)
DESCRIPTION:Klik op de dag en tijd om te kijken hoeveel plaatsen er nog beschikbaar zijn en vervolgens in te schrijven. \n* Kinderen die met het verkeerde niveau zijn ingeschreven\, worden niet tot de les toegelaten.
URL:https://www.zwembaddeplons.nl/event/za-1030u-niveau-1-meike-v/2026-04-18/
LOCATION:Beuningen\, Houtduiflaan 3\, Beuningen\, Gelderland\, 6641 ZN\, Nederland
CATEGORIES:Inhaalles
END:VEVENT
BEGIN:VEVENT
DTSTART;TZID=Europe/Amsterdam:20260418T093000
DTEND;TZID=Europe/Amsterdam:20260418T103000
DTSTAMP:20260422T132049
CREATED:20260403T160300Z
LAST-MODIFIED:20260415T124942Z
UID:10021211-1776504600-1776508200@www.zwembaddeplons.nl
SUMMARY:Za 9:30u niveau 4 Guido (m)
DESCRIPTION:Klik op de dag en tijd om te kijken hoeveel plaatsen er nog beschikbaar zijn en vervolgens in te schrijven. \n* Kinderen die met het verkeerde niveau zijn ingeschreven\, worden niet tot de les toegelaten.
URL:https://www.zwembaddeplons.nl/event/za-930u-niveau-4-guido-m/2026-04-18/
LOCATION:Beuningen\, Houtduiflaan 3\, Beuningen\, Gelderland\, 6641 ZN\, Nederland
CATEGORIES:Inhaalles
END:VEVENT
BEGIN:VEVENT
DTSTART;TZID=Europe/Amsterdam:20260418T093000
DTEND;TZID=Europe/Amsterdam:20260418T103000
DTSTAMP:20260422T132049
CREATED:20260403T160147Z
LAST-MODIFIED:20260403T160147Z
UID:10021199-1776504600-1776508200@www.zwembaddeplons.nl
SUMMARY:Za 09:30u niveau 3 Milou (v)
DESCRIPTION:Klik op de dag en tijd om te kijken hoeveel plaatsen er nog beschikbaar zijn en vervolgens in te schrijven. \n* Kinderen die met het verkeerde niveau zijn ingeschreven\, worden niet tot de les toegelaten.
URL:https://www.zwembaddeplons.nl/event/za-0930u-niveau-3-milou-v/2026-04-18/
LOCATION:Beuningen\, Houtduiflaan 3\, Beuningen\, Gelderland\, 6641 ZN\, Nederland
CATEGORIES:Inhaalles
END:VEVENT
BEGIN:VEVENT
DTSTART;TZID=Europe/Amsterdam:20260418T093000
DTEND;TZID=Europe/Amsterdam:20260418T103000
DTSTAMP:20260422T132049
CREATED:20260403T160050Z
LAST-MODIFIED:20260403T160050Z
UID:10021187-1776504600-1776508200@www.zwembaddeplons.nl
SUMMARY:Za 09:30u niveau 3 Desiree (v)
DESCRIPTION:Klik op de dag en tijd om te kijken hoeveel plaatsen er nog beschikbaar zijn en vervolgens in te schrijven. \n* Kinderen die met het verkeerde niveau zijn ingeschreven\, worden niet tot de les toegelaten.
URL:https://www.zwembaddeplons.nl/event/za-0930u-niveau-3-desiree-v/2026-04-18/
LOCATION:Beuningen\, Houtduiflaan 3\, Beuningen\, Gelderland\, 6641 ZN\, Nederland
CATEGORIES:Inhaalles
END:VEVENT
BEGIN:VEVENT
DTSTART;TZID=Europe/Amsterdam:20260418T093000
DTEND;TZID=Europe/Amsterdam:20260418T103000
DTSTAMP:20260422T132049
CREATED:20260403T155933Z
LAST-MODIFIED:20260403T155933Z
UID:10021175-1776504600-1776508200@www.zwembaddeplons.nl
SUMMARY:Za 09:30u niveau 2 Meike (v)
DESCRIPTION:Klik op de dag en tijd om te kijken hoeveel plaatsen er nog beschikbaar zijn en vervolgens in te schrijven. \n* Kinderen die met het verkeerde niveau zijn ingeschreven\, worden niet tot de les toegelaten.
URL:https://www.zwembaddeplons.nl/event/za-0930u-niveau-2-meike-v/2026-04-18/
LOCATION:Beuningen\, Houtduiflaan 3\, Beuningen\, Gelderland\, 6641 ZN\, Nederland
CATEGORIES:Inhaalles
END:VEVENT
BEGIN:VEVENT
DTSTART;TZID=Europe/Amsterdam:20260418T093000
DTEND;TZID=Europe/Amsterdam:20260418T103000
DTSTAMP:20260422T132049
CREATED:20260403T155822Z
LAST-MODIFIED:20260403T161211Z
UID:10021153-1776504600-1776508200@www.zwembaddeplons.nl
SUMMARY:Za 09:30u niveau 1 Ruben (m)
DESCRIPTION:Klik op de dag en tijd om te kijken hoeveel plaatsen er nog beschikbaar zijn en vervolgens in te schrijven. \n* Kinderen die met het verkeerde niveau zijn ingeschreven\, worden niet tot de les toegelaten.
URL:https://www.zwembaddeplons.nl/event/za-0930u-niveau-1-ruben-m/2026-04-18/
LOCATION:Beuningen\, Houtduiflaan 3\, Beuningen\, Gelderland\, 6641 ZN\, Nederland
CATEGORIES:Inhaalles
END:VEVENT
BEGIN:VEVENT
DTSTART;TZID=Europe/Amsterdam:20260418T084500
DTEND;TZID=Europe/Amsterdam:20260418T093000
DTSTAMP:20260422T132049
CREATED:20260317T123331Z
LAST-MODIFIED:20260317T123331Z
UID:10020447-1776501900-1776504600@www.zwembaddeplons.nl
SUMMARY:Baby Zat 08.45u Desiree
DESCRIPTION:Klik op de dag en tijd om te kijken hoeveel plaatsen er nog beschikbaar zijn en vervolgens in te schrijven. \nMocht uw kind alsnog niet aanwezig zijn op de inhaalles?\nGeef dit dan vroegtijdig aan ons door via de uitschrijflink of de mail\, dan kunnen wij de inhaalles vrijgeven voor een ander kind.
URL:https://www.zwembaddeplons.nl/event/baby-zat-08-45u-desiree/2026-04-18/
LOCATION:Beuningen\, Houtduiflaan 3\, Beuningen\, Gelderland\, 6641 ZN\, Nederland
CATEGORIES:Inhaalles Baby/Peuter zwemmen
END:VEVENT
BEGIN:VEVENT
DTSTART;TZID=Europe/Amsterdam:20260418T080000
DTEND;TZID=Europe/Amsterdam:20260418T084500
DTSTAMP:20260422T132049
CREATED:20260317T123205Z
LAST-MODIFIED:20260317T123205Z
UID:10020425-1776499200-1776501900@www.zwembaddeplons.nl
SUMMARY:Baby Zat 08.00u Desiree
DESCRIPTION:Klik op de dag en tijd om te kijken hoeveel plaatsen er nog beschikbaar zijn en vervolgens in te schrijven. \nMocht uw kind alsnog niet aanwezig zijn op de inhaalles?\nGeef dit dan vroegtijdig aan ons door via de uitschrijflink of de mail\, dan kunnen wij de inhaalles vrijgeven voor een ander kind.
URL:https://www.zwembaddeplons.nl/event/baby-zat-08-00u-desiree/2026-04-18/
LOCATION:Beuningen\, Houtduiflaan 3\, Beuningen\, Gelderland\, 6641 ZN\, Nederland
CATEGORIES:Inhaalles Baby/Peuter zwemmen
END:VEVENT
BEGIN:VEVENT
DTSTART;TZID=Europe/Amsterdam:20260417T104500
DTEND;TZID=Europe/Amsterdam:20260417T110000
DTSTAMP:20260422T132049
CREATED:20260317T125609Z
LAST-MODIFIED:20260317T125609Z
UID:10020569-1776422700-1776423600@www.zwembaddeplons.nl
SUMMARY:Peuter Vrij 10.45u Elcke
DESCRIPTION:Klik op de dag en tijd om te kijken hoeveel plaatsen er nog beschikbaar zijn en vervolgens in te schrijven. \nMocht uw kind alsnog niet aanwezig zijn op de inhaalles?\nGeef dit dan vroegtijdig aan ons door via de uitschrijflink of de mail\, dan kunnen wij de inhaalles vrijgeven voor een ander kind.
URL:https://www.zwembaddeplons.nl/event/peuter-vrij-10-45u-elcke/2026-04-17/
LOCATION:Beuningen\, Houtduiflaan 3\, Beuningen\, Gelderland\, 6641 ZN\, Nederland
CATEGORIES:Inhaalles Baby/Peuter zwemmen
END:VEVENT
BEGIN:VEVENT
DTSTART;TZID=Europe/Amsterdam:20260417T100000
DTEND;TZID=Europe/Amsterdam:20260417T104500
DTSTAMP:20260422T132049
CREATED:20260317T123012Z
LAST-MODIFIED:20260317T123012Z
UID:10020403-1776420000-1776422700@www.zwembaddeplons.nl
SUMMARY:Baby Vrij 10.00u Elcke
DESCRIPTION:Klik op de dag en tijd om te kijken hoeveel plaatsen er nog beschikbaar zijn en vervolgens in te schrijven. \nMocht uw kind alsnog niet aanwezig zijn op de inhaalles?\nGeef dit dan vroegtijdig aan ons door via de uitschrijflink of de mail\, dan kunnen wij de inhaalles vrijgeven voor een ander kind.
URL:https://www.zwembaddeplons.nl/event/baby-vrij-10-00u-elcke/2026-04-17/
LOCATION:Beuningen\, Houtduiflaan 3\, Beuningen\, Gelderland\, 6641 ZN\, Nederland
CATEGORIES:Inhaalles Baby/Peuter zwemmen
END:VEVENT
BEGIN:VEVENT
DTSTART;TZID=Europe/Amsterdam:20260417T091500
DTEND;TZID=Europe/Amsterdam:20260417T100000
DTSTAMP:20260422T132049
CREATED:20260317T122839Z
LAST-MODIFIED:20260317T122839Z
UID:10020381-1776417300-1776420000@www.zwembaddeplons.nl
SUMMARY:Baby Vrij 09.15u Elcke
DESCRIPTION:Klik op de dag en tijd om te kijken hoeveel plaatsen er nog beschikbaar zijn en vervolgens in te schrijven. \nMocht uw kind alsnog niet aanwezig zijn op de inhaalles?\nGeef dit dan vroegtijdig aan ons door via de uitschrijflink of de mail\, dan kunnen wij de inhaalles vrijgeven voor een ander kind.
URL:https://www.zwembaddeplons.nl/event/baby-vrij-09-15u-elcke/2026-04-17/
LOCATION:Beuningen\, Houtduiflaan 3\, Beuningen\, Gelderland\, 6641 ZN\, Nederland
CATEGORIES:Inhaalles Baby/Peuter zwemmen
END:VEVENT
BEGIN:VEVENT
DTSTART;TZID=Europe/Amsterdam:20260416T170000
DTEND;TZID=Europe/Amsterdam:20260416T180000
DTSTAMP:20260422T132049
CREATED:20260403T155602Z
LAST-MODIFIED:20260403T155602Z
UID:10021141-1776358800-1776362400@www.zwembaddeplons.nl
SUMMARY:Do 17:00u niveau 3 Guido (m)
DESCRIPTION:Klik op de dag en tijd om te kijken hoeveel plaatsen er nog beschikbaar zijn en vervolgens in te schrijven. \n* Kinderen die met het verkeerde niveau zijn ingeschreven\, worden niet tot de les toegelaten.
URL:https://www.zwembaddeplons.nl/event/do-1700u-niveau-3-guido-m/2026-04-16/
LOCATION:Beuningen\, Houtduiflaan 3\, Beuningen\, Gelderland\, 6641 ZN\, Nederland
CATEGORIES:Inhaalles
END:VEVENT
BEGIN:VEVENT
DTSTART;TZID=Europe/Amsterdam:20260416T170000
DTEND;TZID=Europe/Amsterdam:20260416T180000
DTSTAMP:20260422T132049
CREATED:20260403T155456Z
LAST-MODIFIED:20260403T155456Z
UID:10021130-1776358800-1776362400@www.zwembaddeplons.nl
SUMMARY:Do 17:00u niveau 5 Milou (v)
DESCRIPTION:Klik op de dag en tijd om te kijken hoeveel plaatsen er nog beschikbaar zijn en vervolgens in te schrijven. \n* Kinderen die met het verkeerde niveau zijn ingeschreven\, worden niet tot de les toegelaten.
URL:https://www.zwembaddeplons.nl/event/do-1700u-niveau-5-milou-v/2026-04-16/
LOCATION:Beuningen\, Houtduiflaan 3\, Beuningen\, Gelderland\, 6641 ZN\, Nederland
CATEGORIES:Inhaalles
END:VEVENT
BEGIN:VEVENT
DTSTART;TZID=Europe/Amsterdam:20260416T170000
DTEND;TZID=Europe/Amsterdam:20260416T180000
DTSTAMP:20260422T132049
CREATED:20260403T155345Z
LAST-MODIFIED:20260403T155345Z
UID:10021119-1776358800-1776362400@www.zwembaddeplons.nl
SUMMARY:Do 17:00u niveau 2 Brenda (v)
DESCRIPTION:Klik op de dag en tijd om te kijken hoeveel plaatsen er nog beschikbaar zijn en vervolgens in te schrijven. \n* Kinderen die met het verkeerde niveau zijn ingeschreven\, worden niet tot de les toegelaten.
URL:https://www.zwembaddeplons.nl/event/do-1700u-niveau-2-brenda-v/2026-04-16/
LOCATION:Beuningen\, Houtduiflaan 3\, Beuningen\, Gelderland\, 6641 ZN\, Nederland
CATEGORIES:Inhaalles
END:VEVENT
BEGIN:VEVENT
DTSTART;TZID=Europe/Amsterdam:20260416T170000
DTEND;TZID=Europe/Amsterdam:20260416T180000
DTSTAMP:20260422T132049
CREATED:20260403T155241Z
LAST-MODIFIED:20260403T155241Z
UID:10021108-1776358800-1776362400@www.zwembaddeplons.nl
SUMMARY:Do 17:00u niveau 1 Jory (v)
DESCRIPTION:Klik op de dag en tijd om te kijken hoeveel plaatsen er nog beschikbaar zijn en vervolgens in te schrijven. \n* Kinderen die met het verkeerde niveau zijn ingeschreven\, worden niet tot de les toegelaten.
URL:https://www.zwembaddeplons.nl/event/do-1700u-niveau-1-jory-v/2026-04-16/
LOCATION:Beuningen\, Houtduiflaan 3\, Beuningen\, Gelderland\, 6641 ZN\, Nederland
CATEGORIES:Inhaalles
END:VEVENT
BEGIN:VEVENT
DTSTART;TZID=Europe/Amsterdam:20260416T160000
DTEND;TZID=Europe/Amsterdam:20260416T170000
DTSTAMP:20260422T132049
CREATED:20260403T155124Z
LAST-MODIFIED:20260403T155124Z
UID:10021097-1776355200-1776358800@www.zwembaddeplons.nl
SUMMARY:Do 16:00u niveau 5 Jory (v)
DESCRIPTION:Klik op de dag en tijd om te kijken hoeveel plaatsen er nog beschikbaar zijn en vervolgens in te schrijven. \n* Kinderen die met het verkeerde niveau zijn ingeschreven\, worden niet tot de les toegelaten.
URL:https://www.zwembaddeplons.nl/event/do-1600u-niveau-5-jory-v/2026-04-16/
LOCATION:Beuningen\, Houtduiflaan 3\, Beuningen\, Gelderland\, 6641 ZN\, Nederland
CATEGORIES:Inhaalles
END:VEVENT
BEGIN:VEVENT
DTSTART;TZID=Europe/Amsterdam:20260416T160000
DTEND;TZID=Europe/Amsterdam:20260416T170000
DTSTAMP:20260422T132049
CREATED:20260403T144608Z
LAST-MODIFIED:20260403T144608Z
UID:10021086-1776355200-1776358800@www.zwembaddeplons.nl
SUMMARY:Do 16:00u niveau 2 Elcke (v)
DESCRIPTION:Klik op de dag en tijd om te kijken hoeveel plaatsen er nog beschikbaar zijn en vervolgens in te schrijven. \n* Kinderen die met het verkeerde niveau zijn ingeschreven\, worden niet tot de les toegelaten.
URL:https://www.zwembaddeplons.nl/event/do-1600u-niveau-2-elcke-v/2026-04-16/
LOCATION:Beuningen\, Houtduiflaan 3\, Beuningen\, Gelderland\, 6641 ZN\, Nederland
CATEGORIES:Inhaalles
END:VEVENT
BEGIN:VEVENT
DTSTART;TZID=Europe/Amsterdam:20260416T160000
DTEND;TZID=Europe/Amsterdam:20260416T170000
DTSTAMP:20260422T132049
CREATED:20260403T144506Z
LAST-MODIFIED:20260403T144506Z
UID:10021075-1776355200-1776358800@www.zwembaddeplons.nl
SUMMARY:Do 16:00u niveau 2 Brenda (v)
DESCRIPTION:Klik op de dag en tijd om te kijken hoeveel plaatsen er nog beschikbaar zijn en vervolgens in te schrijven. \n* Kinderen die met het verkeerde niveau zijn ingeschreven\, worden niet tot de les toegelaten.
URL:https://www.zwembaddeplons.nl/event/do-1600u-niveau-2-brenda-v/2026-04-16/
LOCATION:Beuningen\, Houtduiflaan 3\, Beuningen\, Gelderland\, 6641 ZN\, Nederland
CATEGORIES:Inhaalles
END:VEVENT
BEGIN:VEVENT
DTSTART;TZID=Europe/Amsterdam:20260416T160000
DTEND;TZID=Europe/Amsterdam:20260416T170000
DTSTAMP:20260422T132049
CREATED:20260403T144358Z
LAST-MODIFIED:20260403T144358Z
UID:10021064-1776355200-1776358800@www.zwembaddeplons.nl
SUMMARY:Do 16:00u niveau 1 Guido (m)
DESCRIPTION:Klik op de dag en tijd om te kijken hoeveel plaatsen er nog beschikbaar zijn en vervolgens in te schrijven. \n* Kinderen die met het verkeerde niveau zijn ingeschreven\, worden niet tot de les toegelaten.
URL:https://www.zwembaddeplons.nl/event/do-1600u-niveau-1-guido-m/2026-04-16/
LOCATION:Beuningen\, Houtduiflaan 3\, Beuningen\, Gelderland\, 6641 ZN\, Nederland
CATEGORIES:Inhaalles
END:VEVENT
BEGIN:VEVENT
DTSTART;TZID=Europe/Amsterdam:20260416T150000
DTEND;TZID=Europe/Amsterdam:20260416T160000
DTSTAMP:20260422T132049
CREATED:20260403T144240Z
LAST-MODIFIED:20260403T144240Z
UID:10021053-1776351600-1776355200@www.zwembaddeplons.nl
SUMMARY:Do 15:00u niveau 5 Guido (m)
DESCRIPTION:Klik op de dag en tijd om te kijken hoeveel plaatsen er nog beschikbaar zijn en vervolgens in te schrijven. \n* Kinderen die met het verkeerde niveau zijn ingeschreven\, worden niet tot de les toegelaten.
URL:https://www.zwembaddeplons.nl/event/do-1500u-niveau-5-guido-m/2026-04-16/
LOCATION:Beuningen\, Houtduiflaan 3\, Beuningen\, Gelderland\, 6641 ZN\, Nederland
CATEGORIES:Inhaalles
END:VEVENT
BEGIN:VEVENT
DTSTART;TZID=Europe/Amsterdam:20260416T150000
DTEND;TZID=Europe/Amsterdam:20260416T160000
DTSTAMP:20260422T132049
CREATED:20260403T144123Z
LAST-MODIFIED:20260415T124915Z
UID:10021042-1776351600-1776355200@www.zwembaddeplons.nl
SUMMARY:Do 15:00u niveau 4 Jory (v)
DESCRIPTION:Klik op de dag en tijd om te kijken hoeveel plaatsen er nog beschikbaar zijn en vervolgens in te schrijven. \n* Kinderen die met het verkeerde niveau zijn ingeschreven\, worden niet tot de les toegelaten.
URL:https://www.zwembaddeplons.nl/event/do-1500u-niveau-4-jory-v/2026-04-16/
LOCATION:Beuningen\, Houtduiflaan 3\, Beuningen\, Gelderland\, 6641 ZN\, Nederland
CATEGORIES:Inhaalles
END:VEVENT
BEGIN:VEVENT
DTSTART;TZID=Europe/Amsterdam:20260416T150000
DTEND;TZID=Europe/Amsterdam:20260416T160000
DTSTAMP:20260422T132049
CREATED:20260403T143912Z
LAST-MODIFIED:20260403T143912Z
UID:10021020-1776351600-1776355200@www.zwembaddeplons.nl
SUMMARY:Do 15:00u niveau 2 Elcke (v)
DESCRIPTION:Klik op de dag en tijd om te kijken hoeveel plaatsen er nog beschikbaar zijn en vervolgens in te schrijven. \n* Kinderen die met het verkeerde niveau zijn ingeschreven\, worden niet tot de les toegelaten.
URL:https://www.zwembaddeplons.nl/event/do-1500u-niveau-2-elcke-v/2026-04-16/
LOCATION:Beuningen\, Houtduiflaan 3\, Beuningen\, Gelderland\, 6641 ZN\, Nederland
CATEGORIES:Inhaalles
END:VEVENT
BEGIN:VEVENT
DTSTART;TZID=Europe/Amsterdam:20260416T110000
DTEND;TZID=Europe/Amsterdam:20260416T114500
DTSTAMP:20260422T132049
CREATED:20260317T125829Z
LAST-MODIFIED:20260317T125829Z
UID:10020591-1776337200-1776339900@www.zwembaddeplons.nl
SUMMARY:Peuter Do 11.00u Elcke
DESCRIPTION:Klik op de dag en tijd om te kijken hoeveel plaatsen er nog beschikbaar zijn en vervolgens in te schrijven. \nMocht uw kind alsnog niet aanwezig zijn op de inhaalles?\nGeef dit dan vroegtijdig aan ons door via de uitschrijflink of de mail\, dan kunnen wij de inhaalles vrijgeven voor een ander kind.
URL:https://www.zwembaddeplons.nl/event/peuter-do-11-00u-elcke/2026-04-16/
LOCATION:Beuningen\, Houtduiflaan 3\, Beuningen\, Gelderland\, 6641 ZN\, Nederland
CATEGORIES:Inhaalles Baby/Peuter zwemmen
END:VEVENT
BEGIN:VEVENT
DTSTART;TZID=Europe/Amsterdam:20260416T101500
DTEND;TZID=Europe/Amsterdam:20260416T110000
DTSTAMP:20260422T132049
CREATED:20260317T122637Z
LAST-MODIFIED:20260317T122637Z
UID:10020360-1776334500-1776337200@www.zwembaddeplons.nl
SUMMARY:Baby Do 10.15u Elcke
DESCRIPTION:Klik op de dag en tijd om te kijken hoeveel plaatsen er nog beschikbaar zijn en vervolgens in te schrijven. \nMocht uw kind alsnog niet aanwezig zijn op de inhaalles?\nGeef dit dan vroegtijdig aan ons door via de uitschrijflink of de mail\, dan kunnen wij de inhaalles vrijgeven voor een ander kind.
URL:https://www.zwembaddeplons.nl/event/baby-do-10-15u-elcke/2026-04-16/
LOCATION:Beuningen\, Houtduiflaan 3\, Beuningen\, Gelderland\, 6641 ZN\, Nederland
CATEGORIES:Inhaalles Baby/Peuter zwemmen
END:VEVENT
BEGIN:VEVENT
DTSTART;TZID=Europe/Amsterdam:20260416T091500
DTEND;TZID=Europe/Amsterdam:20260416T100000
DTSTAMP:20260422T132049
CREATED:20260317T122442Z
LAST-MODIFIED:20260317T122442Z
UID:10020339-1776330900-1776333600@www.zwembaddeplons.nl
SUMMARY:Baby Do 09.15u Elcke
DESCRIPTION:Klik op de dag en tijd om te kijken hoeveel plaatsen er nog beschikbaar zijn en vervolgens in te schrijven. \nMocht uw kind alsnog niet aanwezig zijn op de inhaalles?\nGeef dit dan vroegtijdig aan ons door via de uitschrijflink of de mail\, dan kunnen wij de inhaalles vrijgeven voor een ander kind.
URL:https://www.zwembaddeplons.nl/event/baby-do-09-15u-elcke/2026-04-16/
LOCATION:Beuningen\, Houtduiflaan 3\, Beuningen\, Gelderland\, 6641 ZN\, Nederland
CATEGORIES:Inhaalles Baby/Peuter zwemmen
END:VEVENT
BEGIN:VEVENT
DTSTART;TZID=Europe/Amsterdam:20260415T163000
DTEND;TZID=Europe/Amsterdam:20260415T173000
DTSTAMP:20260422T132049
CREATED:20260403T143623Z
LAST-MODIFIED:20260403T143623Z
UID:10021008-1776270600-1776274200@www.zwembaddeplons.nl
SUMMARY:Wo 16:30u niveau 5 Tamara (v)
DESCRIPTION:Klik op de dag en tijd om te kijken hoeveel plaatsen er nog beschikbaar zijn en vervolgens in te schrijven. \n* Kinderen die met het verkeerde niveau zijn ingeschreven\, worden niet tot de les toegelaten.
URL:https://www.zwembaddeplons.nl/event/wo-1630u-niveau-5-tamara-v/2026-04-15/
LOCATION:Beuningen\, Houtduiflaan 3\, Beuningen\, Gelderland\, 6641 ZN\, Nederland
CATEGORIES:Inhaalles
END:VEVENT
END:VCALENDAR